BEGIN:VCALENDAR
VERSION:2.0
PRODID:-//Rink 61 - Skateworld - ECPv6.15.20//NONSGML v1.0//EN
CALSCALE:GREGORIAN
METHOD:PUBLISH
X-ORIGINAL-URL:https://www.unitedskates.com/skateworld
X-WR-CALDESC:Events for Rink 61 - Skateworld
REFRESH-INTERVAL;VALUE=DURATION:PT1H
X-Robots-Tag:noindex
X-PUBLISHED-TTL:PT1H
BEGIN:VTIMEZONE
TZID:America/New_York
BEGIN:DAYLIGHT
TZOFFSETFROM:-0500
TZOFFSETTO:-0400
TZNAME:EDT
DTSTART:20250309T070000
END:DAYLIGHT
BEGIN:STANDARD
TZOFFSETFROM:-0400
TZOFFSETTO:-0500
TZNAME:EST
DTSTART:20251102T060000
END:STANDARD
BEGIN:DAYLIGHT
TZOFFSETFROM:-0500
TZOFFSETTO:-0400
TZNAME:EDT
DTSTART:20260308T070000
END:DAYLIGHT
BEGIN:STANDARD
TZOFFSETFROM:-0400
TZOFFSETTO:-0500
TZNAME:EST
DTSTART:20261101T060000
END:STANDARD
BEGIN:DAYLIGHT
TZOFFSETFROM:-0500
TZOFFSETTO:-0400
TZNAME:EDT
DTSTART:20270314T070000
END:DAYLIGHT
BEGIN:STANDARD
TZOFFSETFROM:-0400
TZOFFSETTO:-0500
TZNAME:EST
DTSTART:20271107T060000
END:STANDARD
END:VTIMEZONE
BEGIN:VEVENT
DTSTART;TZID=America/New_York:20260304T180000
DTEND;TZID=America/New_York:20260304T203000
DTSTAMP:20260425T233521
CREATED:20251204T212943Z
LAST-MODIFIED:20260331T141619Z
UID:16407-1772647200-1772656200@www.unitedskates.com
SUMMARY:Pizza Party Wednesday
DESCRIPTION:Dinner Made Easy! Enjoy Hot All You Can Eat Cheese Pizza All Night Long! \nPurchase Your Tickets in Advance and Save $1\nClick or Tap Here to Purchase Your Tickets \nALL GUESTS SKATING OR NOT MUST COMPLETE OUR ONLINE WAIVER BEFORE ENTERING\n(For Faster Check in\, Please have your Waiver Filled Out Before you Arrive)\nClick or Tap Here to Complete Your Waiver \nAdmission: $10 Includes Regular Skate Rental and All You Can Eat Cheese Pizza\nNon-Skating Adults: $7 Includes All You Can Eat Cheese Pizza\nLaser Tag: Single Game $5 – Unlimited Games $10 \nImportant Info:\n– All Guests Must Pay Admission to Enter\n– No Outside Food or Drink is Permitted Inside the Facility Including Birthday Cakes UNLESS you Have a Reserved Party With Us– All Guests Must Pay Admission to Enter\n– Drinks not Included\, Sorry No Discounts or Passes Accepted Unless Specifically Stated \nBirthday Reservations:\nBirthday Parties Available! Click or Tap Here to Reserve Your Spot
URL:https://www.unitedskates.com/skateworld/event/pizza-party-wednesday/2026-03-04/
LOCATION:SkateWorld Tampa\, 7510 Paula Dr.\, Tampa\, FL\, 33615\, United States
CATEGORIES:Family Events,Public Skates
ATTACH;FMTTYPE=image/png:https://unitedskates-assets.sfo3.digitaloceanspaces.com/wp-content/uploads/sites/23/2025/12/Wednesday-AYCE-2026.png
END:VEVENT
BEGIN:VEVENT
DTSTART;TZID=America/New_York:20260311T180000
DTEND;TZID=America/New_York:20260311T203000
DTSTAMP:20260425T233521
CREATED:20251204T212943Z
LAST-MODIFIED:20260331T141619Z
UID:16408-1773252000-1773261000@www.unitedskates.com
SUMMARY:Pizza Party Wednesday
DESCRIPTION:Dinner Made Easy! Enjoy Hot All You Can Eat Cheese Pizza All Night Long! \nPurchase Your Tickets in Advance and Save $1\nClick or Tap Here to Purchase Your Tickets \nALL GUESTS SKATING OR NOT MUST COMPLETE OUR ONLINE WAIVER BEFORE ENTERING\n(For Faster Check in\, Please have your Waiver Filled Out Before you Arrive)\nClick or Tap Here to Complete Your Waiver \nAdmission: $10 Includes Regular Skate Rental and All You Can Eat Cheese Pizza\nNon-Skating Adults: $7 Includes All You Can Eat Cheese Pizza\nLaser Tag: Single Game $5 – Unlimited Games $10 \nImportant Info:\n– All Guests Must Pay Admission to Enter\n– No Outside Food or Drink is Permitted Inside the Facility Including Birthday Cakes UNLESS you Have a Reserved Party With Us– All Guests Must Pay Admission to Enter\n– Drinks not Included\, Sorry No Discounts or Passes Accepted Unless Specifically Stated \nBirthday Reservations:\nBirthday Parties Available! Click or Tap Here to Reserve Your Spot
URL:https://www.unitedskates.com/skateworld/event/pizza-party-wednesday/2026-03-11/
LOCATION:SkateWorld Tampa\, 7510 Paula Dr.\, Tampa\, FL\, 33615\, United States
CATEGORIES:Family Events,Public Skates
ATTACH;FMTTYPE=image/png:https://unitedskates-assets.sfo3.digitaloceanspaces.com/wp-content/uploads/sites/23/2025/12/Wednesday-AYCE-2026.png
END:VEVENT
BEGIN:VEVENT
DTSTART;TZID=America/New_York:20260313T180000
DTEND;TZID=America/New_York:20260323T183000
DTSTAMP:20260425T233521
CREATED:20260305T122031Z
LAST-MODIFIED:20260305T122031Z
UID:16919-1773424800-1774290600@www.unitedskates.com
SUMMARY:Spring Break Skate Schedule | March 13 – March 23
DESCRIPTION:Looking for fun Spring Break activities for kids in Tampa? Join us at Skateworld Tampa for a full lineup of family-friendly skating sessions\, themed events\, glow skates\, and special activities throughout Spring Break. It’s the perfect way for kids and families to stay active and make great memories while school is out. Check the full Spring Break schedule and purchase tickets online to plan your visit! 🛼
URL:https://www.unitedskates.com/skateworld/event/spring-break-skate-schedule-march-13-march-23/
LOCATION:SkateWorld Tampa\, 7510 Paula Dr.\, Tampa\, FL\, 33615\, United States
CATEGORIES:Adult Events,Family Events,Public Skates,Special Events
ATTACH;FMTTYPE=image/jpeg:https://unitedskates-assets.sfo3.digitaloceanspaces.com/wp-content/uploads/sites/23/2026/02/61-Spring-Break-2026-front.jpg
END:VEVENT
BEGIN:VEVENT
DTSTART;TZID=America/New_York:20260313T183000
DTEND;TZID=America/New_York:20260313T213000
DTSTAMP:20260425T233521
CREATED:20260113T193508Z
LAST-MODIFIED:20260113T193508Z
UID:16714-1773426600-1773437400@www.unitedskates.com
SUMMARY:Friday the 13th Family Glow Skate
DESCRIPTION:Purchase Your Tickets in Advance and Save $2\nClick or Tap Here to Purchase Your Tickets \nALL GUESTS SKATING OR NOT MUST COMPLETE OUR ONLINE WAIVER BEFORE ENTERING\n(For Faster Check in\, Please have your Waiver Filled Out Before you Arrive)\nClick or Tap Here to Complete Your Waiver \nAdmission: $12 at the door or $10 Online\nRegular Skate Rental: $5\nLaser Tag: Single Game $5 – Unlimited Games $10 \nImportant Info:\n– All Guests ages 3-17 Must Pay Admission and Skate Rental to Enter (or Bring Their Own Skates)\n– Non-Skating Adult Chaperones Ages 18+ Can Enter at No Charge\n– No Outside Food or Drink is Permitted Inside the Facility Including Birthday Cakes UNLESS you Have a Reserved Party With Us
URL:https://www.unitedskates.com/skateworld/event/friday-the-13th-family-glow-skate/
LOCATION:SkateWorld Tampa\, 7510 Paula Dr.\, Tampa\, FL\, 33615\, United States
CATEGORIES:Public Skates,Special Events
ATTACH;FMTTYPE=image/png:https://unitedskates-assets.sfo3.digitaloceanspaces.com/wp-content/uploads/sites/23/2026/01/Friday-the-13th-Family-Glow-Skate.png
END:VEVENT
BEGIN:VEVENT
DTSTART;TZID=America/New_York:20260314T120000
DTEND;TZID=America/New_York:20260314T213000
DTSTAMP:20260425T233521
CREATED:20260113T201656Z
LAST-MODIFIED:20260113T202218Z
UID:16717-1773489600-1773523800@www.unitedskates.com
SUMMARY:Pi-Day All Day Skate
DESCRIPTION:Purchase Your Tickets in Advance For Our Pi-Day Deal – $3.14 Skate Rental! *Online Only*\nClick or Tap Here to Purchase Your Tickets \nALL GUESTS SKATING OR NOT MUST COMPLETE OUR ONLINE WAIVER BEFORE ENTERING\n(For Faster Check in\, Please have your Waiver Filled Out Before you Arrive)\nClick or Tap Here to Complete Your Waiver \nCelebrate Pi-Day with Us! We are offering Pizza Slices Only $3.14 All Day Long! \nAdmission: $12\nRegular Skate Rental: $5\nLaser Tag: Single Game $5 – Unlimited Games $10\n3 for $14 Deal: Get Three 20 Credit Arcade Cards for Only $14! \nImportant Info:\n– All Guests ages 3-17 Must Pay Admission and Skate Rental to Enter (or Bring Their Own Skates)\n– Non-Skating Adult Chaperones Ages 18+ Can Enter at No Charge\n– No Outside Food or Drink is Permitted Inside the Facility Including Birthday Cakes UNLESS you Have a Reserved Party With Us \nBirthday Reservations:\nBirthday Parties Available! Click or Tap Here to Reserve Your Spot
URL:https://www.unitedskates.com/skateworld/event/pi-day-all-day-skate/
LOCATION:SkateWorld Tampa\, 7510 Paula Dr.\, Tampa\, FL\, 33615\, United States
CATEGORIES:Public Skates,Special Events
ATTACH;FMTTYPE=image/png:https://unitedskates-assets.sfo3.digitaloceanspaces.com/wp-content/uploads/sites/23/2026/01/Pi-Day-Skate-.png
END:VEVENT
BEGIN:VEVENT
DTSTART;TZID=America/New_York:20260318T180000
DTEND;TZID=America/New_York:20260318T203000
DTSTAMP:20260425T233521
CREATED:20251204T212943Z
LAST-MODIFIED:20260331T141628Z
UID:16409-1773856800-1773865800@www.unitedskates.com
SUMMARY:Pizza Party Wednesday
DESCRIPTION:Dinner Made Easy! Enjoy Hot All You Can Eat Cheese Pizza All Night Long! \nPurchase Your Tickets in Advance and Save $1\nClick or Tap Here to Purchase Your Tickets \nALL GUESTS SKATING OR NOT MUST COMPLETE OUR ONLINE WAIVER BEFORE ENTERING\n(For Faster Check in\, Please have your Waiver Filled Out Before you Arrive)\nClick or Tap Here to Complete Your Waiver \nAdmission: $10 Includes Regular Skate Rental and All You Can Eat Cheese Pizza\nNon-Skating Adults: $7 Includes All You Can Eat Cheese Pizza\nLaser Tag: Single Game $5 – Unlimited Games $10 \nImportant Info:\n– All Guests Must Pay Admission to Enter\n– No Outside Food or Drink is Permitted Inside the Facility Including Birthday Cakes UNLESS you Have a Reserved Party With Us– All Guests Must Pay Admission to Enter\n– Drinks not Included\, Sorry No Discounts or Passes Accepted Unless Specifically Stated \nBirthday Reservations:\nBirthday Parties Available! Click or Tap Here to Reserve Your Spot
URL:https://www.unitedskates.com/skateworld/event/pizza-party-wednesday/2026-03-18/
LOCATION:SkateWorld Tampa\, 7510 Paula Dr.\, Tampa\, FL\, 33615\, United States
CATEGORIES:Family Events,Public Skates
ATTACH;FMTTYPE=image/png:https://unitedskates-assets.sfo3.digitaloceanspaces.com/wp-content/uploads/sites/23/2025/12/Wednesday-AYCE-2026.png
END:VEVENT
BEGIN:VEVENT
DTSTART;TZID=America/New_York:20260325T180000
DTEND;TZID=America/New_York:20260325T203000
DTSTAMP:20260425T233521
CREATED:20251204T212943Z
LAST-MODIFIED:20260331T141628Z
UID:16865-1774461600-1774470600@www.unitedskates.com
SUMMARY:Pizza Party Wednesday
DESCRIPTION:Dinner Made Easy! Enjoy Hot All You Can Eat Cheese Pizza All Night Long! \nPurchase Your Tickets in Advance and Save $1\nClick or Tap Here to Purchase Your Tickets \nALL GUESTS SKATING OR NOT MUST COMPLETE OUR ONLINE WAIVER BEFORE ENTERING\n(For Faster Check in\, Please have your Waiver Filled Out Before you Arrive)\nClick or Tap Here to Complete Your Waiver \nAdmission: $10 Includes Regular Skate Rental and All You Can Eat Cheese Pizza\nNon-Skating Adults: $7 Includes All You Can Eat Cheese Pizza\nLaser Tag: Single Game $5 – Unlimited Games $10 \nImportant Info:\n– All Guests Must Pay Admission to Enter\n– No Outside Food or Drink is Permitted Inside the Facility Including Birthday Cakes UNLESS you Have a Reserved Party With Us– All Guests Must Pay Admission to Enter\n– Drinks not Included\, Sorry No Discounts or Passes Accepted Unless Specifically Stated \nBirthday Reservations:\nBirthday Parties Available! Click or Tap Here to Reserve Your Spot
URL:https://www.unitedskates.com/skateworld/event/pizza-party-wednesday/2026-03-25/
LOCATION:SkateWorld Tampa\, 7510 Paula Dr.\, Tampa\, FL\, 33615\, United States
CATEGORIES:Family Events,Public Skates
ATTACH;FMTTYPE=image/png:https://unitedskates-assets.sfo3.digitaloceanspaces.com/wp-content/uploads/sites/23/2025/12/Wednesday-AYCE-2026.png
END:VEVENT
END:VCALENDAR