BEGIN:VCALENDAR
VERSION:2.0
PRODID:-//Rink 61 - Skateworld - ECPv6.15.20//NONSGML v1.0//EN
CALSCALE:GREGORIAN
METHOD:PUBLISH
X-ORIGINAL-URL:https://www.unitedskates.com/skateworld
X-WR-CALDESC:Events for Rink 61 - Skateworld
REFRESH-INTERVAL;VALUE=DURATION:PT1H
X-Robots-Tag:noindex
X-PUBLISHED-TTL:PT1H
BEGIN:VTIMEZONE
TZID:America/New_York
BEGIN:DAYLIGHT
TZOFFSETFROM:-0500
TZOFFSETTO:-0400
TZNAME:EDT
DTSTART:20210314T070000
END:DAYLIGHT
BEGIN:STANDARD
TZOFFSETFROM:-0400
TZOFFSETTO:-0500
TZNAME:EST
DTSTART:20211107T060000
END:STANDARD
BEGIN:DAYLIGHT
TZOFFSETFROM:-0500
TZOFFSETTO:-0400
TZNAME:EDT
DTSTART:20220313T070000
END:DAYLIGHT
BEGIN:STANDARD
TZOFFSETFROM:-0400
TZOFFSETTO:-0500
TZNAME:EST
DTSTART:20221106T060000
END:STANDARD
BEGIN:DAYLIGHT
TZOFFSETFROM:-0500
TZOFFSETTO:-0400
TZNAME:EDT
DTSTART:20230312T070000
END:DAYLIGHT
BEGIN:STANDARD
TZOFFSETFROM:-0400
TZOFFSETTO:-0500
TZNAME:EST
DTSTART:20231105T060000
END:STANDARD
END:VTIMEZONE
BEGIN:VEVENT
DTSTART;TZID=America/New_York:20220812T203000
DTEND;TZID=America/New_York:20220812T230000
DTSTAMP:20260419T092108
CREATED:20220706T171957Z
LAST-MODIFIED:20220706T181736Z
UID:8780-1660336200-1660345200@www.unitedskates.com
SUMMARY:Pajama Jam Skate
DESCRIPTION:Top 40 Music \nAdmission $15 Including Regular Skate Rental and $10 If You Bring Your Own Skates \n$5 Off When You Wear Your Pajamas \nJoin us For our Back To School Pajama Jam
URL:https://www.unitedskates.com/skateworld/event/pajama-jam/
LOCATION:SkateWorld Tampa\, 7510 Paula Dr.\, Tampa\, FL\, 33615\, United States
CATEGORIES:Public Skates
ATTACH;FMTTYPE=image/jpeg:https://unitedskates-assets.sfo3.digitaloceanspaces.com/wp-content/uploads/sites/23/2022/07/Pajama-Skate-1200x900-1.jpg
END:VEVENT
BEGIN:VEVENT
DTSTART;TZID=America/New_York:20220826T203000
DTEND;TZID=America/New_York:20220826T230000
DTSTAMP:20260419T092108
CREATED:20220706T174027Z
LAST-MODIFIED:20220706T174027Z
UID:8787-1661545800-1661554800@www.unitedskates.com
SUMMARY:Brain Freeze Skate
DESCRIPTION:Top 40 Music \nAdmission $15 Includes Regular Skate Rental or $10 If You Bring Your Own Skates \nGet A Free 80z. Icee With Every Paid Admission!
URL:https://www.unitedskates.com/skateworld/event/brain-freeze-skate/
LOCATION:SkateWorld Tampa\, 7510 Paula Dr.\, Tampa\, FL\, 33615\, United States
CATEGORIES:Public Skates
ATTACH;FMTTYPE=image/jpeg:https://unitedskates-assets.sfo3.digitaloceanspaces.com/wp-content/uploads/sites/23/2022/07/brain-freeze-skate-2022-1200x900-1.jpg
END:VEVENT
END:VCALENDAR