BEGIN:VCALENDAR
VERSION:2.0
PRODID:-//Rink 61 - Skateworld - ECPv6.15.20//NONSGML v1.0//EN
CALSCALE:GREGORIAN
METHOD:PUBLISH
X-ORIGINAL-URL:https://www.unitedskates.com/skateworld
X-WR-CALDESC:Events for Rink 61 - Skateworld
REFRESH-INTERVAL;VALUE=DURATION:PT1H
X-Robots-Tag:noindex
X-PUBLISHED-TTL:PT1H
BEGIN:VTIMEZONE
TZID:America/New_York
BEGIN:DAYLIGHT
TZOFFSETFROM:-0500
TZOFFSETTO:-0400
TZNAME:EDT
DTSTART:20250309T070000
END:DAYLIGHT
BEGIN:STANDARD
TZOFFSETFROM:-0400
TZOFFSETTO:-0500
TZNAME:EST
DTSTART:20251102T060000
END:STANDARD
BEGIN:DAYLIGHT
TZOFFSETFROM:-0500
TZOFFSETTO:-0400
TZNAME:EDT
DTSTART:20260308T070000
END:DAYLIGHT
BEGIN:STANDARD
TZOFFSETFROM:-0400
TZOFFSETTO:-0500
TZNAME:EST
DTSTART:20261101T060000
END:STANDARD
BEGIN:DAYLIGHT
TZOFFSETFROM:-0500
TZOFFSETTO:-0400
TZNAME:EDT
DTSTART:20270314T070000
END:DAYLIGHT
BEGIN:STANDARD
TZOFFSETFROM:-0400
TZOFFSETTO:-0500
TZNAME:EST
DTSTART:20271107T060000
END:STANDARD
END:VTIMEZONE
BEGIN:VEVENT
DTSTART;TZID=America/New_York:20260415T180000
DTEND;TZID=America/New_York:20260415T203000
DTSTAMP:20260425T212315
CREATED:20251204T212943Z
LAST-MODIFIED:20260331T141629Z
UID:16868-1776276000-1776285000@www.unitedskates.com
SUMMARY:Pizza Party Wednesday
DESCRIPTION:Dinner Made Easy! Enjoy Hot All You Can Eat Cheese Pizza All Night Long! \nPurchase Your Tickets in Advance and Save $1\nClick or Tap Here to Purchase Your Tickets \nALL GUESTS SKATING OR NOT MUST COMPLETE OUR ONLINE WAIVER BEFORE ENTERING\n(For Faster Check in\, Please have your Waiver Filled Out Before you Arrive)\nClick or Tap Here to Complete Your Waiver \nAdmission: $10 Includes Regular Skate Rental and All You Can Eat Cheese Pizza\nNon-Skating Adults: $7 Includes All You Can Eat Cheese Pizza\nLaser Tag: Single Game $5 – Unlimited Games $10 \nImportant Info:\n– All Guests Must Pay Admission to Enter\n– No Outside Food or Drink is Permitted Inside the Facility Including Birthday Cakes UNLESS you Have a Reserved Party With Us– All Guests Must Pay Admission to Enter\n– Drinks not Included\, Sorry No Discounts or Passes Accepted Unless Specifically Stated \nBirthday Reservations:\nBirthday Parties Available! Click or Tap Here to Reserve Your Spot
URL:https://www.unitedskates.com/skateworld/event/pizza-party-wednesday/2026-04-15/
LOCATION:SkateWorld Tampa\, 7510 Paula Dr.\, Tampa\, FL\, 33615\, United States
CATEGORIES:Family Events,Public Skates
ATTACH;FMTTYPE=image/png:https://unitedskates-assets.sfo3.digitaloceanspaces.com/wp-content/uploads/sites/23/2025/12/Wednesday-AYCE-2026.png
END:VEVENT
BEGIN:VEVENT
DTSTART;TZID=America/New_York:20260408T180000
DTEND;TZID=America/New_York:20260408T203000
DTSTAMP:20260425T212315
CREATED:20251204T212943Z
LAST-MODIFIED:20260331T141629Z
UID:16867-1775671200-1775680200@www.unitedskates.com
SUMMARY:Pizza Party Wednesday
DESCRIPTION:Dinner Made Easy! Enjoy Hot All You Can Eat Cheese Pizza All Night Long! \nPurchase Your Tickets in Advance and Save $1\nClick or Tap Here to Purchase Your Tickets \nALL GUESTS SKATING OR NOT MUST COMPLETE OUR ONLINE WAIVER BEFORE ENTERING\n(For Faster Check in\, Please have your Waiver Filled Out Before you Arrive)\nClick or Tap Here to Complete Your Waiver \nAdmission: $10 Includes Regular Skate Rental and All You Can Eat Cheese Pizza\nNon-Skating Adults: $7 Includes All You Can Eat Cheese Pizza\nLaser Tag: Single Game $5 – Unlimited Games $10 \nImportant Info:\n– All Guests Must Pay Admission to Enter\n– No Outside Food or Drink is Permitted Inside the Facility Including Birthday Cakes UNLESS you Have a Reserved Party With Us– All Guests Must Pay Admission to Enter\n– Drinks not Included\, Sorry No Discounts or Passes Accepted Unless Specifically Stated \nBirthday Reservations:\nBirthday Parties Available! Click or Tap Here to Reserve Your Spot
URL:https://www.unitedskates.com/skateworld/event/pizza-party-wednesday/2026-04-08/
LOCATION:SkateWorld Tampa\, 7510 Paula Dr.\, Tampa\, FL\, 33615\, United States
CATEGORIES:Family Events,Public Skates
ATTACH;FMTTYPE=image/png:https://unitedskates-assets.sfo3.digitaloceanspaces.com/wp-content/uploads/sites/23/2025/12/Wednesday-AYCE-2026.png
END:VEVENT
BEGIN:VEVENT
DTSTART;TZID=America/New_York:20260401T180000
DTEND;TZID=America/New_York:20260401T203000
DTSTAMP:20260425T212315
CREATED:20251204T212943Z
LAST-MODIFIED:20260331T141629Z
UID:16866-1775066400-1775075400@www.unitedskates.com
SUMMARY:Pizza Party Wednesday
DESCRIPTION:Dinner Made Easy! Enjoy Hot All You Can Eat Cheese Pizza All Night Long! \nPurchase Your Tickets in Advance and Save $1\nClick or Tap Here to Purchase Your Tickets \nALL GUESTS SKATING OR NOT MUST COMPLETE OUR ONLINE WAIVER BEFORE ENTERING\n(For Faster Check in\, Please have your Waiver Filled Out Before you Arrive)\nClick or Tap Here to Complete Your Waiver \nAdmission: $10 Includes Regular Skate Rental and All You Can Eat Cheese Pizza\nNon-Skating Adults: $7 Includes All You Can Eat Cheese Pizza\nLaser Tag: Single Game $5 – Unlimited Games $10 \nImportant Info:\n– All Guests Must Pay Admission to Enter\n– No Outside Food or Drink is Permitted Inside the Facility Including Birthday Cakes UNLESS you Have a Reserved Party With Us– All Guests Must Pay Admission to Enter\n– Drinks not Included\, Sorry No Discounts or Passes Accepted Unless Specifically Stated \nBirthday Reservations:\nBirthday Parties Available! Click or Tap Here to Reserve Your Spot
URL:https://www.unitedskates.com/skateworld/event/pizza-party-wednesday/2026-04-01/
LOCATION:SkateWorld Tampa\, 7510 Paula Dr.\, Tampa\, FL\, 33615\, United States
CATEGORIES:Family Events,Public Skates
ATTACH;FMTTYPE=image/png:https://unitedskates-assets.sfo3.digitaloceanspaces.com/wp-content/uploads/sites/23/2025/12/Wednesday-AYCE-2026.png
END:VEVENT
BEGIN:VEVENT
DTSTART;TZID=America/New_York:20260325T180000
DTEND;TZID=America/New_York:20260325T203000
DTSTAMP:20260425T212315
CREATED:20251204T212943Z
LAST-MODIFIED:20260331T141628Z
UID:16865-1774461600-1774470600@www.unitedskates.com
SUMMARY:Pizza Party Wednesday
DESCRIPTION:Dinner Made Easy! Enjoy Hot All You Can Eat Cheese Pizza All Night Long! \nPurchase Your Tickets in Advance and Save $1\nClick or Tap Here to Purchase Your Tickets \nALL GUESTS SKATING OR NOT MUST COMPLETE OUR ONLINE WAIVER BEFORE ENTERING\n(For Faster Check in\, Please have your Waiver Filled Out Before you Arrive)\nClick or Tap Here to Complete Your Waiver \nAdmission: $10 Includes Regular Skate Rental and All You Can Eat Cheese Pizza\nNon-Skating Adults: $7 Includes All You Can Eat Cheese Pizza\nLaser Tag: Single Game $5 – Unlimited Games $10 \nImportant Info:\n– All Guests Must Pay Admission to Enter\n– No Outside Food or Drink is Permitted Inside the Facility Including Birthday Cakes UNLESS you Have a Reserved Party With Us– All Guests Must Pay Admission to Enter\n– Drinks not Included\, Sorry No Discounts or Passes Accepted Unless Specifically Stated \nBirthday Reservations:\nBirthday Parties Available! Click or Tap Here to Reserve Your Spot
URL:https://www.unitedskates.com/skateworld/event/pizza-party-wednesday/2026-03-25/
LOCATION:SkateWorld Tampa\, 7510 Paula Dr.\, Tampa\, FL\, 33615\, United States
CATEGORIES:Family Events,Public Skates
ATTACH;FMTTYPE=image/png:https://unitedskates-assets.sfo3.digitaloceanspaces.com/wp-content/uploads/sites/23/2025/12/Wednesday-AYCE-2026.png
END:VEVENT
BEGIN:VEVENT
DTSTART;TZID=America/New_York:20260318T180000
DTEND;TZID=America/New_York:20260318T203000
DTSTAMP:20260425T212315
CREATED:20251204T212943Z
LAST-MODIFIED:20260331T141628Z
UID:16409-1773856800-1773865800@www.unitedskates.com
SUMMARY:Pizza Party Wednesday
DESCRIPTION:Dinner Made Easy! Enjoy Hot All You Can Eat Cheese Pizza All Night Long! \nPurchase Your Tickets in Advance and Save $1\nClick or Tap Here to Purchase Your Tickets \nALL GUESTS SKATING OR NOT MUST COMPLETE OUR ONLINE WAIVER BEFORE ENTERING\n(For Faster Check in\, Please have your Waiver Filled Out Before you Arrive)\nClick or Tap Here to Complete Your Waiver \nAdmission: $10 Includes Regular Skate Rental and All You Can Eat Cheese Pizza\nNon-Skating Adults: $7 Includes All You Can Eat Cheese Pizza\nLaser Tag: Single Game $5 – Unlimited Games $10 \nImportant Info:\n– All Guests Must Pay Admission to Enter\n– No Outside Food or Drink is Permitted Inside the Facility Including Birthday Cakes UNLESS you Have a Reserved Party With Us– All Guests Must Pay Admission to Enter\n– Drinks not Included\, Sorry No Discounts or Passes Accepted Unless Specifically Stated \nBirthday Reservations:\nBirthday Parties Available! Click or Tap Here to Reserve Your Spot
URL:https://www.unitedskates.com/skateworld/event/pizza-party-wednesday/2026-03-18/
LOCATION:SkateWorld Tampa\, 7510 Paula Dr.\, Tampa\, FL\, 33615\, United States
CATEGORIES:Family Events,Public Skates
ATTACH;FMTTYPE=image/png:https://unitedskates-assets.sfo3.digitaloceanspaces.com/wp-content/uploads/sites/23/2025/12/Wednesday-AYCE-2026.png
END:VEVENT
BEGIN:VEVENT
DTSTART;TZID=America/New_York:20260311T180000
DTEND;TZID=America/New_York:20260311T203000
DTSTAMP:20260425T212315
CREATED:20251204T212943Z
LAST-MODIFIED:20260331T141619Z
UID:16408-1773252000-1773261000@www.unitedskates.com
SUMMARY:Pizza Party Wednesday
DESCRIPTION:Dinner Made Easy! Enjoy Hot All You Can Eat Cheese Pizza All Night Long! \nPurchase Your Tickets in Advance and Save $1\nClick or Tap Here to Purchase Your Tickets \nALL GUESTS SKATING OR NOT MUST COMPLETE OUR ONLINE WAIVER BEFORE ENTERING\n(For Faster Check in\, Please have your Waiver Filled Out Before you Arrive)\nClick or Tap Here to Complete Your Waiver \nAdmission: $10 Includes Regular Skate Rental and All You Can Eat Cheese Pizza\nNon-Skating Adults: $7 Includes All You Can Eat Cheese Pizza\nLaser Tag: Single Game $5 – Unlimited Games $10 \nImportant Info:\n– All Guests Must Pay Admission to Enter\n– No Outside Food or Drink is Permitted Inside the Facility Including Birthday Cakes UNLESS you Have a Reserved Party With Us– All Guests Must Pay Admission to Enter\n– Drinks not Included\, Sorry No Discounts or Passes Accepted Unless Specifically Stated \nBirthday Reservations:\nBirthday Parties Available! Click or Tap Here to Reserve Your Spot
URL:https://www.unitedskates.com/skateworld/event/pizza-party-wednesday/2026-03-11/
LOCATION:SkateWorld Tampa\, 7510 Paula Dr.\, Tampa\, FL\, 33615\, United States
CATEGORIES:Family Events,Public Skates
ATTACH;FMTTYPE=image/png:https://unitedskates-assets.sfo3.digitaloceanspaces.com/wp-content/uploads/sites/23/2025/12/Wednesday-AYCE-2026.png
END:VEVENT
BEGIN:VEVENT
DTSTART;TZID=America/New_York:20260304T180000
DTEND;TZID=America/New_York:20260304T203000
DTSTAMP:20260425T212315
CREATED:20251204T212943Z
LAST-MODIFIED:20260331T141619Z
UID:16407-1772647200-1772656200@www.unitedskates.com
SUMMARY:Pizza Party Wednesday
DESCRIPTION:Dinner Made Easy! Enjoy Hot All You Can Eat Cheese Pizza All Night Long! \nPurchase Your Tickets in Advance and Save $1\nClick or Tap Here to Purchase Your Tickets \nALL GUESTS SKATING OR NOT MUST COMPLETE OUR ONLINE WAIVER BEFORE ENTERING\n(For Faster Check in\, Please have your Waiver Filled Out Before you Arrive)\nClick or Tap Here to Complete Your Waiver \nAdmission: $10 Includes Regular Skate Rental and All You Can Eat Cheese Pizza\nNon-Skating Adults: $7 Includes All You Can Eat Cheese Pizza\nLaser Tag: Single Game $5 – Unlimited Games $10 \nImportant Info:\n– All Guests Must Pay Admission to Enter\n– No Outside Food or Drink is Permitted Inside the Facility Including Birthday Cakes UNLESS you Have a Reserved Party With Us– All Guests Must Pay Admission to Enter\n– Drinks not Included\, Sorry No Discounts or Passes Accepted Unless Specifically Stated \nBirthday Reservations:\nBirthday Parties Available! Click or Tap Here to Reserve Your Spot
URL:https://www.unitedskates.com/skateworld/event/pizza-party-wednesday/2026-03-04/
LOCATION:SkateWorld Tampa\, 7510 Paula Dr.\, Tampa\, FL\, 33615\, United States
CATEGORIES:Family Events,Public Skates
ATTACH;FMTTYPE=image/png:https://unitedskates-assets.sfo3.digitaloceanspaces.com/wp-content/uploads/sites/23/2025/12/Wednesday-AYCE-2026.png
END:VEVENT
BEGIN:VEVENT
DTSTART;TZID=America/New_York:20260225T180000
DTEND;TZID=America/New_York:20260225T203000
DTSTAMP:20260425T212315
CREATED:20251204T212943Z
LAST-MODIFIED:20260331T141618Z
UID:16406-1772042400-1772051400@www.unitedskates.com
SUMMARY:Pizza Party Wednesday
DESCRIPTION:Dinner Made Easy! Enjoy Hot All You Can Eat Cheese Pizza All Night Long! \nPurchase Your Tickets in Advance and Save $1\nClick or Tap Here to Purchase Your Tickets \nALL GUESTS SKATING OR NOT MUST COMPLETE OUR ONLINE WAIVER BEFORE ENTERING\n(For Faster Check in\, Please have your Waiver Filled Out Before you Arrive)\nClick or Tap Here to Complete Your Waiver \nAdmission: $10 Includes Regular Skate Rental and All You Can Eat Cheese Pizza\nNon-Skating Adults: $7 Includes All You Can Eat Cheese Pizza\nLaser Tag: Single Game $5 – Unlimited Games $10 \nImportant Info:\n– All Guests Must Pay Admission to Enter\n– No Outside Food or Drink is Permitted Inside the Facility Including Birthday Cakes UNLESS you Have a Reserved Party With Us– All Guests Must Pay Admission to Enter\n– Drinks not Included\, Sorry No Discounts or Passes Accepted Unless Specifically Stated \nBirthday Reservations:\nBirthday Parties Available! Click or Tap Here to Reserve Your Spot
URL:https://www.unitedskates.com/skateworld/event/pizza-party-wednesday/2026-02-25/
LOCATION:SkateWorld Tampa\, 7510 Paula Dr.\, Tampa\, FL\, 33615\, United States
CATEGORIES:Family Events,Public Skates
ATTACH;FMTTYPE=image/png:https://unitedskates-assets.sfo3.digitaloceanspaces.com/wp-content/uploads/sites/23/2025/12/Wednesday-AYCE-2026.png
END:VEVENT
BEGIN:VEVENT
DTSTART;TZID=America/New_York:20260218T180000
DTEND;TZID=America/New_York:20260218T203000
DTSTAMP:20260425T212315
CREATED:20251204T212943Z
LAST-MODIFIED:20260331T141618Z
UID:16405-1771437600-1771446600@www.unitedskates.com
SUMMARY:Pizza Party Wednesday
DESCRIPTION:Dinner Made Easy! Enjoy Hot All You Can Eat Cheese Pizza All Night Long! \nPurchase Your Tickets in Advance and Save $1\nClick or Tap Here to Purchase Your Tickets \nALL GUESTS SKATING OR NOT MUST COMPLETE OUR ONLINE WAIVER BEFORE ENTERING\n(For Faster Check in\, Please have your Waiver Filled Out Before you Arrive)\nClick or Tap Here to Complete Your Waiver \nAdmission: $10 Includes Regular Skate Rental and All You Can Eat Cheese Pizza\nNon-Skating Adults: $7 Includes All You Can Eat Cheese Pizza\nLaser Tag: Single Game $5 – Unlimited Games $10 \nImportant Info:\n– All Guests Must Pay Admission to Enter\n– No Outside Food or Drink is Permitted Inside the Facility Including Birthday Cakes UNLESS you Have a Reserved Party With Us– All Guests Must Pay Admission to Enter\n– Drinks not Included\, Sorry No Discounts or Passes Accepted Unless Specifically Stated \nBirthday Reservations:\nBirthday Parties Available! Click or Tap Here to Reserve Your Spot
URL:https://www.unitedskates.com/skateworld/event/pizza-party-wednesday/2026-02-18/
LOCATION:SkateWorld Tampa\, 7510 Paula Dr.\, Tampa\, FL\, 33615\, United States
CATEGORIES:Family Events,Public Skates
ATTACH;FMTTYPE=image/png:https://unitedskates-assets.sfo3.digitaloceanspaces.com/wp-content/uploads/sites/23/2025/12/Wednesday-AYCE-2026.png
END:VEVENT
BEGIN:VEVENT
DTSTART;TZID=America/New_York:20260211T180000
DTEND;TZID=America/New_York:20260211T203000
DTSTAMP:20260425T212315
CREATED:20251204T212943Z
LAST-MODIFIED:20260331T141618Z
UID:16404-1770832800-1770841800@www.unitedskates.com
SUMMARY:Pizza Party Wednesday
DESCRIPTION:Dinner Made Easy! Enjoy Hot All You Can Eat Cheese Pizza All Night Long! \nPurchase Your Tickets in Advance and Save $1\nClick or Tap Here to Purchase Your Tickets \nALL GUESTS SKATING OR NOT MUST COMPLETE OUR ONLINE WAIVER BEFORE ENTERING\n(For Faster Check in\, Please have your Waiver Filled Out Before you Arrive)\nClick or Tap Here to Complete Your Waiver \nAdmission: $10 Includes Regular Skate Rental and All You Can Eat Cheese Pizza\nNon-Skating Adults: $7 Includes All You Can Eat Cheese Pizza\nLaser Tag: Single Game $5 – Unlimited Games $10 \nImportant Info:\n– All Guests Must Pay Admission to Enter\n– No Outside Food or Drink is Permitted Inside the Facility Including Birthday Cakes UNLESS you Have a Reserved Party With Us– All Guests Must Pay Admission to Enter\n– Drinks not Included\, Sorry No Discounts or Passes Accepted Unless Specifically Stated \nBirthday Reservations:\nBirthday Parties Available! Click or Tap Here to Reserve Your Spot
URL:https://www.unitedskates.com/skateworld/event/pizza-party-wednesday/2026-02-11/
LOCATION:SkateWorld Tampa\, 7510 Paula Dr.\, Tampa\, FL\, 33615\, United States
CATEGORIES:Family Events,Public Skates
ATTACH;FMTTYPE=image/png:https://unitedskates-assets.sfo3.digitaloceanspaces.com/wp-content/uploads/sites/23/2025/12/Wednesday-AYCE-2026.png
END:VEVENT
BEGIN:VEVENT
DTSTART;TZID=America/New_York:20260204T180000
DTEND;TZID=America/New_York:20260204T203000
DTSTAMP:20260425T212315
CREATED:20251204T212943Z
LAST-MODIFIED:20260331T141618Z
UID:16403-1770228000-1770237000@www.unitedskates.com
SUMMARY:Pizza Party Wednesday
DESCRIPTION:Dinner Made Easy! Enjoy Hot All You Can Eat Cheese Pizza All Night Long! \nPurchase Your Tickets in Advance and Save $1\nClick or Tap Here to Purchase Your Tickets \nALL GUESTS SKATING OR NOT MUST COMPLETE OUR ONLINE WAIVER BEFORE ENTERING\n(For Faster Check in\, Please have your Waiver Filled Out Before you Arrive)\nClick or Tap Here to Complete Your Waiver \nAdmission: $10 Includes Regular Skate Rental and All You Can Eat Cheese Pizza\nNon-Skating Adults: $7 Includes All You Can Eat Cheese Pizza\nLaser Tag: Single Game $5 – Unlimited Games $10 \nImportant Info:\n– All Guests Must Pay Admission to Enter\n– No Outside Food or Drink is Permitted Inside the Facility Including Birthday Cakes UNLESS you Have a Reserved Party With Us– All Guests Must Pay Admission to Enter\n– Drinks not Included\, Sorry No Discounts or Passes Accepted Unless Specifically Stated \nBirthday Reservations:\nBirthday Parties Available! Click or Tap Here to Reserve Your Spot
URL:https://www.unitedskates.com/skateworld/event/pizza-party-wednesday/2026-02-04/
LOCATION:SkateWorld Tampa\, 7510 Paula Dr.\, Tampa\, FL\, 33615\, United States
CATEGORIES:Family Events,Public Skates
ATTACH;FMTTYPE=image/png:https://unitedskates-assets.sfo3.digitaloceanspaces.com/wp-content/uploads/sites/23/2025/12/Wednesday-AYCE-2026.png
END:VEVENT
BEGIN:VEVENT
DTSTART;TZID=America/New_York:20260128T180000
DTEND;TZID=America/New_York:20260128T203000
DTSTAMP:20260425T212315
CREATED:20251204T212943Z
LAST-MODIFIED:20260331T141617Z
UID:16402-1769623200-1769632200@www.unitedskates.com
SUMMARY:Pizza Party Wednesday
DESCRIPTION:Dinner Made Easy! Enjoy Hot All You Can Eat Cheese Pizza All Night Long! \nPurchase Your Tickets in Advance and Save $1\nClick or Tap Here to Purchase Your Tickets \nALL GUESTS SKATING OR NOT MUST COMPLETE OUR ONLINE WAIVER BEFORE ENTERING\n(For Faster Check in\, Please have your Waiver Filled Out Before you Arrive)\nClick or Tap Here to Complete Your Waiver \nAdmission: $10 Includes Regular Skate Rental and All You Can Eat Cheese Pizza\nNon-Skating Adults: $7 Includes All You Can Eat Cheese Pizza\nLaser Tag: Single Game $5 – Unlimited Games $10 \nImportant Info:\n– All Guests Must Pay Admission to Enter\n– No Outside Food or Drink is Permitted Inside the Facility Including Birthday Cakes UNLESS you Have a Reserved Party With Us– All Guests Must Pay Admission to Enter\n– Drinks not Included\, Sorry No Discounts or Passes Accepted Unless Specifically Stated \nBirthday Reservations:\nBirthday Parties Available! Click or Tap Here to Reserve Your Spot
URL:https://www.unitedskates.com/skateworld/event/pizza-party-wednesday/2026-01-28/
LOCATION:SkateWorld Tampa\, 7510 Paula Dr.\, Tampa\, FL\, 33615\, United States
CATEGORIES:Family Events,Public Skates
ATTACH;FMTTYPE=image/png:https://unitedskates-assets.sfo3.digitaloceanspaces.com/wp-content/uploads/sites/23/2025/12/Wednesday-AYCE-2026.png
END:VEVENT
BEGIN:VEVENT
DTSTART;TZID=America/New_York:20260121T180000
DTEND;TZID=America/New_York:20260121T203000
DTSTAMP:20260425T212315
CREATED:20251204T212943Z
LAST-MODIFIED:20260331T141617Z
UID:16401-1769018400-1769027400@www.unitedskates.com
SUMMARY:Pizza Party Wednesday
DESCRIPTION:Dinner Made Easy! Enjoy Hot All You Can Eat Cheese Pizza All Night Long! \nPurchase Your Tickets in Advance and Save $1\nClick or Tap Here to Purchase Your Tickets \nALL GUESTS SKATING OR NOT MUST COMPLETE OUR ONLINE WAIVER BEFORE ENTERING\n(For Faster Check in\, Please have your Waiver Filled Out Before you Arrive)\nClick or Tap Here to Complete Your Waiver \nAdmission: $10 Includes Regular Skate Rental and All You Can Eat Cheese Pizza\nNon-Skating Adults: $7 Includes All You Can Eat Cheese Pizza\nLaser Tag: Single Game $5 – Unlimited Games $10 \nImportant Info:\n– All Guests Must Pay Admission to Enter\n– No Outside Food or Drink is Permitted Inside the Facility Including Birthday Cakes UNLESS you Have a Reserved Party With Us– All Guests Must Pay Admission to Enter\n– Drinks not Included\, Sorry No Discounts or Passes Accepted Unless Specifically Stated \nBirthday Reservations:\nBirthday Parties Available! Click or Tap Here to Reserve Your Spot
URL:https://www.unitedskates.com/skateworld/event/pizza-party-wednesday/2026-01-21/
LOCATION:SkateWorld Tampa\, 7510 Paula Dr.\, Tampa\, FL\, 33615\, United States
CATEGORIES:Family Events,Public Skates
ATTACH;FMTTYPE=image/png:https://unitedskates-assets.sfo3.digitaloceanspaces.com/wp-content/uploads/sites/23/2025/12/Wednesday-AYCE-2026.png
END:VEVENT
BEGIN:VEVENT
DTSTART;TZID=America/New_York:20260114T180000
DTEND;TZID=America/New_York:20260114T203000
DTSTAMP:20260425T212315
CREATED:20251204T212943Z
LAST-MODIFIED:20260331T141617Z
UID:16400-1768413600-1768422600@www.unitedskates.com
SUMMARY:Pizza Party Wednesday
DESCRIPTION:Dinner Made Easy! Enjoy Hot All You Can Eat Cheese Pizza All Night Long! \nPurchase Your Tickets in Advance and Save $1\nClick or Tap Here to Purchase Your Tickets \nALL GUESTS SKATING OR NOT MUST COMPLETE OUR ONLINE WAIVER BEFORE ENTERING\n(For Faster Check in\, Please have your Waiver Filled Out Before you Arrive)\nClick or Tap Here to Complete Your Waiver \nAdmission: $10 Includes Regular Skate Rental and All You Can Eat Cheese Pizza\nNon-Skating Adults: $7 Includes All You Can Eat Cheese Pizza\nLaser Tag: Single Game $5 – Unlimited Games $10 \nImportant Info:\n– All Guests Must Pay Admission to Enter\n– No Outside Food or Drink is Permitted Inside the Facility Including Birthday Cakes UNLESS you Have a Reserved Party With Us– All Guests Must Pay Admission to Enter\n– Drinks not Included\, Sorry No Discounts or Passes Accepted Unless Specifically Stated \nBirthday Reservations:\nBirthday Parties Available! Click or Tap Here to Reserve Your Spot
URL:https://www.unitedskates.com/skateworld/event/pizza-party-wednesday/2026-01-14/
LOCATION:SkateWorld Tampa\, 7510 Paula Dr.\, Tampa\, FL\, 33615\, United States
CATEGORIES:Family Events,Public Skates
ATTACH;FMTTYPE=image/png:https://unitedskates-assets.sfo3.digitaloceanspaces.com/wp-content/uploads/sites/23/2025/12/Wednesday-AYCE-2026.png
END:VEVENT
BEGIN:VEVENT
DTSTART;TZID=America/New_York:20260107T180000
DTEND;TZID=America/New_York:20260107T203000
DTSTAMP:20260425T212315
CREATED:20251204T212943Z
LAST-MODIFIED:20260331T141616Z
UID:16398-1767808800-1767817800@www.unitedskates.com
SUMMARY:Pizza Party Wednesday
DESCRIPTION:Dinner Made Easy! Enjoy Hot All You Can Eat Cheese Pizza All Night Long! \nPurchase Your Tickets in Advance and Save $1\nClick or Tap Here to Purchase Your Tickets \nALL GUESTS SKATING OR NOT MUST COMPLETE OUR ONLINE WAIVER BEFORE ENTERING\n(For Faster Check in\, Please have your Waiver Filled Out Before you Arrive)\nClick or Tap Here to Complete Your Waiver \nAdmission: $10 Includes Regular Skate Rental and All You Can Eat Cheese Pizza\nNon-Skating Adults: $7 Includes All You Can Eat Cheese Pizza\nLaser Tag: Single Game $5 – Unlimited Games $10 \nImportant Info:\n– All Guests Must Pay Admission to Enter\n– No Outside Food or Drink is Permitted Inside the Facility Including Birthday Cakes UNLESS you Have a Reserved Party With Us– All Guests Must Pay Admission to Enter\n– Drinks not Included\, Sorry No Discounts or Passes Accepted Unless Specifically Stated \nBirthday Reservations:\nBirthday Parties Available! Click or Tap Here to Reserve Your Spot
URL:https://www.unitedskates.com/skateworld/event/pizza-party-wednesday/2026-01-07/
LOCATION:SkateWorld Tampa\, 7510 Paula Dr.\, Tampa\, FL\, 33615\, United States
CATEGORIES:Family Events,Public Skates
ATTACH;FMTTYPE=image/png:https://unitedskates-assets.sfo3.digitaloceanspaces.com/wp-content/uploads/sites/23/2025/12/Wednesday-AYCE-2026.png
END:VEVENT
END:VCALENDAR