BEGIN:VCALENDAR
VERSION:2.0
PRODID:-//Rink 3 - Skateland - ECPv6.15.20//NONSGML v1.0//EN
CALSCALE:GREGORIAN
METHOD:PUBLISH
X-ORIGINAL-URL:https://www.unitedskates.com/skateland
X-WR-CALDESC:Events for Rink 3 - Skateland
REFRESH-INTERVAL;VALUE=DURATION:PT1H
X-Robots-Tag:noindex
X-PUBLISHED-TTL:PT1H
BEGIN:VTIMEZONE
TZID:America/Indiana/Indianapolis
BEGIN:DAYLIGHT
TZOFFSETFROM:-0500
TZOFFSETTO:-0400
TZNAME:EDT
DTSTART:20250309T070000
END:DAYLIGHT
BEGIN:STANDARD
TZOFFSETFROM:-0400
TZOFFSETTO:-0500
TZNAME:EST
DTSTART:20251102T060000
END:STANDARD
BEGIN:DAYLIGHT
TZOFFSETFROM:-0500
TZOFFSETTO:-0400
TZNAME:EDT
DTSTART:20260308T070000
END:DAYLIGHT
BEGIN:STANDARD
TZOFFSETFROM:-0400
TZOFFSETTO:-0500
TZNAME:EST
DTSTART:20261101T060000
END:STANDARD
BEGIN:DAYLIGHT
TZOFFSETFROM:-0500
TZOFFSETTO:-0400
TZNAME:EDT
DTSTART:20270314T070000
END:DAYLIGHT
BEGIN:STANDARD
TZOFFSETFROM:-0400
TZOFFSETTO:-0500
TZNAME:EST
DTSTART:20271107T060000
END:STANDARD
END:VTIMEZONE
BEGIN:VEVENT
DTSTART;TZID=America/Indiana/Indianapolis:20260425T180000
DTEND;TZID=America/Indiana/Indianapolis:20260425T213000
DTSTAMP:20260419T234135
CREATED:20251008T202248Z
LAST-MODIFIED:20251008T202248Z
UID:18118-1777140000-1777152600@www.unitedskates.com
SUMMARY:Family Hip Hop Skate
DESCRIPTION:Every Saturday Night its our Family Hip Hop Skate Night! \n\n$60 Family Special: 4 Admissions\, 4 Rentals\, Large Cheese Pizza & Pitcher: Save More than $40!  Purchase online today!\n\nNEW EXTENDED TIME! \n6:30pm – 9:30pm \nDoor Admission: $14.00 \nSave $1.00 at the door buy ordering online! $13.00 Online Admission \nSkate Rental: $5.00 \nNon-Skating Chaperones: $3.00 \n*No Passes* \n\nNo Drop Offs are permitted!\nThe parent/guardian must stay inside the building the entire session.\nAll guests that are under the age of 17 and must have a parent/chaperone to accompany them who is 25 years old or older with valid ID. One chaperone may supervise up to four skaters\, no exceptions.
URL:https://www.unitedskates.com/skateland/event/family-hip-hop-skate/2026-04-25/
LOCATION:Skateland\, 3902 N. Glen Arm Rd.\, Indianapolis\, IN\, 46254\, United States
CATEGORIES:Lessons,Special Events
ATTACH;FMTTYPE=image/png:https://unitedskates-assets.sfo3.digitaloceanspaces.com/wp-content/uploads/sites/8/2023/12/Family-hip-hop-new-time.png
END:VEVENT
END:VCALENDAR