BEGIN:VCALENDAR
VERSION:2.0
PRODID:-//Rink 3 - Skateland - ECPv6.15.20//NONSGML v1.0//EN
CALSCALE:GREGORIAN
METHOD:PUBLISH
X-WR-CALNAME:Rink 3 - Skateland
X-ORIGINAL-URL:https://www.unitedskates.com/skateland
X-WR-CALDESC:Events for Rink 3 - Skateland
REFRESH-INTERVAL;VALUE=DURATION:PT1H
X-Robots-Tag:noindex
X-PUBLISHED-TTL:PT1H
BEGIN:VTIMEZONE
TZID:America/Indiana/Indianapolis
BEGIN:DAYLIGHT
TZOFFSETFROM:-0500
TZOFFSETTO:-0400
TZNAME:EDT
DTSTART:20250309T070000
END:DAYLIGHT
BEGIN:STANDARD
TZOFFSETFROM:-0400
TZOFFSETTO:-0500
TZNAME:EST
DTSTART:20251102T060000
END:STANDARD
BEGIN:DAYLIGHT
TZOFFSETFROM:-0500
TZOFFSETTO:-0400
TZNAME:EDT
DTSTART:20260308T070000
END:DAYLIGHT
BEGIN:STANDARD
TZOFFSETFROM:-0400
TZOFFSETTO:-0500
TZNAME:EST
DTSTART:20261101T060000
END:STANDARD
BEGIN:DAYLIGHT
TZOFFSETFROM:-0500
TZOFFSETTO:-0400
TZNAME:EDT
DTSTART:20270314T070000
END:DAYLIGHT
BEGIN:STANDARD
TZOFFSETFROM:-0400
TZOFFSETTO:-0500
TZNAME:EST
DTSTART:20271107T060000
END:STANDARD
END:VTIMEZONE
BEGIN:VEVENT
DTSTART;TZID=America/Indiana/Indianapolis:20260522T180000
DTEND;TZID=America/Indiana/Indianapolis:20260522T210000
DTSTAMP:20260420T002108
CREATED:20250228T201700Z
LAST-MODIFIED:20250228T201700Z
UID:17970-1779472800-1779483600@www.unitedskates.com
SUMMARY:Family Neon Glow Skate
DESCRIPTION:Experience our one-of-a-kind Glow session! Enhance the fun with a Glow Face Paint and Glow Stick for just $3.00. \n6:00pm – 9:00pm \nBuy Ticket Here \nDoor Admission: $5.00 \nSkate Rental: $5.00 \nNon-Skating Chaperones: $3.00 \n*No Passes* \nAll guests that are under the age of 17 and are renting skates must have a parent/chaperone to accompany them who is 25 years old or older. The parent/guardian must stay inside the building the entire session\, No Drop Offs are permitted.
URL:https://www.unitedskates.com/skateland/event/family-neon-glow-skate/2026-05-22/
LOCATION:Skateland\, 3902 N. Glen Arm Rd.\, Indianapolis\, IN\, 46254\, United States
CATEGORIES:Family Events,Public Skates,Special Events
ATTACH;FMTTYPE=image/png:https://unitedskates-assets.sfo3.digitaloceanspaces.com/wp-content/uploads/sites/8/2025/08/Friday-5.00-.png
END:VEVENT
BEGIN:VEVENT
DTSTART;TZID=America/Indiana/Indianapolis:20260522T220000
DTEND;TZID=America/Indiana/Indianapolis:20260522T220000
DTSTAMP:20260420T002108
CREATED:20260406T154325Z
LAST-MODIFIED:20260406T154943Z
UID:19910-1779487200-1779487200@www.unitedskates.com
SUMMARY:Latin Skate Nights!
DESCRIPTION:We’re back again for Latin Skate Night!  If you’re ready to skate to the beat with DJ Anthony\, grab your friends and let’s roll! \n Featuring Cumbia\, Huapango\, Bachata and More!Get your ticket now to skip the line and save $2.00!\nOnline tickets: $10.00Door Admission: $12.00Regular Skate Rental $5.00\nGroup rates available: Call 317-291-6795\nAll Guests must be Ages 18+All guest must fill out an electronic wavier: CLICK HERE for Electronic waivers
URL:https://www.unitedskates.com/skateland/event/latin-nights/
LOCATION:Skateland\, 3902 N. Glen Arm Rd.\, Indianapolis\, IN\, 46254\, United States
CATEGORIES:Family Events,Special Events
ATTACH;FMTTYPE=image/jpeg:https://unitedskates-assets.sfo3.digitaloceanspaces.com/wp-content/uploads/sites/8/2026/04/Latin-Family-Skate-63-3.jpg
END:VEVENT
END:VCALENDAR