BEGIN:VCALENDAR
VERSION:2.0
PRODID:-//Rink 3 - Skateland - ECPv6.15.20//NONSGML v1.0//EN
CALSCALE:GREGORIAN
METHOD:PUBLISH
X-WR-CALNAME:Rink 3 - Skateland
X-ORIGINAL-URL:https://www.unitedskates.com/skateland
X-WR-CALDESC:Events for Rink 3 - Skateland
REFRESH-INTERVAL;VALUE=DURATION:PT1H
X-Robots-Tag:noindex
X-PUBLISHED-TTL:PT1H
BEGIN:VTIMEZONE
TZID:America/Indiana/Indianapolis
BEGIN:DAYLIGHT
TZOFFSETFROM:-0500
TZOFFSETTO:-0400
TZNAME:EDT
DTSTART:20250309T070000
END:DAYLIGHT
BEGIN:STANDARD
TZOFFSETFROM:-0400
TZOFFSETTO:-0500
TZNAME:EST
DTSTART:20251102T060000
END:STANDARD
BEGIN:DAYLIGHT
TZOFFSETFROM:-0500
TZOFFSETTO:-0400
TZNAME:EDT
DTSTART:20260308T070000
END:DAYLIGHT
BEGIN:STANDARD
TZOFFSETFROM:-0400
TZOFFSETTO:-0500
TZNAME:EST
DTSTART:20261101T060000
END:STANDARD
BEGIN:DAYLIGHT
TZOFFSETFROM:-0500
TZOFFSETTO:-0400
TZNAME:EDT
DTSTART:20270314T070000
END:DAYLIGHT
BEGIN:STANDARD
TZOFFSETFROM:-0400
TZOFFSETTO:-0500
TZNAME:EST
DTSTART:20271107T060000
END:STANDARD
END:VTIMEZONE
BEGIN:VEVENT
DTSTART;TZID=America/Indiana/Indianapolis:20260216T150000
DTEND;TZID=America/Indiana/Indianapolis:20260216T173000
DTSTAMP:20260420T055459
CREATED:20260102T203854Z
LAST-MODIFIED:20260209T222928Z
UID:19036-1771254000-1771263000@www.unitedskates.com
SUMMARY:President Day: Glow Skate with Stitch!
DESCRIPTION:Celebrate Presidents Day with a galactic guest! Stitch is crashing our Glow Session\, and he’s ready to roll. Don’t miss your chance to grab a photo with everyone’s favorite experiment while the lights go down and the neon turns up. \nGET YOUR TICKETS ONLINE to skip the line and guarantee your admission during our public session!\n$8.00 Admission \n$5.00 Additional for Skate Rental \n$3.00 Spectator Fee Non-Skating Chaperones 18yrs+ ONLY \nAll Skaters 2-17 Years old are Required to Pay for Admission AND Skate Rental \nTop 40’s Music\, Hip-Hop and R&B Music like 98.3 \nNo Outside Food or Drinks are Allowed \nAll Children 2-17yrs old MUST Wear Skates at ALL Times
URL:https://www.unitedskates.com/skateland/event/glow-skate-with-stitch/
CATEGORIES:Family Events,Public Skates,Special Events
ATTACH;FMTTYPE=image/jpeg:https://unitedskates-assets.sfo3.digitaloceanspaces.com/wp-content/uploads/sites/8/2026/01/NYE-Character-Glow-Roll.jpg
END:VEVENT
BEGIN:VEVENT
DTSTART;TZID=America/Indiana/Indianapolis:20260216T180000
DTEND;TZID=America/Indiana/Indianapolis:20260216T203000
DTSTAMP:20260420T055459
CREATED:20251128T161929Z
LAST-MODIFIED:20260403T021536Z
UID:18469-1771264800-1771273800@www.unitedskates.com
SUMMARY:Affordable Family Night
DESCRIPTION:$8.00 Admission \n$5.00 Additional for Skate Rental \n$3.00 Spectator Fee Non-Skating Chaperones 18yrs+ ONLY \nAll Skaters 2-17 Years old are Required to Pay for Admission AND Skate Rental \nTop 40’s Music\, Hip-Hop and R&B Music like 98.3 \nNo Outside Food or Drinks are Allowed \nAll Children 2-17yrs old MUST Wear Skates at ALL Times
URL:https://www.unitedskates.com/skateland/event/affordable-family-night-6/2026-02-16/
LOCATION:Skateland\, 3902 N. Glen Arm Rd.\, Indianapolis\, IN\, 46254\, United States
CATEGORIES:Family Events,Special Events
ATTACH;FMTTYPE=image/png:https://unitedskates-assets.sfo3.digitaloceanspaces.com/wp-content/uploads/sites/8/2025/11/Monday-Family-Skate-.png
END:VEVENT
END:VCALENDAR