BEGIN:VCALENDAR
VERSION:2.0
PRODID:-//Rink 3 - Skateland - ECPv6.15.20//NONSGML v1.0//EN
CALSCALE:GREGORIAN
METHOD:PUBLISH
X-WR-CALNAME:Rink 3 - Skateland
X-ORIGINAL-URL:https://www.unitedskates.com/skateland
X-WR-CALDESC:Events for Rink 3 - Skateland
REFRESH-INTERVAL;VALUE=DURATION:PT1H
X-Robots-Tag:noindex
X-PUBLISHED-TTL:PT1H
BEGIN:VTIMEZONE
TZID:America/Indiana/Indianapolis
BEGIN:DAYLIGHT
TZOFFSETFROM:-0500
TZOFFSETTO:-0400
TZNAME:EDT
DTSTART:20250309T070000
END:DAYLIGHT
BEGIN:STANDARD
TZOFFSETFROM:-0400
TZOFFSETTO:-0500
TZNAME:EST
DTSTART:20251102T060000
END:STANDARD
BEGIN:DAYLIGHT
TZOFFSETFROM:-0500
TZOFFSETTO:-0400
TZNAME:EDT
DTSTART:20260308T070000
END:DAYLIGHT
BEGIN:STANDARD
TZOFFSETFROM:-0400
TZOFFSETTO:-0500
TZNAME:EST
DTSTART:20261101T060000
END:STANDARD
BEGIN:DAYLIGHT
TZOFFSETFROM:-0500
TZOFFSETTO:-0400
TZNAME:EDT
DTSTART:20270314T070000
END:DAYLIGHT
BEGIN:STANDARD
TZOFFSETFROM:-0400
TZOFFSETTO:-0500
TZNAME:EST
DTSTART:20271107T060000
END:STANDARD
END:VTIMEZONE
BEGIN:VEVENT
DTSTART;TZID=America/Indiana/Indianapolis:20260215T180000
DTEND;TZID=America/Indiana/Indianapolis:20260215T203000
DTSTAMP:20260420T164639
CREATED:20231227T172226Z
LAST-MODIFIED:20260320T154918Z
UID:18607-1771178400-1771187400@www.unitedskates.com
SUMMARY:Public Skate
DESCRIPTION:All Children 2-17yrs old MUST Wear Skates at ALL Times \n$11.00 Admission Online $12.00 at the door \n$5.00 Additional for Skate Rental \n$3.00 Spectator Fee Non-Skating Chaperones 18yrs+ ONLY \nAll Skaters 2-17 Years old are Required to Pay for Admission AND Skate Rental \nTop 40’s Music\, Hip-Hop and R&B Music like 98.3 \nNo Outside Food or Drinks are Allowed
URL:https://www.unitedskates.com/skateland/event/public-skate-10-2024-12-22-2025-06-01/2026-02-15/
CATEGORIES:Family Events,Public Skates
ATTACH;FMTTYPE=image/jpeg:https://unitedskates-assets.sfo3.digitaloceanspaces.com/wp-content/uploads/sites/8/2022/05/Public-Skate-1200x900-1.jpg
END:VEVENT
BEGIN:VEVENT
DTSTART;TZID=America/Indiana/Indianapolis:20260215T180000
DTEND;TZID=America/Indiana/Indianapolis:20260215T203000
DTSTAMP:20260420T164639
CREATED:20260214T003324Z
LAST-MODIFIED:20260214T003551Z
UID:19469-1771178400-1771187400@www.unitedskates.com
SUMMARY:Bad Bunny Skate
DESCRIPTION:Get ready to skate to the beat! 🎧🔥🛼 \nAfter one of the most talked-about Super Bowl halftime moments 🏈✨\, we’re turning up the energy with a Bad Bunny Skate Night! 🐰🔥 If you love the vibe\, the music\, and the movement\, this night is for YOU! 💃🏽🕺🏽 Lace up\, hit the floor\, and roll to the sounds of the six-time Grammy Award-winning superstar all session long. 🎶🏆 \nIt’s not just a skate — it’s a whole party on wheels! 🎉🛼💫 \nAdmission: $11.00 🎟️Door Admission: $12.00 🚪Skate Rental: $5.00 🛼Spectator Fee: $3.00
URL:https://www.unitedskates.com/skateland/event/bad-bunny-skate/
CATEGORIES:Family Events,Special Events
ATTACH;FMTTYPE=image/jpeg:https://unitedskates-assets.sfo3.digitaloceanspaces.com/wp-content/uploads/sites/8/2026/02/Bad-Bunny.jpg
END:VEVENT
END:VCALENDAR