BEGIN:VCALENDAR
VERSION:2.0
PRODID:-//Rink 50 - Skateland Mesa - ECPv6.15.20//NONSGML v1.0//EN
CALSCALE:GREGORIAN
METHOD:PUBLISH
X-ORIGINAL-URL:https://www.unitedskates.com/skateland-mesa
X-WR-CALDESC:Events for Rink 50 - Skateland Mesa
REFRESH-INTERVAL;VALUE=DURATION:PT1H
X-Robots-Tag:noindex
X-PUBLISHED-TTL:PT1H
BEGIN:VTIMEZONE
TZID:America/Phoenix
BEGIN:STANDARD
TZOFFSETFROM:-0700
TZOFFSETTO:-0700
TZNAME:MST
DTSTART:20260101T000000
END:STANDARD
END:VTIMEZONE
BEGIN:VEVENT
DTSTART;TZID=America/Phoenix:20270331T170000
DTEND;TZID=America/Phoenix:20270331T200000
DTSTAMP:20260421T184725
CREATED:20260303T225137Z
LAST-MODIFIED:20260303T225137Z
UID:28024-1806512400-1806523200@www.unitedskates.com
SUMMARY:Half Price Skate & Play
DESCRIPTION:🔥🛼 1/2 PRICE WEDNESDAY – SKATE & PLAY! 🎮✨ \nLooking for the best midweek deal in Mesa? We’ve got you covered! \n🎉 EVERY Wednesday | 5:00PM – 8:00PM💲 1/2 Price Admission🎮 1/2 Price Arcade Games \nBring the whole family out for an evening of skating\, games\, and nonstop fun! \nRegular Admission: $12🛼 Skate Rental: $5 (if needed)👨‍👩‍👧 $4 Non-Skating Adults (not half price)
URL:https://www.unitedskates.com/skateland-mesa/event/half-price-skate-play-2/2027-03-31/
LOCATION:AZ
CATEGORIES:Family Events,Public Skates
ATTACH;FMTTYPE=image/png:https://unitedskates-assets.sfo3.digitaloceanspaces.com/wp-content/uploads/sites/20/2026/01/Wednesday-Night-Mesa-.png
END:VEVENT
BEGIN:VEVENT
DTSTART;TZID=America/Phoenix:20270404T120000
DTEND;TZID=America/Phoenix:20270404T143000
DTSTAMP:20260421T184725
CREATED:20260417T190140Z
LAST-MODIFIED:20260417T195953Z
UID:28161-1806840000-1806849000@www.unitedskates.com
SUMMARY:Sunday Funday Skate
DESCRIPTION:☀️🛼🎉 Sunday Funday Skate! 🎉🛼☀️ \nMake your Sunday the highlight of the week with music\, fun\, and nonstop skating vibes! Bring your friends and family and roll into a feel-good session you won’t want to miss! 😎✨ \n💲 Admission: $12 at the door | $11 online 🎟🛼 Skate Rental: $5👨‍👩‍👧 Non-Skating Adults: $4 \nBuy Your Tickets Online NOW ! \n🎶 Top 40 Hits All Session Long!Skate to your favorite chart-toppers and keep the energy going all day! 🔥🎧 \n🎉 What to expect:🛼 Fun for all ages🎶 Popular music & upbeat vibes💃 Great way to spend your Sunday👨‍👩‍👧‍👦 Perfect for friends & family \nDon’t miss out on the ultimate Sunday Funday—come roll\, laugh\, and make memories on the rink! 🛼💫 \nBirthday Parties Available \nAll Guests ages 2-17 must pay skating admission & skate rental without their own skates.\nNon-skating adults pay $4 admission for ages 18+ not skating.\nAll Sales are Final. Tax & Service fees are additional.
URL:https://www.unitedskates.com/skateland-mesa/event/sunday-funday-skate/2027-04-04/
LOCATION:Skateland Mesa\, 7 E. Southern Ave.\, Mesa\, AZ\, 85210\, United States
CATEGORIES:Family Events,Public Skates
ATTACH;FMTTYPE=image/jpeg:https://unitedskates-assets.sfo3.digitaloceanspaces.com/wp-content/uploads/sites/20/2026/04/Sunday-Funday-2022-1200x1200-1.jpg
END:VEVENT
BEGIN:VEVENT
DTSTART;TZID=America/Phoenix:20270404T180000
DTEND;TZID=America/Phoenix:20270404T210000
DTSTAMP:20260421T184725
CREATED:20260417T183310Z
LAST-MODIFIED:20260417T183310Z
UID:28108-1806861600-1806872400@www.unitedskates.com
SUMMARY:Family Hip Hop and R&B Night
DESCRIPTION:Every Sunday Night • 6:00 PM – 9:00 PM \n$12 admission — family-friendly vibes all the way! 💃🕺 \nSkate rental $5 • Non-skating adults $4 \nBuy Your Tickets Online NOW ! \nRoll out to the BEST R&B and Hip Hop hits spanning all the classic and current bangers—lights low\, beats heavy\, family fun high! 🎶✨ \nBring the whole crew and glide to your favorites under the glow! \nSunday nights just got smoother—see you on the floor! 🕶️💥🛼❤️ \n**NO Outside Food or Drinks** \nWristguards are Mandatory. Free of Charge. \nBirthday Parties Available
URL:https://www.unitedskates.com/skateland-mesa/event/family-hip-hop-and-rb-night-2/2027-04-04/
LOCATION:Skateland Mesa\, 7 E. Southern Ave.\, Mesa\, AZ\, 85210\, United States
CATEGORIES:Family Events,Public Skates
ATTACH;FMTTYPE=image/png:https://unitedskates-assets.sfo3.digitaloceanspaces.com/wp-content/uploads/sites/20/2026/04/Family-R-and-B-Night-sunday-.png
END:VEVENT
BEGIN:VEVENT
DTSTART;TZID=America/Phoenix:20270411T120000
DTEND;TZID=America/Phoenix:20270411T143000
DTSTAMP:20260421T184725
CREATED:20260417T190140Z
LAST-MODIFIED:20260417T195953Z
UID:28162-1807444800-1807453800@www.unitedskates.com
SUMMARY:Sunday Funday Skate
DESCRIPTION:☀️🛼🎉 Sunday Funday Skate! 🎉🛼☀️ \nMake your Sunday the highlight of the week with music\, fun\, and nonstop skating vibes! Bring your friends and family and roll into a feel-good session you won’t want to miss! 😎✨ \n💲 Admission: $12 at the door | $11 online 🎟🛼 Skate Rental: $5👨‍👩‍👧 Non-Skating Adults: $4 \nBuy Your Tickets Online NOW ! \n🎶 Top 40 Hits All Session Long!Skate to your favorite chart-toppers and keep the energy going all day! 🔥🎧 \n🎉 What to expect:🛼 Fun for all ages🎶 Popular music & upbeat vibes💃 Great way to spend your Sunday👨‍👩‍👧‍👦 Perfect for friends & family \nDon’t miss out on the ultimate Sunday Funday—come roll\, laugh\, and make memories on the rink! 🛼💫 \nBirthday Parties Available \nAll Guests ages 2-17 must pay skating admission & skate rental without their own skates.\nNon-skating adults pay $4 admission for ages 18+ not skating.\nAll Sales are Final. Tax & Service fees are additional.
URL:https://www.unitedskates.com/skateland-mesa/event/sunday-funday-skate/2027-04-11/
LOCATION:Skateland Mesa\, 7 E. Southern Ave.\, Mesa\, AZ\, 85210\, United States
CATEGORIES:Family Events,Public Skates
ATTACH;FMTTYPE=image/jpeg:https://unitedskates-assets.sfo3.digitaloceanspaces.com/wp-content/uploads/sites/20/2026/04/Sunday-Funday-2022-1200x1200-1.jpg
END:VEVENT
BEGIN:VEVENT
DTSTART;TZID=America/Phoenix:20270411T180000
DTEND;TZID=America/Phoenix:20270411T210000
DTSTAMP:20260421T184725
CREATED:20260417T183310Z
LAST-MODIFIED:20260417T183310Z
UID:28109-1807466400-1807477200@www.unitedskates.com
SUMMARY:Family Hip Hop and R&B Night
DESCRIPTION:Every Sunday Night • 6:00 PM – 9:00 PM \n$12 admission — family-friendly vibes all the way! 💃🕺 \nSkate rental $5 • Non-skating adults $4 \nBuy Your Tickets Online NOW ! \nRoll out to the BEST R&B and Hip Hop hits spanning all the classic and current bangers—lights low\, beats heavy\, family fun high! 🎶✨ \nBring the whole crew and glide to your favorites under the glow! \nSunday nights just got smoother—see you on the floor! 🕶️💥🛼❤️ \n**NO Outside Food or Drinks** \nWristguards are Mandatory. Free of Charge. \nBirthday Parties Available
URL:https://www.unitedskates.com/skateland-mesa/event/family-hip-hop-and-rb-night-2/2027-04-11/
LOCATION:Skateland Mesa\, 7 E. Southern Ave.\, Mesa\, AZ\, 85210\, United States
CATEGORIES:Family Events,Public Skates
ATTACH;FMTTYPE=image/png:https://unitedskates-assets.sfo3.digitaloceanspaces.com/wp-content/uploads/sites/20/2026/04/Family-R-and-B-Night-sunday-.png
END:VEVENT
END:VCALENDAR