BEGIN:VCALENDAR
VERSION:2.0
PRODID:-//Rink 50 - Skateland Mesa - ECPv6.15.20//NONSGML v1.0//EN
CALSCALE:GREGORIAN
METHOD:PUBLISH
X-WR-CALNAME:Rink 50 - Skateland Mesa
X-ORIGINAL-URL:https://www.unitedskates.com/skateland-mesa
X-WR-CALDESC:Events for Rink 50 - Skateland Mesa
REFRESH-INTERVAL;VALUE=DURATION:PT1H
X-Robots-Tag:noindex
X-PUBLISHED-TTL:PT1H
BEGIN:VTIMEZONE
TZID:America/Phoenix
BEGIN:STANDARD
TZOFFSETFROM:-0700
TZOFFSETTO:-0700
TZNAME:MST
DTSTART:20260101T000000
END:STANDARD
END:VTIMEZONE
BEGIN:VEVENT
DTSTART;TZID=America/Phoenix:20270313T160000
DTEND;TZID=America/Phoenix:20270313T183000
DTSTAMP:20260423T163308
CREATED:20260106T053450Z
LAST-MODIFIED:20260330T205651Z
UID:27818-1804953600-1804962600@www.unitedskates.com
SUMMARY:Glow Skate
DESCRIPTION:$13 Admission \n$5 Skate Rental \n$4 Non-skating adult \n**NO Outside Food or Drinks** \nWristguards are Mandatory. Free of Charge.
URL:https://www.unitedskates.com/skateland-mesa/event/glow-skate-3-2026-02-21/2027-03-13/
CATEGORIES:Family Events,Public Skates
ATTACH;FMTTYPE=image/png:https://unitedskates-assets.sfo3.digitaloceanspaces.com/wp-content/uploads/sites/20/2026/01/Saturday-Night-GLOW-SKATE-1.png
END:VEVENT
END:VCALENDAR