BEGIN:VCALENDAR
VERSION:2.0
PRODID:-//Rink 50 - Skateland Mesa - ECPv6.15.20//NONSGML v1.0//EN
CALSCALE:GREGORIAN
METHOD:PUBLISH
X-WR-CALNAME:Rink 50 - Skateland Mesa
X-ORIGINAL-URL:https://www.unitedskates.com/skateland-mesa
X-WR-CALDESC:Events for Rink 50 - Skateland Mesa
REFRESH-INTERVAL;VALUE=DURATION:PT1H
X-Robots-Tag:noindex
X-PUBLISHED-TTL:PT1H
BEGIN:VTIMEZONE
TZID:America/Phoenix
BEGIN:STANDARD
TZOFFSETFROM:-0700
TZOFFSETTO:-0700
TZNAME:MST
DTSTART:20250101T000000
END:STANDARD
END:VTIMEZONE
BEGIN:VEVENT
DTSTART;TZID=America/Phoenix:20260129T170000
DTEND;TZID=America/Phoenix:20260129T203000
DTSTAMP:20260423T091539
CREATED:20260105T031211Z
LAST-MODIFIED:20260107T000039Z
UID:26541-1769706000-1769718600@www.unitedskates.com
SUMMARY:Roll by Faith Skate
DESCRIPTION:Join us for an uplifting evening gliding to the greatest Christian music—featuring favorites like Forrest Frank\, Leeland\, and more! 🎶🙌 \n$8 admission \nSkate rental $5 \nNon-skating adults $4 \nPerfect for church groups\, families\, and anyone ready to praise while they skate under the lights! 🌟 \nBook your group now—call 480-833-7775! \nBuy Your Tickets Online NOW ! \n**NO Outside Food or Drinks** \nWristguards are Mandatory. Free of Charge.
URL:https://www.unitedskates.com/skateland-mesa/event/roll-by-faith-skate/
CATEGORIES:Family Events,Public Skates
ATTACH;FMTTYPE=image/png:https://unitedskates-assets.sfo3.digitaloceanspaces.com/wp-content/uploads/sites/20/2026/01/Roll-by-Faith-Gospel-Skate-2.png
END:VEVENT
BEGIN:VEVENT
DTSTART;TZID=America/Phoenix:20260129T203000
DTEND;TZID=America/Phoenix:20260129T233000
DTSTAMP:20260423T091539
CREATED:20250110T221749Z
LAST-MODIFIED:20260105T024029Z
UID:24561-1769718600-1769729400@www.unitedskates.com
SUMMARY:Thursday Night Adult Skate
DESCRIPTION:Calling all adults! Come Join us for our every Thursday Adult night! \nDue to No Live Dj Until After Super Bowl Season. First 50 Admissions Get a BOGO Card To Cane’s! \nCome Roll with Us and Visit Cane’s After For a Late Night Snack! \n18+ Only. ID Must Be Shown. \n$14 admission \n$5 Skate Rental \n**No Outside Food or Drinks** \nWristguards are NOT Mandatory.
URL:https://www.unitedskates.com/skateland-mesa/event/thursday-night-adult-skate/2026-01-29/
CATEGORIES:Adult Events,Public Skates
ATTACH;FMTTYPE=image/png:https://unitedskates-assets.sfo3.digitaloceanspaces.com/wp-content/uploads/sites/20/2025/01/ADult-Skate-Night-1.png
END:VEVENT
END:VCALENDAR