BEGIN:VCALENDAR
VERSION:2.0
PRODID:-//Rink 50 - Skateland Mesa - ECPv6.15.20//NONSGML v1.0//EN
CALSCALE:GREGORIAN
METHOD:PUBLISH
X-ORIGINAL-URL:https://www.unitedskates.com/skateland-mesa
X-WR-CALDESC:Events for Rink 50 - Skateland Mesa
REFRESH-INTERVAL;VALUE=DURATION:PT1H
X-Robots-Tag:noindex
X-PUBLISHED-TTL:PT1H
BEGIN:VTIMEZONE
TZID:America/Phoenix
BEGIN:STANDARD
TZOFFSETFROM:-0700
TZOFFSETTO:-0700
TZNAME:MST
DTSTART:20250101T000000
END:STANDARD
END:VTIMEZONE
BEGIN:VEVENT
DTSTART;TZID=America/Phoenix:20260107T160000
DTEND;TZID=America/Phoenix:20260107T170000
DTSTAMP:20260423T121312
CREATED:20260105T002752Z
LAST-MODIFIED:20260305T054333Z
UID:25822-1767801600-1767805200@www.unitedskates.com
SUMMARY:Skate School
DESCRIPTION:🛼 Whether you’re just starting out or brushing up on old skills\, our roller skating lessons have you covered!\n🎓✨ Learn new moves\, build confidence\, and roll like a pro — fun for all ages and experience levels. 👟🎶 \nDoors open at 3:30pm. Lessons start at 4:00pm.\nPlease arrive early to get your skates\, so you are ready to roll when lessons start! \n$13 Admission (includes skate rental if needed) \nReserve Your Spot TODAY ! \n**Includes skating for the next session \n**Wrist guards are required for all skaters and are available free of charge.
URL:https://www.unitedskates.com/skateland-mesa/event/skate-school/2026-01-07/
CATEGORIES:Lessons,Public Skates
ATTACH;FMTTYPE=image/png:https://unitedskates-assets.sfo3.digitaloceanspaces.com/wp-content/uploads/sites/20/2026/01/Wednesday-skate-school.png
END:VEVENT
BEGIN:VEVENT
DTSTART;TZID=America/Phoenix:20260107T170000
DTEND;TZID=America/Phoenix:20260107T200000
DTSTAMP:20260423T121312
CREATED:20260105T011054Z
LAST-MODIFIED:20260303T205347Z
UID:25844-1767805200-1767816000@www.unitedskates.com
SUMMARY:🎉 Half-Price Wednesday Skate = Double the Fun!
DESCRIPTION:Enjoy an action-packed evening where both skating AND arcade games are 50% off\, making it one of the best value nights of the week. \nEvery Wednesday from 5:00 PM – 8:00 PM\, ideal for after-school and after-work fun. \n💲 Amazing Midweek Savings \n½ Price Admission (Regular $12.00) = $6 Admission \n½ Price Arcade Games \nSkate Rental available for $5.00 if needed \n$4 Non-skating Adult \nBuy Your Tickets NOW ! \n**NO Outside Food or Drinks** \nWristguards are Mandatory. Free of Charge.
URL:https://www.unitedskates.com/skateland-mesa/event/%f0%9f%8e%89-half-price-wednesday-skate-double-the-fun/
CATEGORIES:Family Events,Public Skates
ATTACH;FMTTYPE=image/png:https://unitedskates-assets.sfo3.digitaloceanspaces.com/wp-content/uploads/sites/20/2026/01/Wednesday-Night-Mesa-.png
END:VEVENT
END:VCALENDAR