BEGIN:VCALENDAR
VERSION:2.0
PRODID:-//Rink 50 - Skateland Mesa - ECPv6.15.20//NONSGML v1.0//EN
CALSCALE:GREGORIAN
METHOD:PUBLISH
X-ORIGINAL-URL:https://www.unitedskates.com/skateland-mesa
X-WR-CALDESC:Events for Rink 50 - Skateland Mesa
REFRESH-INTERVAL;VALUE=DURATION:PT1H
X-Robots-Tag:noindex
X-PUBLISHED-TTL:PT1H
BEGIN:VTIMEZONE
TZID:America/Phoenix
BEGIN:STANDARD
TZOFFSETFROM:-0700
TZOFFSETTO:-0700
TZNAME:MST
DTSTART:20240101T000000
END:STANDARD
END:VTIMEZONE
BEGIN:VEVENT
DTSTART;VALUE=DATE:20251219
DTEND;VALUE=DATE:20260106
DTSTAMP:20260422T122811
CREATED:20251202T151958Z
LAST-MODIFIED:20251202T151958Z
UID:25549-1766120400-1767589199@www.unitedskates.com
SUMMARY:Winter Break Skate Schedule — School’s Out\, Time to Roll!
DESCRIPTION:School’s out and the fun begins! Join us every day of Winter Break for themed skate sessions\, great music\, family events\, and special holiday celebrations. \nFrom Christmas Eve Skate to New Year’s Eve Parties\, we’ve got something for everyone. \nGet your tickets early and roll into the holiday fun! \nGET TICKETS HERE
URL:https://www.unitedskates.com/skateland-mesa/event/winter-break-skate-schedule-schools-out-time-to-roll/
CATEGORIES:Family Events,Public Skates,Special Events
ATTACH;FMTTYPE=image/jpeg:https://unitedskates-assets.sfo3.digitaloceanspaces.com/wp-content/uploads/sites/20/2025/12/Rink-50-Winter-Break-2025-2.jpg
END:VEVENT
BEGIN:VEVENT
DTSTART;TZID=America/Phoenix:20251226T110000
DTEND;TZID=America/Phoenix:20251226T140000
DTSTAMP:20260422T122811
CREATED:20251125T211118Z
LAST-MODIFIED:20251218T225418Z
UID:25379-1766746800-1766757600@www.unitedskates.com
SUMMARY:Santa's Merry Grinch-Mas Skate
DESCRIPTION:Doors open at 11am – get here early for that free glowstick!! 🏃‍♂️💚🛼 LET’S GOOOO!!! \n🎟️ ONLY $12 admission – $5 Skate Rental -$4 Non-skating Adult \n🎁 Present Scavenger Hunt + Grinch Trivia + Wild Holiday Games! \n😈 Special Appearance by THE GRINCH himself!! (photo ops + chaos guaranteed) \n✨ First 20 kids through the door = FREE GLOWSTICK!! \n🎉 Perfect way to burn off that Christmas energy with friends! \nBuy Your Tickets Online NOW ! https://bzone.bookingzone.com/geWO68 \n**NO Outside Food or Drinks** \n***Wristguards are Mandatory. Free of Charge. \n 
URL:https://www.unitedskates.com/skateland-mesa/event/santas-merry-grinch-mas-skate/
CATEGORIES:Family Events,Public Skates,Special Events
ATTACH;FMTTYPE=image/png:https://unitedskates-assets.sfo3.digitaloceanspaces.com/wp-content/uploads/sites/20/2025/11/Grinch-Christmas-122625.png
END:VEVENT
BEGIN:VEVENT
DTSTART;TZID=America/Phoenix:20251226T143000
DTEND;TZID=America/Phoenix:20251226T170000
DTSTAMP:20260422T122811
CREATED:20251125T211918Z
LAST-MODIFIED:20251218T225511Z
UID:25383-1766759400-1766768400@www.unitedskates.com
SUMMARY:Santas Merry Grinch-Mas Skate
DESCRIPTION:Get here early for that free glowstick!! LET’S GOOOO!!!\n\nONLY $12 admission – $5 Skate Rental -$4 Non-skating Adult\n\nPresent Scavenger Hunt + Grinch Trivia + Wild Holiday Games!\n\nSpecial Appearance by THE GRINCH himself!! (photo ops + chaos guaranteed)\n\nFirst 20 kids through the door = FREE GLOWSTICK!!\n\nPerfect way to burn off that Christmas energy with friends!\nBuy Your Tickets Online NOW ! https://bzone.bookingzone.com/geWO68\n\n**NO Outside Food or Drinks**\n\n***Wristguards are Mandatory. Free of Charge.
URL:https://www.unitedskates.com/skateland-mesa/event/santas-merry-grinch-mas-skate-2/
CATEGORIES:Family Events,Public Skates,Special Events
ATTACH;FMTTYPE=image/png:https://unitedskates-assets.sfo3.digitaloceanspaces.com/wp-content/uploads/sites/20/2025/11/Grinch-Christmas-122625-1-1.png
END:VEVENT
BEGIN:VEVENT
DTSTART;TZID=America/Phoenix:20251226T173000
DTEND;TZID=America/Phoenix:20251226T210000
DTSTAMP:20260422T122811
CREATED:20251125T212258Z
LAST-MODIFIED:20251218T225539Z
UID:25386-1766770200-1766782800@www.unitedskates.com
SUMMARY:Santa's Merry Grinch-Mas
DESCRIPTION:Get here early for that free glowstick!! LET’S GOOOO!!!\n\nONLY $12 admission – $5 Skate Rental -$4 Non-skating Adult\n\nPresent Scavenger Hunt + Grinch Trivia + Wild Holiday Games!\n\nSpecial Appearance by THE GRINCH himself!! (photo ops + chaos guaranteed)\n\nFirst 20 kids through the door = FREE GLOWSTICK!!\n\nPerfect way to burn off that Christmas energy with friends!\nBuy Your Tickets Online NOW ! https://bzone.bookingzone.com/geWO68\n\n**NO Outside Food or Drinks**\n\n***Wristguards are Mandatory. Free of Charge.
URL:https://www.unitedskates.com/skateland-mesa/event/santas-merry-grinch-mas/
CATEGORIES:Family Events,Public Skates,Special Events
ATTACH;FMTTYPE=image/png:https://unitedskates-assets.sfo3.digitaloceanspaces.com/wp-content/uploads/sites/20/2025/11/Grinch-Christmas-122625-2.png
END:VEVENT
BEGIN:VEVENT
DTSTART;TZID=America/Phoenix:20251226T213000
DTEND;TZID=America/Phoenix:20251226T233000
DTSTAMP:20260422T122811
CREATED:20251125T213004Z
LAST-MODIFIED:20251125T213004Z
UID:25389-1766784600-1766791800@www.unitedskates.com
SUMMARY:Holiday Adult Skate
DESCRIPTION:Grab your crew\, dig out those old-school moves\, and let’s skate off all that holiday food! \n🎟️ Just $14 admission (skate rental $5) \n🎶 ALL your fave RETRO BANGERS – 80s\, 90s\, early 2000s throwbacks on repeat! \n❄️ Holiday lights + winter wonderland on the rink \n🎉 The perfect grown-up way to keep Christmas rolling – no kids\, just vibes! \n**NO Outside Food or Drinks
URL:https://www.unitedskates.com/skateland-mesa/event/holiday-adult-skate/
CATEGORIES:Adult Events,Public Skates
ATTACH;FMTTYPE=image/png:https://unitedskates-assets.sfo3.digitaloceanspaces.com/wp-content/uploads/sites/20/2025/11/Adult-skate-122625.png
END:VEVENT
END:VCALENDAR