BEGIN:VCALENDAR
VERSION:2.0
PRODID:-//Rink 50 - Skateland Mesa - ECPv6.15.20//NONSGML v1.0//EN
CALSCALE:GREGORIAN
METHOD:PUBLISH
X-ORIGINAL-URL:https://www.unitedskates.com/skateland-mesa
X-WR-CALDESC:Events for Rink 50 - Skateland Mesa
REFRESH-INTERVAL;VALUE=DURATION:PT1H
X-Robots-Tag:noindex
X-PUBLISHED-TTL:PT1H
BEGIN:VTIMEZONE
TZID:America/Phoenix
BEGIN:STANDARD
TZOFFSETFROM:-0700
TZOFFSETTO:-0700
TZNAME:MST
DTSTART:20240101T000000
END:STANDARD
END:VTIMEZONE
BEGIN:VEVENT
DTSTART;TZID=America/Phoenix:20251025T100000
DTEND;TZID=America/Phoenix:20251025T123000
DTSTAMP:20260422T044857
CREATED:20250820T021016Z
LAST-MODIFIED:20250820T021016Z
UID:24356-1761386400-1761395400@www.unitedskates.com
SUMMARY:Mummy Wrap Skate
DESCRIPTION:Come Skate in Your Halloween Costume! \nListen to Spooky Halloween Music! \nJoin Our Mummy Wrap Race with Your Friend! \nColor a Pumpkin to Win Our Coloring Contest! \nFind The Candy Corn to WIN a PRIZE! \n$12 Admission \n$5 Skate Rental \n$5 Non-Skating Adults \n**NO Outside Food Or Drinks** \nWristguards are Mandatory. Free of Charge.
URL:https://www.unitedskates.com/skateland-mesa/event/mummy-wrap-skate/
CATEGORIES:Family Events,Public Skates,Special Events
ATTACH;FMTTYPE=image/png:https://unitedskates-assets.sfo3.digitaloceanspaces.com/wp-content/uploads/sites/20/2025/08/Come-Get-Wrapped-Like-a-MUmmy-Saturday-October-25th-10-1230PM.png
END:VEVENT
BEGIN:VEVENT
DTSTART;TZID=America/Phoenix:20251025T130000
DTEND;TZID=America/Phoenix:20251025T153000
DTSTAMP:20260422T044857
CREATED:20220504T032242Z
LAST-MODIFIED:20260330T205501Z
UID:21363-1761397200-1761406200@www.unitedskates.com
SUMMARY:Saturday Public Skate
DESCRIPTION:$12 Admission \n\n\n\n$5 Skate Rental \n$4 Non-skating adults \n\n\n\nWrist guards are mandatory for all skaters regardless of age or experience. Wrist guards are free of charge at our skate counter.  \nNo Outside Food or Drink. 
URL:https://www.unitedskates.com/skateland-mesa/event/public-skate-3/2025-10-25/
LOCATION:Skateland Mesa\, 7 E. Southern Ave.\, Mesa\, AZ\, 85210\, United States
CATEGORIES:Family Events,Public Skates
ATTACH;FMTTYPE=image/jpeg:https://unitedskates-assets.sfo3.digitaloceanspaces.com/wp-content/uploads/sites/20/2022/05/Public-Skate-1200x900-1.jpg
END:VEVENT
BEGIN:VEVENT
DTSTART;TZID=America/Phoenix:20251025T190000
DTEND;TZID=America/Phoenix:20251025T213000
DTSTAMP:20260422T044857
CREATED:20240430T212919Z
LAST-MODIFIED:20240430T212919Z
UID:24504-1761418800-1761427800@www.unitedskates.com
SUMMARY:Family Jam Skate
DESCRIPTION:🛼 Family Jam Skate Night! 🛼Bring the whole crew for a night of skating\, music\, and endless fun!Family fun\, skate style! 💥👨‍👩‍👧‍👦 \n$14.00 Admission all children and skating adults.\n$4.00 Non-Skating Adults\n$5 skate/rollerblade rental \nWrist guards are free and required regardless of age or skating experience – pick them up at the skate counter. \nNo Outside Food Or Drinks. \nGuests 17 years of age and younger must be accompanied by a chaperone 23 years of age or older unless they own their own pair of skates\n 
URL:https://www.unitedskates.com/skateland-mesa/event/saturday-glow-skate-4-2024-08-03/2025-10-25/
LOCATION:Skateland Mesa\, 7 E. Southern Ave.\, Mesa\, AZ\, 85210\, United States
CATEGORIES:Family Events,Public Skates
ATTACH;FMTTYPE=image/jpeg:https://unitedskates-assets.sfo3.digitaloceanspaces.com/wp-content/uploads/sites/20/2022/05/Glow-Skate-1200x900-1.jpg
END:VEVENT
END:VCALENDAR