BEGIN:VCALENDAR
VERSION:2.0
PRODID:-//Rink 50 - Skateland Mesa - ECPv6.15.20//NONSGML v1.0//EN
CALSCALE:GREGORIAN
METHOD:PUBLISH
X-WR-CALNAME:Rink 50 - Skateland Mesa
X-ORIGINAL-URL:https://www.unitedskates.com/skateland-mesa
X-WR-CALDESC:Events for Rink 50 - Skateland Mesa
REFRESH-INTERVAL;VALUE=DURATION:PT1H
X-Robots-Tag:noindex
X-PUBLISHED-TTL:PT1H
BEGIN:VTIMEZONE
TZID:America/Phoenix
BEGIN:STANDARD
TZOFFSETFROM:-0700
TZOFFSETTO:-0700
TZNAME:MST
DTSTART:20240101T000000
END:STANDARD
END:VTIMEZONE
BEGIN:VEVENT
DTSTART;TZID=America/Phoenix:20250926T180000
DTEND;TZID=America/Phoenix:20251013T210000
DTSTAMP:20260421T144252
CREATED:20250903T145555Z
LAST-MODIFIED:20250903T145555Z
UID:24625-1758909600-1760389200@www.unitedskates.com
SUMMARY:Fall Break Fun is Rolling into Skateland Mesa!
DESCRIPTION:🎟 Get your tickets online now ⬇️\nBUY TICKETS HERE – Skip The Line \nSchool’s out and the rink is OPEN with special skate sessions\, character meet & greets\, Glow Skates\, family nights\, and themed events EVERY day from September 26 – October 13! 🛼💫 \n⚡️ These sessions SELL OUT quickly – don’t wait!\n🎟 Buy your tickets online now to skip the line and guarantee your spot! \n👉 Here’s just a glimpse of the fun:\n⭐ Glow in the Dark Skates 🌟\n⭐ Character Skates with Stitch\, Ariel\, Mickey & Minnie\, Encanto & more!\n⭐ Affordable Family Fun Nights 👨‍👩‍👧‍👦\n⭐ All You Can Eat Pizza Nights 🍕\n⭐ Theme Nights like 80’s/90’s\, Monster Mash & Halloween specials 🎃 \n📍 Skateland Mesa – 7 E. Southern Ave\, Mesa\, AZ\n📅 Fall Break: Sept 26 – Oct 13\, 2025 \n✨ Don’t miss your chance to make this Fall Break unforgettable at Skateland Mesa!
URL:https://www.unitedskates.com/skateland-mesa/event/fall-break-fun-is-rolling-into-skateland-mesa/
LOCATION:Skateland Mesa\, 7 E. Southern Ave.\, Mesa\, AZ\, 85210\, United States
CATEGORIES:Family Events,Public Skates,Special Events
ATTACH;FMTTYPE=image/jpeg:https://unitedskates-assets.sfo3.digitaloceanspaces.com/wp-content/uploads/sites/20/2025/09/50-Fall-Break-2025.jpg
END:VEVENT
BEGIN:VEVENT
DTSTART;TZID=America/Phoenix:20251004T100000
DTEND;TZID=America/Phoenix:20251004T123000
DTSTAMP:20260421T144252
CREATED:20250819T032323Z
LAST-MODIFIED:20250819T032323Z
UID:24320-1759572000-1759581000@www.unitedskates.com
SUMMARY:Disney Hits Brunch Skate
DESCRIPTION:Come Join Aladdin & Jasmine for a Breakfast Brunch Skate! \nListen to all your favorite Disney Hits! \nJoin our Character Costume Contest! Are you Aladdin\, Jasmine\, or Genie? \n$13 Admission includes a waffle and trip to our Waffle bar! \n$5 Skate Rental \n$5 Non-Skating \n**NO Outside Food or Drinks** \nWristguards are Mandatory. Free of Charge.
URL:https://www.unitedskates.com/skateland-mesa/event/disney-hits-brunch-skate/
CATEGORIES:Family Events,Public Skates,Special Events
ATTACH;FMTTYPE=image/png:https://unitedskates-assets.sfo3.digitaloceanspaces.com/wp-content/uploads/sites/20/2025/08/Saturday-October-4th-10-1230pm.png
END:VEVENT
BEGIN:VEVENT
DTSTART;TZID=America/Phoenix:20251004T130000
DTEND;TZID=America/Phoenix:20251004T153000
DTSTAMP:20260421T144252
CREATED:20220504T032242Z
LAST-MODIFIED:20260330T205501Z
UID:21360-1759582800-1759591800@www.unitedskates.com
SUMMARY:Saturday Public Skate
DESCRIPTION:$12 Admission \n\n\n\n$5 Skate Rental \n$4 Non-skating adults \n\n\n\nWrist guards are mandatory for all skaters regardless of age or experience. Wrist guards are free of charge at our skate counter.  \nNo Outside Food or Drink. 
URL:https://www.unitedskates.com/skateland-mesa/event/public-skate-3/2025-10-04/
LOCATION:Skateland Mesa\, 7 E. Southern Ave.\, Mesa\, AZ\, 85210\, United States
CATEGORIES:Family Events,Public Skates
ATTACH;FMTTYPE=image/jpeg:https://unitedskates-assets.sfo3.digitaloceanspaces.com/wp-content/uploads/sites/20/2022/05/Public-Skate-1200x900-1.jpg
END:VEVENT
BEGIN:VEVENT
DTSTART;TZID=America/Phoenix:20251004T160000
DTEND;TZID=America/Phoenix:20251004T183000
DTSTAMP:20260421T144252
CREATED:20250109T020131Z
LAST-MODIFIED:20251015T215335Z
UID:21001-1759593600-1759602600@www.unitedskates.com
SUMMARY:Glow Skate
DESCRIPTION:$13 admission \n$5 Skate Rental \n$4 Non- Skating adult \n**Wrist-guards Mandatory and Free of Charge \nNo outside food or drinks
URL:https://www.unitedskates.com/skateland-mesa/event/glow-skate-4-2025-10-25-2025-10-04/
CATEGORIES:Family Events,Public Skates,Special Events
ATTACH;FMTTYPE=image/png:https://unitedskates-assets.sfo3.digitaloceanspaces.com/wp-content/uploads/sites/20/2025/01/Saturday-Night-GLOW-SKATE.png
END:VEVENT
BEGIN:VEVENT
DTSTART;TZID=America/Phoenix:20251004T190000
DTEND;TZID=America/Phoenix:20251004T213000
DTSTAMP:20260421T144252
CREATED:20240430T212919Z
LAST-MODIFIED:20240430T212919Z
UID:24501-1759604400-1759613400@www.unitedskates.com
SUMMARY:Family Jam Skate
DESCRIPTION:🛼 Family Jam Skate Night! 🛼Bring the whole crew for a night of skating\, music\, and endless fun!Family fun\, skate style! 💥👨‍👩‍👧‍👦 \n$14.00 Admission all children and skating adults.\n$4.00 Non-Skating Adults\n$5 skate/rollerblade rental \nWrist guards are free and required regardless of age or skating experience – pick them up at the skate counter. \nNo Outside Food Or Drinks. \nGuests 17 years of age and younger must be accompanied by a chaperone 23 years of age or older unless they own their own pair of skates\n 
URL:https://www.unitedskates.com/skateland-mesa/event/saturday-glow-skate-4-2024-08-03/2025-10-04/
LOCATION:Skateland Mesa\, 7 E. Southern Ave.\, Mesa\, AZ\, 85210\, United States
CATEGORIES:Family Events,Public Skates
ATTACH;FMTTYPE=image/jpeg:https://unitedskates-assets.sfo3.digitaloceanspaces.com/wp-content/uploads/sites/20/2022/05/Glow-Skate-1200x900-1.jpg
END:VEVENT
END:VCALENDAR