BEGIN:VCALENDAR
VERSION:2.0
PRODID:-//Rink 50 - Skateland Mesa - ECPv6.15.20//NONSGML v1.0//EN
CALSCALE:GREGORIAN
METHOD:PUBLISH
X-ORIGINAL-URL:https://www.unitedskates.com/skateland-mesa
X-WR-CALDESC:Events for Rink 50 - Skateland Mesa
REFRESH-INTERVAL;VALUE=DURATION:PT1H
X-Robots-Tag:noindex
X-PUBLISHED-TTL:PT1H
BEGIN:VTIMEZONE
TZID:America/Phoenix
BEGIN:STANDARD
TZOFFSETFROM:-0700
TZOFFSETTO:-0700
TZNAME:MST
DTSTART:20240101T000000
END:STANDARD
END:VTIMEZONE
BEGIN:VEVENT
DTSTART;TZID=America/Phoenix:20250723T110000
DTEND;TZID=America/Phoenix:20250723T153000
DTSTAMP:20260422T124943
CREATED:20250605T232606Z
LAST-MODIFIED:20250605T232606Z
UID:23944-1753268400-1753284600@www.unitedskates.com
SUMMARY:Back to School Skate
DESCRIPTION:📚🛼 Roll Into the School Year: Back-to-School Skate Bash ! 🎉🎒 \nSchool’s almost back in session—but first\, let’s CELEBRATE in style! Join us at the rink for an epic Back-to-School Skate Bash to kick off the 2025–2026 school year with excitement\, energy\, and a whole lot of wheels! 🎓🛼 \nWe’re turning the rink into the ultimate back-to-school party where families can skate\, dance\, and get geared up for an awesome academic year. And the best part? We’ll be raffling off a Backpack with school supplies—because starting the year prepared feels just as good as rolling to your favorite song! 💥✏️🎒 \n🎉 Raffle prizes\, contests\, and cool surprises throughout the event🎨 Craft stations to decorate school supplies & personalize gear📸 First day of school-themed photo backdrop for awesome memories! \n$12 admission (includes ONE free raffle ticket) \n$5 skate rental \n$4 non-skating adult \n**No free passes** \nWhether you’re heading into kindergarten or senior year\, this event is the perfect way to get pumped for a brand-new chapter. So bring your friends\, your best moves\, and your back-to-school spirit—we’ll see you on the rink for a day that’s smart and super fun! 🛼📚✨
URL:https://www.unitedskates.com/skateland-mesa/event/back-to-school-skate-4/
LOCATION:Skateland Mesa\, 7 E. Southern Ave.\, Mesa\, AZ\, 85210\, United States
CATEGORIES:Family Events,Public Skates,Special Events
ATTACH;FMTTYPE=image/png:https://unitedskates-assets.sfo3.digitaloceanspaces.com/wp-content/uploads/sites/20/2025/06/BTS-7-23-11-330.png
END:VEVENT
BEGIN:VEVENT
DTSTART;TZID=America/Phoenix:20250723T183000
DTEND;TZID=America/Phoenix:20250723T210000
DTSTAMP:20260422T124943
CREATED:20250605T232804Z
LAST-MODIFIED:20250605T232804Z
UID:23946-1753295400-1753304400@www.unitedskates.com
SUMMARY:Back to School Skate
DESCRIPTION:📚🛼 Roll Into the School Year: Back-to-School Skate Bash ! 🎉🎒 \nSchool’s almost back in session—but first\, let’s CELEBRATE in style! Join us at the rink for an epic Back-to-School Skate Bash to kick off the 2025–2026 school year with excitement\, energy\, and a whole lot of wheels! 🎓🛼 \nWe’re turning the rink into the ultimate back-to-school party where families can skate\, dance\, and get geared up for an awesome academic year. And the best part? We’ll be raffling off a Backpack with school supplies—because starting the year prepared feels just as good as rolling to your favorite song! 💥✏️🎒 \n🎉 Raffle prizes\, contests\, and cool surprises throughout the event🎨 Craft stations to decorate school supplies & personalize gear📸 First day of school-themed photo backdrop for awesome memories! \nMeet & greet with our favorite skating dinosaur SKATO ! \n$6 admission \n$5 skate rental \n$4 non-skating adult \n**No free passes** \nWhether you’re heading into kindergarten or senior year\, this event is the perfect way to get pumped for a brand-new chapter. So bring your friends\, your best moves\, and your back-to-school spirit—we’ll see you on the rink for a day that’s smart and super fun! 🛼📚✨
URL:https://www.unitedskates.com/skateland-mesa/event/back-to-school-skate-5/
LOCATION:Skateland Mesa\, 7 E. Southern Ave.\, Mesa\, AZ\, 85210\, United States
CATEGORIES:Family Events,Public Skates,Special Events
ATTACH;FMTTYPE=image/png:https://unitedskates-assets.sfo3.digitaloceanspaces.com/wp-content/uploads/sites/20/2025/06/BTS-7-23-630-9.png
END:VEVENT
END:VCALENDAR