BEGIN:VCALENDAR
VERSION:2.0
PRODID:-//Rink 50 - Skateland Mesa - ECPv6.15.20//NONSGML v1.0//EN
CALSCALE:GREGORIAN
METHOD:PUBLISH
X-WR-CALNAME:Rink 50 - Skateland Mesa
X-ORIGINAL-URL:https://www.unitedskates.com/skateland-mesa
X-WR-CALDESC:Events for Rink 50 - Skateland Mesa
REFRESH-INTERVAL;VALUE=DURATION:PT1H
X-Robots-Tag:noindex
X-PUBLISHED-TTL:PT1H
BEGIN:VTIMEZONE
TZID:America/Phoenix
BEGIN:STANDARD
TZOFFSETFROM:-0700
TZOFFSETTO:-0700
TZNAME:MST
DTSTART:20240101T000000
END:STANDARD
END:VTIMEZONE
BEGIN:VEVENT
DTSTART;TZID=America/Phoenix:20250613T180000
DTEND;TZID=America/Phoenix:20250613T210000
DTSTAMP:20260423T064001
CREATED:20250529T000611Z
LAST-MODIFIED:20250529T000611Z
UID:23680-1749837600-1749848400@www.unitedskates.com
SUMMARY:Purge Skate Night
DESCRIPTION:Dress in your favorite Purge movie outfit \nEnjoy our delicious cafe specials \, play trivia and skate to the best music ALL SESSION LONG ! \nComplete your outfit with one of our light up Purge mask ! \n$14 Admission \n$5 Skate Rental \n$4 Non-skating adult \n**No free passes accepted**
URL:https://www.unitedskates.com/skateland-mesa/event/purge-skate-night/
LOCATION:Skateland Mesa\, 7 E. Southern Ave.\, Mesa\, AZ\, 85210\, United States
CATEGORIES:Public Skates,Special Events
ATTACH;FMTTYPE=image/png:https://unitedskates-assets.sfo3.digitaloceanspaces.com/wp-content/uploads/sites/20/2025/05/Purge-skate-6-13.png
END:VEVENT
END:VCALENDAR