BEGIN:VCALENDAR
VERSION:2.0
PRODID:-//Rink 50 - Skateland Mesa - ECPv6.15.20//NONSGML v1.0//EN
CALSCALE:GREGORIAN
METHOD:PUBLISH
X-ORIGINAL-URL:https://www.unitedskates.com/skateland-mesa
X-WR-CALDESC:Events for Rink 50 - Skateland Mesa
REFRESH-INTERVAL;VALUE=DURATION:PT1H
X-Robots-Tag:noindex
X-PUBLISHED-TTL:PT1H
BEGIN:VTIMEZONE
TZID:America/Phoenix
BEGIN:STANDARD
TZOFFSETFROM:-0700
TZOFFSETTO:-0700
TZNAME:MST
DTSTART:20240101T000000
END:STANDARD
END:VTIMEZONE
BEGIN:VEVENT
DTSTART;TZID=America/Phoenix:20250510T100000
DTEND;TZID=America/Phoenix:20250510T123000
DTSTAMP:20260424T154613
CREATED:20250405T210537Z
LAST-MODIFIED:20250405T210537Z
UID:23175-1746871200-1746880200@www.unitedskates.com
SUMMARY:Waffles With Maui Skate
DESCRIPTION:Come Visit Maui and Skate around the rink with him! \nListen to ALL Your Favorite Disney Music! \nJoin us For Costume Contest of Your Favorite Moana Character! \nWear a Moana Costume or Hawaiian Shirt for $2 off Admission! \n$13 admission includes a WAFFLE and A TRIP to our WAFFLE BAR! \n$4 Non-Skating Adults \n$5 Skate Rental \nWristguards are Mandatory. Free of Charge. \n**NO Outside Food or Drinks. \n  \n 
URL:https://www.unitedskates.com/skateland-mesa/event/waffles-with-maui-skate/
CATEGORIES:Family Events,Public Skates,Special Events
ATTACH;FMTTYPE=image/png:https://unitedskates-assets.sfo3.digitaloceanspaces.com/wp-content/uploads/sites/20/2025/04/May-10th-1.png
END:VEVENT
BEGIN:VEVENT
DTSTART;TZID=America/Phoenix:20250510T220000
DTEND;TZID=America/Phoenix:20250511T000000
DTSTAMP:20260424T154613
CREATED:20250405T213003Z
LAST-MODIFIED:20250405T213019Z
UID:23185-1746914400-1746921600@www.unitedskates.com
SUMMARY:Legends of Hip Hop and R&B Adult Skate
DESCRIPTION:Come Skate to the Best Hip Hop and R&B Music! \n18+ ONLY. MUST SHOW ID TO ENTER. \n$14 Admission \n$5 Skate Rental \n$4 Non-skating adult \n** NO Outside Food or Drinks Allowed. \n 
URL:https://www.unitedskates.com/skateland-mesa/event/legends-of-hip-hop-and-rb-adult-skate/
CATEGORIES:Adult Events,Public Skates,Special Events
ATTACH;FMTTYPE=image/png:https://unitedskates-assets.sfo3.digitaloceanspaces.com/wp-content/uploads/sites/20/2025/04/May-10th.png
END:VEVENT
END:VCALENDAR