BEGIN:VCALENDAR
VERSION:2.0
PRODID:-//Rink 50 - Skateland Mesa - ECPv6.15.20//NONSGML v1.0//EN
CALSCALE:GREGORIAN
METHOD:PUBLISH
X-WR-CALNAME:Rink 50 - Skateland Mesa
X-ORIGINAL-URL:https://www.unitedskates.com/skateland-mesa
X-WR-CALDESC:Events for Rink 50 - Skateland Mesa
REFRESH-INTERVAL;VALUE=DURATION:PT1H
X-Robots-Tag:noindex
X-PUBLISHED-TTL:PT1H
BEGIN:VTIMEZONE
TZID:America/Phoenix
BEGIN:STANDARD
TZOFFSETFROM:-0700
TZOFFSETTO:-0700
TZNAME:MST
DTSTART:20240101T000000
END:STANDARD
END:VTIMEZONE
BEGIN:VEVENT
DTSTART;TZID=America/Phoenix:20250504T120000
DTEND;TZID=America/Phoenix:20250504T143000
DTSTAMP:20260424T135156
CREATED:20250405T200007Z
LAST-MODIFIED:20250405T200007Z
UID:23156-1746360000-1746369000@www.unitedskates.com
SUMMARY:May the 4th Be With You Skate
DESCRIPTION:May the 4th Be With You! \nCome Skate Away With Darth Vader! \nPlay Star Wars Trivia! \nJoin Our Star Wars Costume Contest! \n$13 admission \n$4 Non-skating adult \n$5 Skate Rental \nFamily of 4 Deal for the 4th! \n4 admission\, 4 Skate Rental\, Pizza and Pitcher for $80 \nWristguards are Mandatory. Free of Charge. \n**NO Outside Food or Drinks**
URL:https://www.unitedskates.com/skateland-mesa/event/may-the-4th-be-with-you-skate/
CATEGORIES:Family Events,Public Skates,Special Events
ATTACH;FMTTYPE=image/png:https://unitedskates-assets.sfo3.digitaloceanspaces.com/wp-content/uploads/sites/20/2025/04/May-4th-2.png
END:VEVENT
BEGIN:VEVENT
DTSTART;TZID=America/Phoenix:20250504T150000
DTEND;TZID=America/Phoenix:20250504T173000
DTSTAMP:20260424T135156
CREATED:20250405T200624Z
LAST-MODIFIED:20250405T200624Z
UID:23159-1746370800-1746379800@www.unitedskates.com
SUMMARY:May the 4th Be With You Skate
DESCRIPTION:May the 4th Be With You! \nCome Skate Away With Darth Vader! \nPlay Star Wars Trivia! \nJoin Our Star Wars Costume Contest! \n$13 admission \n$4 Non-skating adult \n$5 Skate Rental \nFamily of 4 Deal for the 4th! \n4 admission\, 4 Skate Rental\, Pizza and Pitcher for $80 \nWristguards are Mandatory. Free of Charge. \n**NO Outside Food or Drinks**
URL:https://www.unitedskates.com/skateland-mesa/event/may-the-4th-be-with-you-skate-2/
CATEGORIES:Family Events,Public Skates,Special Events
ATTACH;FMTTYPE=image/png:https://unitedskates-assets.sfo3.digitaloceanspaces.com/wp-content/uploads/sites/20/2025/04/May-4th-2.png
END:VEVENT
BEGIN:VEVENT
DTSTART;TZID=America/Phoenix:20250504T180000
DTEND;TZID=America/Phoenix:20250504T203000
DTSTAMP:20260424T135156
CREATED:20250405T200926Z
LAST-MODIFIED:20250405T200926Z
UID:23161-1746381600-1746390600@www.unitedskates.com
SUMMARY:May the 4th Be With You!
DESCRIPTION:May the 4th Be With You!\n\nCome Skate Away With Darth Vader!\n\nPlay Star Wars Trivia!\n\nJoin Our Star Wars Costume Contest!\n\n$13 admission\n\n$4 Non-skating adult\n\n$5 Skate Rental\n\nFamily of 4 Deal for the 4th!\n\n4 admission\, 4 Skate Rental\, Pizza and Pitcher for $80\n\nWristguards are Mandatory. Free of Charge.\n\n**NO Outside Food or Drinks**
URL:https://www.unitedskates.com/skateland-mesa/event/may-the-4th-be-with-you/
CATEGORIES:Family Events,Public Skates,Special Events
ATTACH;FMTTYPE=image/png:https://unitedskates-assets.sfo3.digitaloceanspaces.com/wp-content/uploads/sites/20/2025/04/May-4th-2.png
END:VEVENT
END:VCALENDAR