BEGIN:VCALENDAR
VERSION:2.0
PRODID:-//Rink 50 - Skateland Mesa - ECPv6.15.20//NONSGML v1.0//EN
CALSCALE:GREGORIAN
METHOD:PUBLISH
X-ORIGINAL-URL:https://www.unitedskates.com/skateland-mesa
X-WR-CALDESC:Events for Rink 50 - Skateland Mesa
REFRESH-INTERVAL;VALUE=DURATION:PT1H
X-Robots-Tag:noindex
X-PUBLISHED-TTL:PT1H
BEGIN:VTIMEZONE
TZID:America/Phoenix
BEGIN:STANDARD
TZOFFSETFROM:-0700
TZOFFSETTO:-0700
TZNAME:MST
DTSTART:20250101T000000
END:STANDARD
END:VTIMEZONE
BEGIN:VEVENT
DTSTART;TZID=America/Phoenix:20260416T170000
DTEND;TZID=America/Phoenix:20260416T200000
DTSTAMP:20260419T081712
CREATED:20260409T232429Z
LAST-MODIFIED:20260409T232429Z
UID:28035-1776358800-1776369600@www.unitedskates.com
SUMMARY:Kpop Skate Night
DESCRIPTION:Get ready to roll to your favorite K-pop hits at the ultimate K-POP skate session! 💜🛼 Vibe out to music from BTS\, BLACKPINK\, EXO\, Stray Kids\, and more all night long! 🎶🔥 \n🎶 Nonstop K-pop music & party vibes \n🎭 Dress as your favorite K-pop artist or character💡 Receive a FREE glowstick when you dress up! \n🐯 Special appearance by Derby the Tiger \n📸 Fun photo ops with friends \n💃 Bring your crew\, show off your style\, and skate the night away in true K-pop fashion! \n💫 Don’t miss the beat—this is your night to shine! 💫 \n💲 Admission: $10 \n🛼 Skate Rental: $5 \n$4 Non-skating adults \n**NO Outside Food or Drinks** \n***Wristguards are Mandatory. Free of Charge.
URL:https://www.unitedskates.com/skateland-mesa/event/kpop-skate-night-2/
LOCATION:AZ
CATEGORIES:Family Events,Public Skates,Special Events
ATTACH;FMTTYPE=image/png:https://unitedskates-assets.sfo3.digitaloceanspaces.com/wp-content/uploads/sites/20/2026/04/K-Pop-Day-Skate-5.png
END:VEVENT
END:VCALENDAR