BEGIN:VCALENDAR
VERSION:2.0
PRODID:-//Rink 50 - Skateland Mesa - ECPv6.15.20//NONSGML v1.0//EN
CALSCALE:GREGORIAN
METHOD:PUBLISH
X-WR-CALNAME:Rink 50 - Skateland Mesa
X-ORIGINAL-URL:https://www.unitedskates.com/skateland-mesa
X-WR-CALDESC:Events for Rink 50 - Skateland Mesa
REFRESH-INTERVAL;VALUE=DURATION:PT1H
X-Robots-Tag:noindex
X-PUBLISHED-TTL:PT1H
BEGIN:VTIMEZONE
TZID:America/Phoenix
BEGIN:STANDARD
TZOFFSETFROM:-0700
TZOFFSETTO:-0700
TZNAME:MST
DTSTART:20250101T000000
END:STANDARD
END:VTIMEZONE
BEGIN:VEVENT
DTSTART;TZID=America/Phoenix:20260122T173000
DTEND;TZID=America/Phoenix:20260122T200000
DTSTAMP:20260419T090549
CREATED:20260105T024449Z
LAST-MODIFIED:20260107T001102Z
UID:26384-1769103000-1769112000@www.unitedskates.com
SUMMARY:Loteria Family Skate Night
DESCRIPTION:Dive into the ultimate Mexican fiesta on wheels with DJ DISS FOO Playing all the  Mariachi\, Cumbia\, Banda\, Reggaeton y la mejor música toda la noche! 🎻🥁💃 \n$8 admission includes your very own Lotería card to play along—extra cards just $2 each! 📜✨ \nEpic prizes up for grabs: \n\nVisa gift card 💳\nFREE Skate Party for you + 9 friends! 🎂🛼\n\nSkate rental $5 • Non-skating adults $4 \nBring your familia\, mark your cards\, shout ¡Lotería!\, and glide to the beats! \nBuy Your Tickets Online NOW ! \n**NO Outside Food or Drinks** \nWristguards are Mandatory. Free of Charge. \n**NO Free Passes**
URL:https://www.unitedskates.com/skateland-mesa/event/loteria-family-skate-night/
LOCATION:AZ
CATEGORIES:Family Events,Public Skates,Special Events
ATTACH;FMTTYPE=image/png:https://unitedskates-assets.sfo3.digitaloceanspaces.com/wp-content/uploads/sites/20/2026/01/12226.png
END:VEVENT
END:VCALENDAR