BEGIN:VCALENDAR
VERSION:2.0
PRODID:-//Rink 50 - Skateland Mesa - ECPv6.15.20//NONSGML v1.0//EN
CALSCALE:GREGORIAN
METHOD:PUBLISH
X-WR-CALNAME:Rink 50 - Skateland Mesa
X-ORIGINAL-URL:https://www.unitedskates.com/skateland-mesa
X-WR-CALDESC:Events for Rink 50 - Skateland Mesa
REFRESH-INTERVAL;VALUE=DURATION:PT1H
X-Robots-Tag:noindex
X-PUBLISHED-TTL:PT1H
BEGIN:VTIMEZONE
TZID:America/Phoenix
BEGIN:STANDARD
TZOFFSETFROM:-0700
TZOFFSETTO:-0700
TZNAME:MST
DTSTART:20240101T000000
END:STANDARD
END:VTIMEZONE
BEGIN:VEVENT
DTSTART;VALUE=DATE:20251219
DTEND;VALUE=DATE:20260106
DTSTAMP:20260419T104850
CREATED:20251202T151958Z
LAST-MODIFIED:20251202T151958Z
UID:25549-1766120400-1767589199@www.unitedskates.com
SUMMARY:Winter Break Skate Schedule — School’s Out\, Time to Roll!
DESCRIPTION:School’s out and the fun begins! Join us every day of Winter Break for themed skate sessions\, great music\, family events\, and special holiday celebrations. \nFrom Christmas Eve Skate to New Year’s Eve Parties\, we’ve got something for everyone. \nGet your tickets early and roll into the holiday fun! \nGET TICKETS HERE
URL:https://www.unitedskates.com/skateland-mesa/event/winter-break-skate-schedule-schools-out-time-to-roll/
LOCATION:AZ
CATEGORIES:Family Events,Public Skates,Special Events
ATTACH;FMTTYPE=image/jpeg:https://unitedskates-assets.sfo3.digitaloceanspaces.com/wp-content/uploads/sites/20/2025/12/Rink-50-Winter-Break-2025-2.jpg
END:VEVENT
BEGIN:VEVENT
DTSTART;TZID=America/Phoenix:20251230T110000
DTEND;TZID=America/Phoenix:20251230T140000
DTSTAMP:20260419T104850
CREATED:20251125T194939Z
LAST-MODIFIED:20251218T230226Z
UID:25346-1767092400-1767103200@www.unitedskates.com
SUMMARY:❄️ Winter Break Skate Fun!
DESCRIPTION:Lace up\, bundle up\, and come skate into winter magic with us! ❄️💙 \n💵 $12 Admission \n$5 Skate Rental \n$4 Non-skating adult \n🛼 Cool Winter Vibes \n⭐ Perfect mid-break hangout! \n🎉 Join us for a Winter Skate Party! \n👨‍👩‍👧 Family-friendly fun! \nBuy Your Tickets Online NOW ! https://bzone.bookingzone.com/SeWPpx \n**NO Outside Food or Drinks Allowed \n**Wristguards are Mandatory. Free of Charge.
URL:https://www.unitedskates.com/skateland-mesa/event/%e2%9d%84%ef%b8%8f-winter-break-skate-fun/
LOCATION:AZ
CATEGORIES:Family Events,Public Skates,Special Events
ATTACH;FMTTYPE=image/png:https://unitedskates-assets.sfo3.digitaloceanspaces.com/wp-content/uploads/sites/20/2025/11/Winter-Party-123025.png
END:VEVENT
BEGIN:VEVENT
DTSTART;TZID=America/Phoenix:20251230T143000
DTEND;TZID=America/Phoenix:20251230T170000
DTSTAMP:20260419T104850
CREATED:20251201T030624Z
LAST-MODIFIED:20251212T163425Z
UID:25444-1767105000-1767114000@www.unitedskates.com
SUMMARY:Glow Roll Extravaganza
DESCRIPTION:Doors open 2:30pm – this one’s gonna GLOW OFF THE CHARTS!! 🌈🛼🔥 SEE YOU THERE!!! \nGrab your brightest outfit\, your crew\, and let’s light up the rink like never before! \n✨ FIRST 50 through the door = FREE GLOW STICK! (get here early!) \n🌌 Full blacklight GLOW mode – the rink turns electric! \n🎉 Games\, café specials\, great music & non-stop family fun \n🎈 Perfect winter-break blowout for kids AND adults \n🎂 Birthday parties + group rates available – call now to lock it in! \n🎟️ ONLY $12 admission │ $5 skate rental │ $4 non-skating adults \nBuy Your Tickets Online NOW ! https://bzone.bookingzone.com/teQjjS \n**NO Outside Food or Drinks** \n***Wristguards are Mandatory. Free of Charge.***
URL:https://www.unitedskates.com/skateland-mesa/event/glow-roll-extravaganza-2/
LOCATION:AZ
CATEGORIES:Family Events,Public Skates,Special Events
ATTACH;FMTTYPE=image/png:https://unitedskates-assets.sfo3.digitaloceanspaces.com/wp-content/uploads/sites/20/2025/11/Glow-123025-1.png
END:VEVENT
BEGIN:VEVENT
DTSTART;TZID=America/Phoenix:20251230T173000
DTEND;TZID=America/Phoenix:20251230T210000
DTSTAMP:20260419T104850
CREATED:20251125T202655Z
LAST-MODIFIED:20251218T230346Z
UID:25361-1767115800-1767128400@www.unitedskates.com
SUMMARY:Pizza with Buddy The Elf Skate
DESCRIPTION:Festive Holiday Vibes: Snowy backdrop\, Christmas music\, and tons of holiday energy on the rink \n🍕 UNLIMITED PIZZA ALL NIGHT \n🛼 Only $13 (skates + pizza included!) \n🎅 Tuesday Dec 30th │ 5:30-9pm \n🧦 Wear RED & GREEN or full ELF costume = WIN PRIZES!! \n🎉 Best holiday vibes ever with Buddy the Elf energy!! \n👨‍👩‍👧‍👦 Bring the whole crew – non-skaters just $10 (still get pizza!) \nBuy Your Tickets Online NOW ! https://bzone.bookingzone.com/DeWPaf \n**NO Outside Food or Drinks** \n***Wristguards are Mandatory. Free of Charge.
URL:https://www.unitedskates.com/skateland-mesa/event/pizza-with-buddy-the-elf-skate/
LOCATION:AZ
CATEGORIES:Family Events,Public Skates,Special Events
ATTACH;FMTTYPE=image/png:https://unitedskates-assets.sfo3.digitaloceanspaces.com/wp-content/uploads/sites/20/2025/11/Pizza-with-buddy-123025.png
END:VEVENT
END:VCALENDAR