BEGIN:VCALENDAR
VERSION:2.0
PRODID:-//Rink 50 - Skateland Mesa - ECPv6.15.20//NONSGML v1.0//EN
CALSCALE:GREGORIAN
METHOD:PUBLISH
X-ORIGINAL-URL:https://www.unitedskates.com/skateland-mesa
X-WR-CALDESC:Events for Rink 50 - Skateland Mesa
REFRESH-INTERVAL;VALUE=DURATION:PT1H
X-Robots-Tag:noindex
X-PUBLISHED-TTL:PT1H
BEGIN:VTIMEZONE
TZID:America/Phoenix
BEGIN:STANDARD
TZOFFSETFROM:-0700
TZOFFSETTO:-0700
TZNAME:MST
DTSTART:20240101T000000
END:STANDARD
END:VTIMEZONE
BEGIN:VEVENT
DTSTART;VALUE=DATE:20251219
DTEND;VALUE=DATE:20260106
DTSTAMP:20260419T105050
CREATED:20251202T151958Z
LAST-MODIFIED:20251202T151958Z
UID:25549-1766120400-1767589199@www.unitedskates.com
SUMMARY:Winter Break Skate Schedule — School’s Out\, Time to Roll!
DESCRIPTION:School’s out and the fun begins! Join us every day of Winter Break for themed skate sessions\, great music\, family events\, and special holiday celebrations. \nFrom Christmas Eve Skate to New Year’s Eve Parties\, we’ve got something for everyone. \nGet your tickets early and roll into the holiday fun! \nGET TICKETS HERE
URL:https://www.unitedskates.com/skateland-mesa/event/winter-break-skate-schedule-schools-out-time-to-roll/
LOCATION:AZ
CATEGORIES:Family Events,Public Skates,Special Events
ATTACH;FMTTYPE=image/jpeg:https://unitedskates-assets.sfo3.digitaloceanspaces.com/wp-content/uploads/sites/20/2025/12/Rink-50-Winter-Break-2025-2.jpg
END:VEVENT
BEGIN:VEVENT
DTSTART;TZID=America/Phoenix:20251220T100000
DTEND;TZID=America/Phoenix:20251220T123000
DTSTAMP:20260419T105050
CREATED:20251124T020423Z
LAST-MODIFIED:20251218T222941Z
UID:25317-1766224800-1766233800@www.unitedskates.com
SUMMARY:Olafs Frozen Adventure
DESCRIPTION:Join us for Olaf’s Frozen Adventure – Disney Hits Party! \nA magical morning filled with skating\, music\, characters\, games\, and treats inspired by the world of Frozen! \n❄️ Come dressed as your favorite Frozen character! \n🎶 Enjoy music from ALL the Frozen movies—sing\, skate\, and let it go! \n🏆 Take on Frozen & Disney Trivia for your chance to win fun prizes! \n🦌 Join us for Sven’s Reindeer Rink Games—perfect for kids and families! \n🍧 Indulge in Olaf’s Frozen Treats available in our café! \n💙 Admission: $12 \n($4 for non-skating adults) \n⛸️ Skate Rental: $5 \nBuy Your Tickets Online NOW ! https://bzone.bookingzone.com/3eWOHF \n**NO Outside Food or Drinks \n***Wristguards are Mandatory. Free of Charge.
URL:https://www.unitedskates.com/skateland-mesa/event/olafs-frozen-adventure-2/
LOCATION:AZ
CATEGORIES:Family Events,Public Skates,Special Events
ATTACH;FMTTYPE=image/png:https://unitedskates-assets.sfo3.digitaloceanspaces.com/wp-content/uploads/sites/20/2025/11/Frozen-122025.png
END:VEVENT
BEGIN:VEVENT
DTSTART;TZID=America/Phoenix:20251220T130000
DTEND;TZID=America/Phoenix:20251220T153000
DTSTAMP:20260419T105050
CREATED:20220504T032242Z
LAST-MODIFIED:20260330T205503Z
UID:25688-1766235600-1766244600@www.unitedskates.com
SUMMARY:Saturday Public Skate
DESCRIPTION:$12 Admission \n\n\n\n$5 Skate Rental \n$4 Non-skating adults \n\n\n\nWrist guards are mandatory for all skaters regardless of age or experience. Wrist guards are free of charge at our skate counter.  \nNo Outside Food or Drink. 
URL:https://www.unitedskates.com/skateland-mesa/event/public-skate-3/2025-12-20/
LOCATION:Skateland Mesa\, 7 E. Southern Ave.\, Mesa\, AZ\, 85210\, United States
CATEGORIES:Family Events,Public Skates
ATTACH;FMTTYPE=image/jpeg:https://unitedskates-assets.sfo3.digitaloceanspaces.com/wp-content/uploads/sites/20/2022/05/Public-Skate-1200x900-1.jpg
END:VEVENT
BEGIN:VEVENT
DTSTART;TZID=America/Phoenix:20251220T160000
DTEND;TZID=America/Phoenix:20251220T183000
DTSTAMP:20260419T105050
CREATED:20250109T020131Z
LAST-MODIFIED:20250109T020131Z
UID:25000-1766246400-1766255400@www.unitedskates.com
SUMMARY:Glow Skate
DESCRIPTION:$13 admission \n$5 Skate Rental \n$4 Non- Skating adult \n**Wrist-guards Mandatory and Free of Charge \nNo outside food or drinks
URL:https://www.unitedskates.com/skateland-mesa/event/glow-skate-4-2025-10-25-2025-12-20/
LOCATION:AZ
CATEGORIES:Family Events,Public Skates,Special Events
ATTACH;FMTTYPE=image/png:https://unitedskates-assets.sfo3.digitaloceanspaces.com/wp-content/uploads/sites/20/2025/01/Saturday-Night-GLOW-SKATE.png
END:VEVENT
BEGIN:VEVENT
DTSTART;TZID=America/Phoenix:20251220T160000
DTEND;TZID=America/Phoenix:20251220T183000
DTSTAMP:20260419T105050
CREATED:20251124T205219Z
LAST-MODIFIED:20251218T223411Z
UID:25322-1766246400-1766255400@www.unitedskates.com
SUMMARY:Taylor Swift Forever Winter Skate Party
DESCRIPTION:🎤💙 FOREVER WINTER SKATE PARTY! 💙🎤 \nA celebration of Taylor Swift’s biggest hits\, style\, and iconic eras—all on wheels! \n🎶 Taylor’s Greatest Hits All Night! Skate to songs from every era—Lover\, Reputation\, Fearless\, Speak Now & more! \n🧊 Taylor Swift Trivia! Prove your Swiftie knowledge and win fun prizes! \n👗 Taylor Swift Look-A-Like Contest! Dress in your best Taylor-inspired outfit for a chance to shine! \n🎁 Taylor Swift Swag Specials! Score themed goodies and exclusive treats! \n⭐ And SO MUCH MORE! \n📅 Saturday\, December 20th \n⏰ 4:00 PM – 6:30 PM \n💵 Admission: $12($4 for non-skating adults) \n⛸️ Skate Rental: $5 \nBuy Your Tickets Online NOW ! https://bzone.bookingzone.com/JeWOZK \n**NO Outside Food or Drinks** \n***WRISTGUARDS ARE MANDATORY. Free of Charge.***
URL:https://www.unitedskates.com/skateland-mesa/event/taylor-swift-forever-winter-skate-party/
LOCATION:AZ
CATEGORIES:Family Events,Public Skates,Special Events
ATTACH;FMTTYPE=image/png:https://unitedskates-assets.sfo3.digitaloceanspaces.com/wp-content/uploads/sites/20/2025/11/Taylor-Swift-Forever-122025.png
END:VEVENT
BEGIN:VEVENT
DTSTART;TZID=America/Phoenix:20251220T190000
DTEND;TZID=America/Phoenix:20251220T213000
DTSTAMP:20260419T105050
CREATED:20240430T212919Z
LAST-MODIFIED:20240430T212919Z
UID:24512-1766257200-1766266200@www.unitedskates.com
SUMMARY:Family Jam Skate
DESCRIPTION:🛼 Family Jam Skate Night! 🛼Bring the whole crew for a night of skating\, music\, and endless fun!Family fun\, skate style! 💥👨‍👩‍👧‍👦 \n$14.00 Admission all children and skating adults.\n$4.00 Non-Skating Adults\n$5 skate/rollerblade rental \nWrist guards are free and required regardless of age or skating experience – pick them up at the skate counter. \nNo Outside Food Or Drinks. \nGuests 17 years of age and younger must be accompanied by a chaperone 23 years of age or older unless they own their own pair of skates\n 
URL:https://www.unitedskates.com/skateland-mesa/event/saturday-glow-skate-4-2024-08-03/2025-12-20/
LOCATION:Skateland Mesa\, 7 E. Southern Ave.\, Mesa\, AZ\, 85210\, United States
CATEGORIES:Family Events,Public Skates
ATTACH;FMTTYPE=image/jpeg:https://unitedskates-assets.sfo3.digitaloceanspaces.com/wp-content/uploads/sites/20/2022/05/Glow-Skate-1200x900-1.jpg
END:VEVENT
END:VCALENDAR