BEGIN:VCALENDAR
VERSION:2.0
PRODID:-//Rink 50 - Skateland Mesa - ECPv6.15.20//NONSGML v1.0//EN
CALSCALE:GREGORIAN
METHOD:PUBLISH
X-WR-CALNAME:Rink 50 - Skateland Mesa
X-ORIGINAL-URL:https://www.unitedskates.com/skateland-mesa
X-WR-CALDESC:Events for Rink 50 - Skateland Mesa
REFRESH-INTERVAL;VALUE=DURATION:PT1H
X-Robots-Tag:noindex
X-PUBLISHED-TTL:PT1H
BEGIN:VTIMEZONE
TZID:America/Phoenix
BEGIN:STANDARD
TZOFFSETFROM:-0700
TZOFFSETTO:-0700
TZNAME:MST
DTSTART:20240101T000000
END:STANDARD
END:VTIMEZONE
BEGIN:VEVENT
DTSTART;TZID=America/Phoenix:20251204T173000
DTEND;TZID=America/Phoenix:20251204T200000
DTSTAMP:20260419T090616
CREATED:20251201T012150Z
LAST-MODIFIED:20251201T014326Z
UID:25415-1764869400-1764878400@www.unitedskates.com
SUMMARY:Loteria Skate Night
DESCRIPTION:Dress As Your Favorite Character For a $1 off! \n🎟️ ONLY $6 admission → INCLUDES your official Lotería card! \n($2 extra cards │ $5 skate rental │ $4 non-skaters) \n🎶 Mariachi\, Cumbia y pura Música de Banda toda la noche! \n🏆 AMAZING PRIZES every round: → Visa gift cards → FREE pizza party for your whole class → FREE private skate party for you + 9 friends!! \n🌶️ ¡Grita “LOTERÍAAAA!” while rolling on the rink – pure fiesta vibes! \n***NO Outside Food or Drinks** \n**Wristguards are Mandatory. Free of Charge.**
URL:https://www.unitedskates.com/skateland-mesa/event/loteria-skate-night/
LOCATION:AZ
CATEGORIES:Family Events,Public Skates,Special Events
ATTACH;FMTTYPE=image/png:https://unitedskates-assets.sfo3.digitaloceanspaces.com/wp-content/uploads/sites/20/2025/11/loteria-skate-night-12425-1.png
END:VEVENT
END:VCALENDAR