BEGIN:VCALENDAR
VERSION:2.0
PRODID:-//Rink 50 - Skateland Mesa - ECPv6.15.20//NONSGML v1.0//EN
CALSCALE:GREGORIAN
METHOD:PUBLISH
X-ORIGINAL-URL:https://www.unitedskates.com/skateland-mesa
X-WR-CALDESC:Events for Rink 50 - Skateland Mesa
REFRESH-INTERVAL;VALUE=DURATION:PT1H
X-Robots-Tag:noindex
X-PUBLISHED-TTL:PT1H
BEGIN:VTIMEZONE
TZID:America/Phoenix
BEGIN:STANDARD
TZOFFSETFROM:-0700
TZOFFSETTO:-0700
TZNAME:MST
DTSTART:20240101T000000
END:STANDARD
END:VTIMEZONE
BEGIN:VEVENT
DTSTART;TZID=America/Phoenix:20251125T180000
DTEND;TZID=America/Phoenix:20251130T203000
DTSTAMP:20260419T105055
CREATED:20251110T161239Z
LAST-MODIFIED:20251110T161239Z
UID:25274-1764093600-1764534600@www.unitedskates.com
SUMMARY:🦃 Thanksgiving Break Skates at Skateland Mesa! 🎉
DESCRIPTION:School’s out and the fun is on wheels at Skateland Mesa! 🛼Join us all week long for Thanksgiving Break Skates filled with themed sessions\, family fun\, and holiday excitement! \n✨ Event Highlights: \n\n\nTuesday\, Nov 25: Stranger Things Skate — Relive your favorite moments from the hit show! \n\n\nWednesday\, Nov 26: Thanksgiving Dance Skate with Stitch + Cosmic Glow Skate 🌌 \n\n\nThursday\, Nov 27: Stoke Your Turkey Off and Virtual DJ R&B Skate \n\n\nFriday\, Nov 28: Black Friday Cosmic Skates and Family Sessions 🎶 \n\n\nSaturday & Sunday: Minion Glow Skate\, Public Skates\, and all-day fun for every age! \n\n\n🎟️ Admission starting at $10 | Skate Rental Extra \nKick off the holidays on wheels — bring your crew and roll into Thanksgiving break at Skateland Mesa!
URL:https://www.unitedskates.com/skateland-mesa/event/%f0%9f%a6%83-thanksgiving-break-skates-at-skateland-mesa-%f0%9f%8e%89/
LOCATION:AZ
CATEGORIES:Family Events,Public Skates,Special Events
ATTACH;FMTTYPE=image/jpeg:https://unitedskates-assets.sfo3.digitaloceanspaces.com/wp-content/uploads/sites/20/2025/11/50-thanksgivingbreak-2025.jpg
END:VEVENT
BEGIN:VEVENT
DTSTART;TZID=America/Phoenix:20251129T100000
DTEND;TZID=America/Phoenix:20251129T123000
DTSTAMP:20260419T105055
CREATED:20250109T024145Z
LAST-MODIFIED:20260330T205141Z
UID:21487-1764410400-1764419400@www.unitedskates.com
SUMMARY:Saturday Public Skate
DESCRIPTION:$12 admission \n$5 Skate Rental \n$4 Non-skating adult \nWrist-guards are Mandatory and Free of Charge. \nNo Outside Food or Drinks.
URL:https://www.unitedskates.com/skateland-mesa/event/saturday-public-skate/2025-11-29/
LOCATION:AZ
CATEGORIES:Family Events,Public Skates
ATTACH;FMTTYPE=image/jpeg:https://unitedskates-assets.sfo3.digitaloceanspaces.com/wp-content/uploads/sites/20/2025/01/Public-Skate-1200x1200-v3.jpg
END:VEVENT
BEGIN:VEVENT
DTSTART;TZID=America/Phoenix:20251129T130000
DTEND;TZID=America/Phoenix:20251129T153000
DTSTAMP:20260419T105055
CREATED:20220504T032242Z
LAST-MODIFIED:20251015T224735Z
UID:21368-1764421200-1764430200@www.unitedskates.com
SUMMARY:🕷️ Spidey & Friends Ice Cream Party! 🍦
DESCRIPTION:Swing into sweetness at Skateland Mesa! 🍦🛼 Meet Spidey and his amazing friends\, enjoy delicious ice cream treats\, and have a web-slinging good time on the rink. Bring your superhero energy and get ready for a fun-filled\, tasty adventure! 🌟🕸️ \n$12 Admission$5 Skate Rental$4 Non-skating adults \n\n\n\n\n\nWrist guards are mandatory for all skaters regardless of age or experience. Wrist guards are free of charge at our skate counter.  \nNo Outside Food or Drink. 
URL:https://www.unitedskates.com/skateland-mesa/event/public-skate-3-2025-11-29/
LOCATION:Skateland Mesa\, 7 E. Southern Ave.\, Mesa\, AZ\, 85210\, United States
CATEGORIES:Family Events,Public Skates,Special Events
ATTACH;FMTTYPE=image/png:https://unitedskates-assets.sfo3.digitaloceanspaces.com/wp-content/uploads/sites/20/2025/01/Spidey-Ice-Cream-11-29.png
END:VEVENT
BEGIN:VEVENT
DTSTART;TZID=America/Phoenix:20251129T160000
DTEND;TZID=America/Phoenix:20251129T183000
DTSTAMP:20260419T105055
CREATED:20250109T020131Z
LAST-MODIFIED:20250109T020131Z
UID:24997-1764432000-1764441000@www.unitedskates.com
SUMMARY:Glow Skate
DESCRIPTION:$13 admission \n$5 Skate Rental \n$4 Non- Skating adult \n**Wrist-guards Mandatory and Free of Charge \nNo outside food or drinks
URL:https://www.unitedskates.com/skateland-mesa/event/glow-skate-4-2025-10-25-2025-11-29/
LOCATION:AZ
CATEGORIES:Family Events,Public Skates,Special Events
ATTACH;FMTTYPE=image/png:https://unitedskates-assets.sfo3.digitaloceanspaces.com/wp-content/uploads/sites/20/2025/01/Saturday-Night-GLOW-SKATE.png
END:VEVENT
BEGIN:VEVENT
DTSTART;TZID=America/Phoenix:20251129T190000
DTEND;TZID=America/Phoenix:20251129T213000
DTSTAMP:20260419T105055
CREATED:20240430T212919Z
LAST-MODIFIED:20240430T212919Z
UID:24509-1764442800-1764451800@www.unitedskates.com
SUMMARY:Family Jam Skate
DESCRIPTION:🛼 Family Jam Skate Night! 🛼Bring the whole crew for a night of skating\, music\, and endless fun!Family fun\, skate style! 💥👨‍👩‍👧‍👦 \n$14.00 Admission all children and skating adults.\n$4.00 Non-Skating Adults\n$5 skate/rollerblade rental \nWrist guards are free and required regardless of age or skating experience – pick them up at the skate counter. \nNo Outside Food Or Drinks. \nGuests 17 years of age and younger must be accompanied by a chaperone 23 years of age or older unless they own their own pair of skates\n 
URL:https://www.unitedskates.com/skateland-mesa/event/saturday-glow-skate-4-2024-08-03/2025-11-29/
LOCATION:Skateland Mesa\, 7 E. Southern Ave.\, Mesa\, AZ\, 85210\, United States
CATEGORIES:Family Events,Public Skates
ATTACH;FMTTYPE=image/jpeg:https://unitedskates-assets.sfo3.digitaloceanspaces.com/wp-content/uploads/sites/20/2022/05/Glow-Skate-1200x900-1.jpg
END:VEVENT
END:VCALENDAR