BEGIN:VCALENDAR
VERSION:2.0
PRODID:-//Rink 50 - Skateland Mesa - ECPv6.15.20//NONSGML v1.0//EN
CALSCALE:GREGORIAN
METHOD:PUBLISH
X-WR-CALNAME:Rink 50 - Skateland Mesa
X-ORIGINAL-URL:https://www.unitedskates.com/skateland-mesa
X-WR-CALDESC:Events for Rink 50 - Skateland Mesa
REFRESH-INTERVAL;VALUE=DURATION:PT1H
X-Robots-Tag:noindex
X-PUBLISHED-TTL:PT1H
BEGIN:VTIMEZONE
TZID:America/Phoenix
BEGIN:STANDARD
TZOFFSETFROM:-0700
TZOFFSETTO:-0700
TZNAME:MST
DTSTART:20240101T000000
END:STANDARD
END:VTIMEZONE
BEGIN:VEVENT
DTSTART;TZID=America/Phoenix:20251125T180000
DTEND;TZID=America/Phoenix:20251125T203000
DTSTAMP:20260419T073114
CREATED:20251015T225118Z
LAST-MODIFIED:20251015T225118Z
UID:25051-1764093600-1764102600@www.unitedskates.com
SUMMARY:🔦 Stranger Things Hawkins Roller Rewind 🔦
DESCRIPTION:Step back into the ’80s at Skateland Mesa! 🛼🎶\nSkate to classic hits\, relive the thrills of Stranger Things\, and experience the Upside Down in a fun\, family-friendly way.\nDress in your Hawkins best and get ready for a night of nostalgia\, mystery\, and totally rad skating! ⚡👾 \n$11 Admission\n$5 Skate Rental\n$$ Spectators \nWristguards required for all skaters and are available free of  charge. \n**No free passes**
URL:https://www.unitedskates.com/skateland-mesa/event/%f0%9f%94%a6-stranger-things-hawkins-roller-rewind-%f0%9f%94%a6/
LOCATION:AZ
CATEGORIES:Family Events,Public Skates,Special Events
ATTACH;FMTTYPE=image/png:https://unitedskates-assets.sfo3.digitaloceanspaces.com/wp-content/uploads/sites/20/2025/01/Stranger-Things-11-25.png
END:VEVENT
BEGIN:VEVENT
DTSTART;TZID=America/Phoenix:20251125T180000
DTEND;TZID=America/Phoenix:20251130T203000
DTSTAMP:20260419T073114
CREATED:20251110T161239Z
LAST-MODIFIED:20251110T161239Z
UID:25274-1764093600-1764534600@www.unitedskates.com
SUMMARY:🦃 Thanksgiving Break Skates at Skateland Mesa! 🎉
DESCRIPTION:School’s out and the fun is on wheels at Skateland Mesa! 🛼Join us all week long for Thanksgiving Break Skates filled with themed sessions\, family fun\, and holiday excitement! \n✨ Event Highlights: \n\n\nTuesday\, Nov 25: Stranger Things Skate — Relive your favorite moments from the hit show! \n\n\nWednesday\, Nov 26: Thanksgiving Dance Skate with Stitch + Cosmic Glow Skate 🌌 \n\n\nThursday\, Nov 27: Stoke Your Turkey Off and Virtual DJ R&B Skate \n\n\nFriday\, Nov 28: Black Friday Cosmic Skates and Family Sessions 🎶 \n\n\nSaturday & Sunday: Minion Glow Skate\, Public Skates\, and all-day fun for every age! \n\n\n🎟️ Admission starting at $10 | Skate Rental Extra \nKick off the holidays on wheels — bring your crew and roll into Thanksgiving break at Skateland Mesa!
URL:https://www.unitedskates.com/skateland-mesa/event/%f0%9f%a6%83-thanksgiving-break-skates-at-skateland-mesa-%f0%9f%8e%89/
LOCATION:AZ
CATEGORIES:Family Events,Public Skates,Special Events
ATTACH;FMTTYPE=image/jpeg:https://unitedskates-assets.sfo3.digitaloceanspaces.com/wp-content/uploads/sites/20/2025/11/50-thanksgivingbreak-2025.jpg
END:VEVENT
END:VCALENDAR