BEGIN:VCALENDAR
VERSION:2.0
PRODID:-//Rink 50 - Skateland Mesa - ECPv6.15.20//NONSGML v1.0//EN
CALSCALE:GREGORIAN
METHOD:PUBLISH
X-WR-CALNAME:Rink 50 - Skateland Mesa
X-ORIGINAL-URL:https://www.unitedskates.com/skateland-mesa
X-WR-CALDESC:Events for Rink 50 - Skateland Mesa
REFRESH-INTERVAL;VALUE=DURATION:PT1H
X-Robots-Tag:noindex
X-PUBLISHED-TTL:PT1H
BEGIN:VTIMEZONE
TZID:America/Phoenix
BEGIN:STANDARD
TZOFFSETFROM:-0700
TZOFFSETTO:-0700
TZNAME:MST
DTSTART:20240101T000000
END:STANDARD
END:VTIMEZONE
BEGIN:VEVENT
DTSTART;TZID=America/Phoenix:20251122T100000
DTEND;TZID=America/Phoenix:20251122T123000
DTSTAMP:20260419T073103
CREATED:20250109T024145Z
LAST-MODIFIED:20251015T223140Z
UID:21486-1763805600-1763814600@www.unitedskates.com
SUMMARY:🩵 Waffles with Stitch & Angel! 💖
DESCRIPTION:Start your day the ohana way at Skateland Mesa! 🌺\nEnjoy a delicious waffle breakfast\, then skate and play with Stitch and Angel! 🧇🛼\nIt’s a morning full of laughter\, hugs\, and Hawaiian fun—perfect for the whole family! 🌈✨ \n$12 Admission\n$5 Skate Rental\n$4 Non-skating adult \nWrist-guards are Mandatory and Free of Charge. \nNo Outside Food or Drinks.
URL:https://www.unitedskates.com/skateland-mesa/event/saturday-public-skate-2025-11-22/
LOCATION:AZ
CATEGORIES:Family Events,Public Skates,Special Events
ATTACH;FMTTYPE=image/png:https://unitedskates-assets.sfo3.digitaloceanspaces.com/wp-content/uploads/sites/20/2025/01/Waffle-w-stitch-n-angel-11-22.png
END:VEVENT
BEGIN:VEVENT
DTSTART;TZID=America/Phoenix:20251122T130000
DTEND;TZID=America/Phoenix:20251122T153000
DTSTAMP:20260419T073103
CREATED:20220504T032242Z
LAST-MODIFIED:20260330T205503Z
UID:21367-1763816400-1763825400@www.unitedskates.com
SUMMARY:Saturday Public Skate
DESCRIPTION:$12 Admission \n\n\n\n$5 Skate Rental \n$4 Non-skating adults \n\n\n\nWrist guards are mandatory for all skaters regardless of age or experience. Wrist guards are free of charge at our skate counter.  \nNo Outside Food or Drink. 
URL:https://www.unitedskates.com/skateland-mesa/event/public-skate-3/2025-11-22/
LOCATION:Skateland Mesa\, 7 E. Southern Ave.\, Mesa\, AZ\, 85210\, United States
CATEGORIES:Family Events,Public Skates
ATTACH;FMTTYPE=image/jpeg:https://unitedskates-assets.sfo3.digitaloceanspaces.com/wp-content/uploads/sites/20/2022/05/Public-Skate-1200x900-1.jpg
END:VEVENT
BEGIN:VEVENT
DTSTART;TZID=America/Phoenix:20251122T160000
DTEND;TZID=America/Phoenix:20251122T183000
DTSTAMP:20260419T073103
CREATED:20250109T020131Z
LAST-MODIFIED:20251020T172939Z
UID:24996-1763827200-1763836200@www.unitedskates.com
SUMMARY:🔦 Stranger Things Skate Night! 🔦
DESCRIPTION:Step into the Upside Down at Skateland Mesa! 🛼🎶\nSkate to the best hits of the ’80s\, hang out under eerie lights\, and enjoy a night packed with Stranger Things vibes.\nDress in your best Hawkins gear and get ready for a totally strange—and totally awesome—skate night! ⚡👾 \n$13 admission\n$5 Skate Rental\n$4 Non- Skating adult \n**Wrist-guards Mandatory and Free of Charge \nNo outside food or drinks
URL:https://www.unitedskates.com/skateland-mesa/event/glow-skate-4-2025-10-25-2025-11-22/
LOCATION:AZ
CATEGORIES:Family Events,Public Skates,Special Events
ATTACH;FMTTYPE=image/png:https://unitedskates-assets.sfo3.digitaloceanspaces.com/wp-content/uploads/sites/20/2025/01/Stanger-Things-11-22.png
END:VEVENT
BEGIN:VEVENT
DTSTART;TZID=America/Phoenix:20251122T190000
DTEND;TZID=America/Phoenix:20251122T213000
DTSTAMP:20260419T073103
CREATED:20240430T212919Z
LAST-MODIFIED:20240430T212919Z
UID:24508-1763838000-1763847000@www.unitedskates.com
SUMMARY:Family Jam Skate
DESCRIPTION:🛼 Family Jam Skate Night! 🛼Bring the whole crew for a night of skating\, music\, and endless fun!Family fun\, skate style! 💥👨‍👩‍👧‍👦 \n$14.00 Admission all children and skating adults.\n$4.00 Non-Skating Adults\n$5 skate/rollerblade rental \nWrist guards are free and required regardless of age or skating experience – pick them up at the skate counter. \nNo Outside Food Or Drinks. \nGuests 17 years of age and younger must be accompanied by a chaperone 23 years of age or older unless they own their own pair of skates\n 
URL:https://www.unitedskates.com/skateland-mesa/event/saturday-glow-skate-4-2024-08-03/2025-11-22/
LOCATION:Skateland Mesa\, 7 E. Southern Ave.\, Mesa\, AZ\, 85210\, United States
CATEGORIES:Family Events,Public Skates
ATTACH;FMTTYPE=image/jpeg:https://unitedskates-assets.sfo3.digitaloceanspaces.com/wp-content/uploads/sites/20/2022/05/Glow-Skate-1200x900-1.jpg
END:VEVENT
END:VCALENDAR