BEGIN:VCALENDAR
VERSION:2.0
PRODID:-//Rink 50 - Skateland Mesa - ECPv6.15.20//NONSGML v1.0//EN
CALSCALE:GREGORIAN
METHOD:PUBLISH
X-ORIGINAL-URL:https://www.unitedskates.com/skateland-mesa
X-WR-CALDESC:Events for Rink 50 - Skateland Mesa
REFRESH-INTERVAL;VALUE=DURATION:PT1H
X-Robots-Tag:noindex
X-PUBLISHED-TTL:PT1H
BEGIN:VTIMEZONE
TZID:America/Phoenix
BEGIN:STANDARD
TZOFFSETFROM:-0700
TZOFFSETTO:-0700
TZNAME:MST
DTSTART:20240101T000000
END:STANDARD
END:VTIMEZONE
BEGIN:VEVENT
DTSTART;TZID=America/Phoenix:20251120T173000
DTEND;TZID=America/Phoenix:20251120T200000
DTSTAMP:20260419T060317
CREATED:20251110T070446Z
LAST-MODIFIED:20251110T070446Z
UID:25266-1763659800-1763668800@www.unitedskates.com
SUMMARY:Pop Icon Skate
DESCRIPTION:Come Listen to Your Favorite Pop Icon! \nHelp Your Community  with Two Boxed/ Canned Food Receive Half Off Admission! \nBring Your Family & Friends for an Iconic Night! \n$8 Admission \n$5 Skate Rental \n$4 Non-skating Adults \n**No Outside Food or Drinks** \n**Wristguards are Mandatory. Free of Charge.**
URL:https://www.unitedskates.com/skateland-mesa/event/pop-icon-skate/
LOCATION:AZ
CATEGORIES:Family Events,Public Skates,Special Events
ATTACH;FMTTYPE=image/png:https://unitedskates-assets.sfo3.digitaloceanspaces.com/wp-content/uploads/sites/20/2025/11/Pop-Icon-112025.png
END:VEVENT
END:VCALENDAR