BEGIN:VCALENDAR
VERSION:2.0
PRODID:-//Rink 50 - Skateland Mesa - ECPv6.15.20//NONSGML v1.0//EN
CALSCALE:GREGORIAN
METHOD:PUBLISH
X-WR-CALNAME:Rink 50 - Skateland Mesa
X-ORIGINAL-URL:https://www.unitedskates.com/skateland-mesa
X-WR-CALDESC:Events for Rink 50 - Skateland Mesa
REFRESH-INTERVAL;VALUE=DURATION:PT1H
X-Robots-Tag:noindex
X-PUBLISHED-TTL:PT1H
BEGIN:VTIMEZONE
TZID:America/Phoenix
BEGIN:STANDARD
TZOFFSETFROM:-0700
TZOFFSETTO:-0700
TZNAME:MST
DTSTART:20240101T000000
END:STANDARD
END:VTIMEZONE
BEGIN:VEVENT
DTSTART;TZID=America/Phoenix:20251109T120000
DTEND;TZID=America/Phoenix:20251109T143000
DTSTAMP:20260419T123230
CREATED:20250310T175712Z
LAST-MODIFIED:20260330T205826Z
UID:23047-1762689600-1762698600@www.unitedskates.com
SUMMARY:Public Skating
DESCRIPTION:Come Join Us and Listen to Your Favorite top 40 music! \n$12 admission \n$5 Skate rental \n$4 Non-skating adults
URL:https://www.unitedskates.com/skateland-mesa/event/public-skating-4/2025-11-09/
LOCATION:AZ
CATEGORIES:Family Events,Public Skates
ATTACH;FMTTYPE=image/jpeg:https://unitedskates-assets.sfo3.digitaloceanspaces.com/wp-content/uploads/sites/20/2022/05/Public-Skate-1200x900-1.jpg
END:VEVENT
BEGIN:VEVENT
DTSTART;TZID=America/Phoenix:20251109T150000
DTEND;TZID=America/Phoenix:20251109T173000
DTSTAMP:20260419T123230
CREATED:20250109T015702Z
LAST-MODIFIED:20251015T222028Z
UID:21056-1762700400-1762709400@www.unitedskates.com
SUMMARY:🌊 SpongeBob Glow Skate💛
DESCRIPTION:Are you ready\, kids?! 🧽✨ Dive into an underwater glow party at Skateland Mesa with SpongeBob SquarePants and Patrick Star!\nSkate under the black lights\, dance to fun ocean vibes\, and soak up the neon glow.\nWear your brightest colors and get ready for a bubbly good time! 🛼💛 \n$12 Admission\n$5 Skate Rental\n$4 Non-Skating adult \n**Wrist guards are mandatory for all skaters and are available free of charge. \n**No free passes**
URL:https://www.unitedskates.com/skateland-mesa/event/public-skate-22-2025-11-09/
LOCATION:Skateland Mesa\, 7 E. Southern Ave.\, Mesa\, AZ\, 85210\, United States
CATEGORIES:Family Events,Public Skates,Special Events
ATTACH;FMTTYPE=image/png:https://unitedskates-assets.sfo3.digitaloceanspaces.com/wp-content/uploads/sites/20/2025/01/Spongebob-11-9.png
END:VEVENT
END:VCALENDAR