BEGIN:VCALENDAR
VERSION:2.0
PRODID:-//Rink 50 - Skateland Mesa - ECPv6.15.20//NONSGML v1.0//EN
CALSCALE:GREGORIAN
METHOD:PUBLISH
X-WR-CALNAME:Rink 50 - Skateland Mesa
X-ORIGINAL-URL:https://www.unitedskates.com/skateland-mesa
X-WR-CALDESC:Events for Rink 50 - Skateland Mesa
REFRESH-INTERVAL;VALUE=DURATION:PT1H
X-Robots-Tag:noindex
X-PUBLISHED-TTL:PT1H
BEGIN:VTIMEZONE
TZID:America/Phoenix
BEGIN:STANDARD
TZOFFSETFROM:-0700
TZOFFSETTO:-0700
TZNAME:MST
DTSTART:20240101T000000
END:STANDARD
END:VTIMEZONE
BEGIN:VEVENT
DTSTART;TZID=America/Phoenix:20251102T120000
DTEND;TZID=America/Phoenix:20251102T143000
DTSTAMP:20260419T090551
CREATED:20250310T175712Z
LAST-MODIFIED:20251015T014014Z
UID:23046-1762084800-1762093800@www.unitedskates.com
SUMMARY:KPop Demon Hunters Sing Along Skate
DESCRIPTION:Ready to slay the night? 😈🎤 \nLace up your skates and join the hunt at our K-Pop Demon Hunters Sing-Along Skating Session! We’re turning up the best high-energy K-Pop tracks for a night of skating and singing your heart out. \nPrices: \n\nAdmission: $12\nSkate Rental: $5\nSpectators: $4\n\nCome show off your moves (and your vocals)! ✨🛼
URL:https://www.unitedskates.com/skateland-mesa/event/public-skating-4-2025-11-02/
LOCATION:AZ
CATEGORIES:Family Events,Public Skates,Special Events
ATTACH;FMTTYPE=image/png:https://unitedskates-assets.sfo3.digitaloceanspaces.com/wp-content/uploads/sites/20/2025/01/Kpop-sing-along-11-2.png
END:VEVENT
BEGIN:VEVENT
DTSTART;TZID=America/Phoenix:20251102T150000
DTEND;TZID=America/Phoenix:20251102T173000
DTSTAMP:20260419T090551
CREATED:20250109T015702Z
LAST-MODIFIED:20251020T170050Z
UID:21055-1762095600-1762104600@www.unitedskates.com
SUMMARY:Glow in the Dark Stitch Skate💙
DESCRIPTION:Stitch fans\, assemble! 💙👽 \nGet ready to experiment with a night of fun at our Stitch Glow-in-the-Dark Skate! We’re bringing the aloha spirit and turning down the lights for a session of glowing\, out-of-this-world skating. \nAdmission: $12\nSkate Rental: $5\nSpectators: $4 \nDon’t be a pudge—come glow with us! 🌟⛸️
URL:https://www.unitedskates.com/skateland-mesa/event/public-skate-22-2025-11-02/
LOCATION:Skateland Mesa\, 7 E. Southern Ave.\, Mesa\, AZ\, 85210\, United States
CATEGORIES:Family Events,Public Skates,Special Events
ATTACH;FMTTYPE=image/png:https://unitedskates-assets.sfo3.digitaloceanspaces.com/wp-content/uploads/sites/20/2025/01/Stitch-Glow.png
END:VEVENT
END:VCALENDAR