BEGIN:VCALENDAR
VERSION:2.0
PRODID:-//Rink 50 - Skateland Mesa - ECPv6.15.20//NONSGML v1.0//EN
CALSCALE:GREGORIAN
METHOD:PUBLISH
X-ORIGINAL-URL:https://www.unitedskates.com/skateland-mesa
X-WR-CALDESC:Events for Rink 50 - Skateland Mesa
REFRESH-INTERVAL;VALUE=DURATION:PT1H
X-Robots-Tag:noindex
X-PUBLISHED-TTL:PT1H
BEGIN:VTIMEZONE
TZID:America/Phoenix
BEGIN:STANDARD
TZOFFSETFROM:-0700
TZOFFSETTO:-0700
TZNAME:MST
DTSTART:20240101T000000
END:STANDARD
END:VTIMEZONE
BEGIN:VEVENT
DTSTART;TZID=America/Phoenix:20251101T100000
DTEND;TZID=America/Phoenix:20251101T123000
DTSTAMP:20260419T113256
CREATED:20250109T024145Z
LAST-MODIFIED:20251015T012935Z
UID:21483-1761991200-1762000200@www.unitedskates.com
SUMMARY:🧇Waffles with Hello Kitty🎀✨
DESCRIPTION:Get ready to glide and grub! 🎀🧇 \nJoin us for a super sweet Waffles with Hello Kitty! Celebrate Hello Kitty’s birthday with a spin on the rink and a trip to our delicious waffle bar (included with admission!). \nPrices: \n\nAdmission: $12 (Includes entry and a trip to the waffle bar!)\nSkate Rental: $5\nSpectators: $4 (Just watching? No problem!)\n\nDon’t miss this adorable\, yummy\, and fun celebration! See you on the rink! ⛸️🎂
URL:https://www.unitedskates.com/skateland-mesa/event/saturday-public-skate-2025-11-01/
LOCATION:AZ
CATEGORIES:Family Events,Public Skates,Special Events
ATTACH;FMTTYPE=image/png:https://unitedskates-assets.sfo3.digitaloceanspaces.com/wp-content/uploads/sites/20/2025/01/waffles-with-hello-kitty.png
END:VEVENT
BEGIN:VEVENT
DTSTART;TZID=America/Phoenix:20251101T130000
DTEND;TZID=America/Phoenix:20251101T153000
DTSTAMP:20260419T113256
CREATED:20220504T032242Z
LAST-MODIFIED:20260330T205502Z
UID:21364-1762002000-1762011000@www.unitedskates.com
SUMMARY:Saturday Public Skate
DESCRIPTION:$12 Admission \n\n\n\n$5 Skate Rental \n$4 Non-skating adults \n\n\n\nWrist guards are mandatory for all skaters regardless of age or experience. Wrist guards are free of charge at our skate counter.  \nNo Outside Food or Drink. 
URL:https://www.unitedskates.com/skateland-mesa/event/public-skate-3/2025-11-01/
LOCATION:Skateland Mesa\, 7 E. Southern Ave.\, Mesa\, AZ\, 85210\, United States
CATEGORIES:Family Events,Public Skates
ATTACH;FMTTYPE=image/jpeg:https://unitedskates-assets.sfo3.digitaloceanspaces.com/wp-content/uploads/sites/20/2022/05/Public-Skate-1200x900-1.jpg
END:VEVENT
BEGIN:VEVENT
DTSTART;TZID=America/Phoenix:20251101T160000
DTEND;TZID=America/Phoenix:20251101T183000
DTSTAMP:20260419T113256
CREATED:20250109T020131Z
LAST-MODIFIED:20250109T020131Z
UID:24993-1762012800-1762021800@www.unitedskates.com
SUMMARY:Glow Skate
DESCRIPTION:$13 admission \n$5 Skate Rental \n$4 Non- Skating adult \n**Wrist-guards Mandatory and Free of Charge \nNo outside food or drinks
URL:https://www.unitedskates.com/skateland-mesa/event/glow-skate-4-2025-10-25-2025-11-01/
LOCATION:AZ
CATEGORIES:Family Events,Public Skates,Special Events
ATTACH;FMTTYPE=image/png:https://unitedskates-assets.sfo3.digitaloceanspaces.com/wp-content/uploads/sites/20/2025/01/Saturday-Night-GLOW-SKATE.png
END:VEVENT
BEGIN:VEVENT
DTSTART;TZID=America/Phoenix:20251101T160000
DTEND;TZID=America/Phoenix:20251101T183000
DTSTAMP:20260419T113256
CREATED:20251015T013325Z
LAST-MODIFIED:20251015T014020Z
UID:24918-1762012800-1762021800@www.unitedskates.com
SUMMARY:🎀✨Hello Kitty's Glow Roll
DESCRIPTION:Get ready to GLOW and roll! ✨🎀 \nJoin us for a dazzling Hello Kitty Glow Skate to celebrate Hello Kitty’s birthday in the brightest way possible! We’re turning down the lights and turning up the fun for a truly illuminating skating session. \nAdmission is just $13—come light up the night with us! 🎂🛼\n$5 Skate Rental\n$4 Spectators
URL:https://www.unitedskates.com/skateland-mesa/event/hello-kittys-glow-roll/
LOCATION:AZ
CATEGORIES:Family Events,Public Skates,Special Events
ATTACH;FMTTYPE=image/png:https://unitedskates-assets.sfo3.digitaloceanspaces.com/wp-content/uploads/sites/20/2025/01/Hello-kitty-birthday-skate.png
END:VEVENT
BEGIN:VEVENT
DTSTART;TZID=America/Phoenix:20251101T190000
DTEND;TZID=America/Phoenix:20251101T213000
DTSTAMP:20260419T113256
CREATED:20240430T212919Z
LAST-MODIFIED:20240430T212919Z
UID:24505-1762023600-1762032600@www.unitedskates.com
SUMMARY:Family Jam Skate
DESCRIPTION:🛼 Family Jam Skate Night! 🛼Bring the whole crew for a night of skating\, music\, and endless fun!Family fun\, skate style! 💥👨‍👩‍👧‍👦 \n$14.00 Admission all children and skating adults.\n$4.00 Non-Skating Adults\n$5 skate/rollerblade rental \nWrist guards are free and required regardless of age or skating experience – pick them up at the skate counter. \nNo Outside Food Or Drinks. \nGuests 17 years of age and younger must be accompanied by a chaperone 23 years of age or older unless they own their own pair of skates\n 
URL:https://www.unitedskates.com/skateland-mesa/event/saturday-glow-skate-4-2024-08-03/2025-11-01/
LOCATION:Skateland Mesa\, 7 E. Southern Ave.\, Mesa\, AZ\, 85210\, United States
CATEGORIES:Family Events,Public Skates
ATTACH;FMTTYPE=image/jpeg:https://unitedskates-assets.sfo3.digitaloceanspaces.com/wp-content/uploads/sites/20/2022/05/Glow-Skate-1200x900-1.jpg
END:VEVENT
END:VCALENDAR