BEGIN:VCALENDAR
VERSION:2.0
PRODID:-//Rink 50 - Skateland Mesa - ECPv6.15.20//NONSGML v1.0//EN
CALSCALE:GREGORIAN
METHOD:PUBLISH
X-ORIGINAL-URL:https://www.unitedskates.com/skateland-mesa
X-WR-CALDESC:Events for Rink 50 - Skateland Mesa
REFRESH-INTERVAL;VALUE=DURATION:PT1H
X-Robots-Tag:noindex
X-PUBLISHED-TTL:PT1H
BEGIN:VTIMEZONE
TZID:America/Phoenix
BEGIN:STANDARD
TZOFFSETFROM:-0700
TZOFFSETTO:-0700
TZNAME:MST
DTSTART:20240101T000000
END:STANDARD
END:VTIMEZONE
BEGIN:VEVENT
DTSTART;TZID=America/Phoenix:20251031T170000
DTEND;TZID=America/Phoenix:20251031T200000
DTSTAMP:20260419T105045
CREATED:20250827T223959Z
LAST-MODIFIED:20251015T213147Z
UID:24541-1761930000-1761940800@www.unitedskates.com
SUMMARY:Hallelujah Skate Night
DESCRIPTION:🎉✨ Join us for Hallelujah Skate Night! 🛼🎶📅 Friday\, October 31st⏰ 5:00pm – 8:00pm \nSpinning the best 🎵 Christian & Gospel music ALL session long! 🙌 \n🎟️ $15 Admission includes:🛼 Skate Rental🍕 Unlimited Cheese Pizza \n👨‍👩‍👧 Non-skating adults: $10. \n👉🏼Purchase Tickets here!👈🏼 \n‼️ No costumes or masks. \nCome celebrate\, skate\, and fellowship with us! 💜 \n👉 Church & Group reservations get reserved tables! Call 📞 480-833-7775 or email 📧 skatelandassistant@gmail.com to save your spot.
URL:https://www.unitedskates.com/skateland-mesa/event/hallelujah-skate-night/
LOCATION:AZ
CATEGORIES:Family Events,Public Skates,Special Events
ATTACH;FMTTYPE=image/png:https://unitedskates-assets.sfo3.digitaloceanspaces.com/wp-content/uploads/sites/20/2025/08/Hallelujah-Skate.png
END:VEVENT
END:VCALENDAR