BEGIN:VCALENDAR
VERSION:2.0
PRODID:-//Rink 50 - Skateland Mesa - ECPv6.15.20//NONSGML v1.0//EN
CALSCALE:GREGORIAN
METHOD:PUBLISH
X-ORIGINAL-URL:https://www.unitedskates.com/skateland-mesa
X-WR-CALDESC:Events for Rink 50 - Skateland Mesa
REFRESH-INTERVAL;VALUE=DURATION:PT1H
X-Robots-Tag:noindex
X-PUBLISHED-TTL:PT1H
BEGIN:VTIMEZONE
TZID:America/Phoenix
BEGIN:STANDARD
TZOFFSETFROM:-0700
TZOFFSETTO:-0700
TZNAME:MST
DTSTART:20240101T000000
END:STANDARD
END:VTIMEZONE
BEGIN:VEVENT
DTSTART;TZID=America/Phoenix:20251019T120000
DTEND;TZID=America/Phoenix:20251019T143000
DTSTAMP:20260421T140936
CREATED:20250310T175712Z
LAST-MODIFIED:20260330T205825Z
UID:23044-1760875200-1760884200@www.unitedskates.com
SUMMARY:Public Skating
DESCRIPTION:Come Join Us and Listen to Your Favorite top 40 music! \n$12 admission \n$5 Skate rental \n$4 Non-skating adults
URL:https://www.unitedskates.com/skateland-mesa/event/public-skating-4/2025-10-19/
LOCATION:AZ
CATEGORIES:Family Events,Public Skates
ATTACH;FMTTYPE=image/jpeg:https://unitedskates-assets.sfo3.digitaloceanspaces.com/wp-content/uploads/sites/20/2022/05/Public-Skate-1200x900-1.jpg
END:VEVENT
BEGIN:VEVENT
DTSTART;TZID=America/Phoenix:20251019T150000
DTEND;TZID=America/Phoenix:20251019T173000
DTSTAMP:20260421T140936
CREATED:20250820T011248Z
LAST-MODIFIED:20250820T011248Z
UID:24353-1760886000-1760895000@www.unitedskates.com
SUMMARY:Monster Mash Glow Bash
DESCRIPTION:Come Join our Friendly Monsters for a Glow Skate! \nTrick or Treat Around the Rink! \nJoin Our Mummy Wrapping Contest With Your Friend to WIN a Spooky Big PRIZE! \n$12 Admission include Trick or Treat Passport \n$5 Skate rental \n$5 Non-Skating Adult
URL:https://www.unitedskates.com/skateland-mesa/event/monster-mash-glow-bash-2/
LOCATION:AZ
CATEGORIES:Family Events,Public Skates,Special Events
ATTACH;FMTTYPE=image/png:https://unitedskates-assets.sfo3.digitaloceanspaces.com/wp-content/uploads/sites/20/2025/08/Join-us-Sunday-October-19th-300PM-530PM.png
END:VEVENT
END:VCALENDAR