BEGIN:VCALENDAR
VERSION:2.0
PRODID:-//Rink 50 - Skateland Mesa - ECPv6.15.20//NONSGML v1.0//EN
CALSCALE:GREGORIAN
METHOD:PUBLISH
X-ORIGINAL-URL:https://www.unitedskates.com/skateland-mesa
X-WR-CALDESC:Events for Rink 50 - Skateland Mesa
REFRESH-INTERVAL;VALUE=DURATION:PT1H
X-Robots-Tag:noindex
X-PUBLISHED-TTL:PT1H
BEGIN:VTIMEZONE
TZID:America/Phoenix
BEGIN:STANDARD
TZOFFSETFROM:-0700
TZOFFSETTO:-0700
TZNAME:MST
DTSTART:20240101T000000
END:STANDARD
END:VTIMEZONE
BEGIN:VEVENT
DTSTART;TZID=America/Phoenix:20251017T180000
DTEND;TZID=America/Phoenix:20251017T210000
DTSTAMP:20260420T170649
CREATED:20250108T193748Z
LAST-MODIFIED:20251014T225856Z
UID:21202-1760724000-1760734800@www.unitedskates.com
SUMMARY:Kpop Demon Hunters Skate
DESCRIPTION:🎶👹🛼 K-Pop Demon Hunters Skate Night 🛼👹🎶Step into the spotlight and roll into an epic night of skating\, beats\, and glowing lights!\nWe’re blending the energy of K-Pop with the thrill of demon-hunting vibes for a one-of-a-kind skate party you won’t forget. 🎤✨ \n🎟️Purchase Tickets Here! \n👉 Admission: $14👉 Skate Rental: $5👉 Spectating Adults: $4 \nGrab your crew\, hit the floor\, and let the music take over — it’s time to slay the night in style! 💜🔥 \n 
URL:https://www.unitedskates.com/skateland-mesa/event/friday-night-glow-skate-2025-10-17/
LOCATION:AZ
CATEGORIES:Family Events,Public Skates,Special Events
ATTACH;FMTTYPE=image/png:https://unitedskates-assets.sfo3.digitaloceanspaces.com/wp-content/uploads/sites/20/2025/01/Kpop-Demon-Huner-10-17.png
END:VEVENT
END:VCALENDAR