BEGIN:VCALENDAR
VERSION:2.0
PRODID:-//Rink 50 - Skateland Mesa - ECPv6.15.20//NONSGML v1.0//EN
CALSCALE:GREGORIAN
METHOD:PUBLISH
X-ORIGINAL-URL:https://www.unitedskates.com/skateland-mesa
X-WR-CALDESC:Events for Rink 50 - Skateland Mesa
REFRESH-INTERVAL;VALUE=DURATION:PT1H
X-Robots-Tag:noindex
X-PUBLISHED-TTL:PT1H
BEGIN:VTIMEZONE
TZID:America/Phoenix
BEGIN:STANDARD
TZOFFSETFROM:-0700
TZOFFSETTO:-0700
TZNAME:MST
DTSTART:20240101T000000
END:STANDARD
END:VTIMEZONE
BEGIN:VEVENT
DTSTART;TZID=America/Phoenix:20250926T180000
DTEND;TZID=America/Phoenix:20251013T210000
DTSTAMP:20260421T092354
CREATED:20250903T145555Z
LAST-MODIFIED:20250903T145555Z
UID:24625-1758909600-1760389200@www.unitedskates.com
SUMMARY:Fall Break Fun is Rolling into Skateland Mesa!
DESCRIPTION:🎟 Get your tickets online now ⬇️\nBUY TICKETS HERE – Skip The Line \nSchool’s out and the rink is OPEN with special skate sessions\, character meet & greets\, Glow Skates\, family nights\, and themed events EVERY day from September 26 – October 13! 🛼💫 \n⚡️ These sessions SELL OUT quickly – don’t wait!\n🎟 Buy your tickets online now to skip the line and guarantee your spot! \n👉 Here’s just a glimpse of the fun:\n⭐ Glow in the Dark Skates 🌟\n⭐ Character Skates with Stitch\, Ariel\, Mickey & Minnie\, Encanto & more!\n⭐ Affordable Family Fun Nights 👨‍👩‍👧‍👦\n⭐ All You Can Eat Pizza Nights 🍕\n⭐ Theme Nights like 80’s/90’s\, Monster Mash & Halloween specials 🎃 \n📍 Skateland Mesa – 7 E. Southern Ave\, Mesa\, AZ\n📅 Fall Break: Sept 26 – Oct 13\, 2025 \n✨ Don’t miss your chance to make this Fall Break unforgettable at Skateland Mesa!
URL:https://www.unitedskates.com/skateland-mesa/event/fall-break-fun-is-rolling-into-skateland-mesa/
LOCATION:Skateland Mesa\, 7 E. Southern Ave.\, Mesa\, AZ\, 85210\, United States
CATEGORIES:Family Events,Public Skates,Special Events
ATTACH;FMTTYPE=image/jpeg:https://unitedskates-assets.sfo3.digitaloceanspaces.com/wp-content/uploads/sites/20/2025/09/50-Fall-Break-2025.jpg
END:VEVENT
BEGIN:VEVENT
DTSTART;TZID=America/Phoenix:20251008T100000
DTEND;TZID=America/Phoenix:20251008T160000
DTSTAMP:20260421T092354
CREATED:20250926T211120Z
LAST-MODIFIED:20250930T001639Z
UID:24704-1759917600-1759939200@www.unitedskates.com
SUMMARY:🍂🛼 Fall Carnival Skate
DESCRIPTION:🎡🍂🛼 Fall Carnival Skate 🛼🍂🎡Roll into the magic of fall! Enjoy an evening of skating under the lights with carnival games\, face painting\, and your favorite carnival snacks.\nIt’s the perfect mix of festive fun\, good music\, and plenty of laughter for the whole family. \n👉 Admission: $11👉 Skate Rental: $5👉 Spectating Adults: $4 \n🍁✨ Skates\, smiles\, and carnival vibes — grab your friends and make it a night to remember! \nWristguards are required for all skaters and are available free of charge.
URL:https://www.unitedskates.com/skateland-mesa/event/public-skating-8-2025-10-08/
LOCATION:AZ
CATEGORIES:Family Events,Public Skates,Special Events
ATTACH;FMTTYPE=image/png:https://unitedskates-assets.sfo3.digitaloceanspaces.com/wp-content/uploads/sites/20/2025/09/FAll-Carnival-Day.png
END:VEVENT
BEGIN:VEVENT
DTSTART;TZID=America/Phoenix:20251008T180000
DTEND;TZID=America/Phoenix:20251008T203000
DTSTAMP:20260421T092354
CREATED:20250108T195544Z
LAST-MODIFIED:20250930T002245Z
UID:24442-1759946400-1759955400@www.unitedskates.com
SUMMARY:Meet the Minion - Affordable Family Fun Night
DESCRIPTION:👨‍👩‍👧‍👦🛼 Affordable Family Fun Night with the Minion 🛼🎉💛🛼🍌 Get ready to roll with the Minions! Join us for a Minion Skate Party packed with goofy fun\, silly vibes\, and plenty of skating adventures.|\nDon’t miss your chance to skate\, laugh\, and snap pics with your favorite little yellow troublemakers!💙💛 \n💲 Admission: Just $6.50 per person🎟️ Skate rentals available for $5\nSpectating Adults: $4 \nWhether you’re a beginner or a seasoned skater\, it’s the perfect way to spend an evening together 💖. Laughs\, laps\, and lasting memories await! 🌟🛼💫 \n**Wrist guards are mandatory for all skaters and available free of charge.
URL:https://www.unitedskates.com/skateland-mesa/event/affordable-family-fun-night-4-2025-05-28-2025-08-06-2025-10-08/
LOCATION:AZ
CATEGORIES:Family Events,Public Skates,Special Events
ATTACH;FMTTYPE=image/png:https://unitedskates-assets.sfo3.digitaloceanspaces.com/wp-content/uploads/sites/20/2025/01/Minion-Skate-affn.png
END:VEVENT
END:VCALENDAR