BEGIN:VCALENDAR
VERSION:2.0
PRODID:-//Rink 50 - Skateland Mesa - ECPv6.15.20//NONSGML v1.0//EN
CALSCALE:GREGORIAN
METHOD:PUBLISH
X-ORIGINAL-URL:https://www.unitedskates.com/skateland-mesa
X-WR-CALDESC:Events for Rink 50 - Skateland Mesa
REFRESH-INTERVAL;VALUE=DURATION:PT1H
X-Robots-Tag:noindex
X-PUBLISHED-TTL:PT1H
BEGIN:VTIMEZONE
TZID:America/Phoenix
BEGIN:STANDARD
TZOFFSETFROM:-0700
TZOFFSETTO:-0700
TZNAME:MST
DTSTART:20240101T000000
END:STANDARD
END:VTIMEZONE
BEGIN:VEVENT
DTSTART;TZID=America/Phoenix:20250926T180000
DTEND;TZID=America/Phoenix:20251013T210000
DTSTAMP:20260419T105105
CREATED:20250903T145555Z
LAST-MODIFIED:20250903T145555Z
UID:24625-1758909600-1760389200@www.unitedskates.com
SUMMARY:Fall Break Fun is Rolling into Skateland Mesa!
DESCRIPTION:🎟 Get your tickets online now ⬇️\nBUY TICKETS HERE – Skip The Line \nSchool’s out and the rink is OPEN with special skate sessions\, character meet & greets\, Glow Skates\, family nights\, and themed events EVERY day from September 26 – October 13! 🛼💫 \n⚡️ These sessions SELL OUT quickly – don’t wait!\n🎟 Buy your tickets online now to skip the line and guarantee your spot! \n👉 Here’s just a glimpse of the fun:\n⭐ Glow in the Dark Skates 🌟\n⭐ Character Skates with Stitch\, Ariel\, Mickey & Minnie\, Encanto & more!\n⭐ Affordable Family Fun Nights 👨‍👩‍👧‍👦\n⭐ All You Can Eat Pizza Nights 🍕\n⭐ Theme Nights like 80’s/90’s\, Monster Mash & Halloween specials 🎃 \n📍 Skateland Mesa – 7 E. Southern Ave\, Mesa\, AZ\n📅 Fall Break: Sept 26 – Oct 13\, 2025 \n✨ Don’t miss your chance to make this Fall Break unforgettable at Skateland Mesa!
URL:https://www.unitedskates.com/skateland-mesa/event/fall-break-fun-is-rolling-into-skateland-mesa/
LOCATION:Skateland Mesa\, 7 E. Southern Ave.\, Mesa\, AZ\, 85210\, United States
CATEGORIES:Family Events,Public Skates,Special Events
ATTACH;FMTTYPE=image/jpeg:https://unitedskates-assets.sfo3.digitaloceanspaces.com/wp-content/uploads/sites/20/2025/09/50-Fall-Break-2025.jpg
END:VEVENT
BEGIN:VEVENT
DTSTART;TZID=America/Phoenix:20251006T100000
DTEND;TZID=America/Phoenix:20251006T160000
DTSTAMP:20260419T105105
CREATED:20250926T211120Z
LAST-MODIFIED:20250929T234612Z
UID:24702-1759744800-1759766400@www.unitedskates.com
SUMMARY:Minion Skate Party
DESCRIPTION:💛🛼🍌 Get ready to roll with the Minions!\nJoin us for a Minion Skate Party packed with goofy fun\, silly vibes\, and plenty of skating adventures.\nDon’t miss your chance to skate\, laugh\, and snap pics with your favorite little yellow troublemakers!💛💙 \n$11 Admission\n$5 Skates\n$4 Spectators \nWristguards are required for all skaters and are available free of charge.
URL:https://www.unitedskates.com/skateland-mesa/event/public-skating-8-2025-10-06/
LOCATION:AZ
CATEGORIES:Family Events,Public Skates,Special Events
ATTACH;FMTTYPE=image/png:https://unitedskates-assets.sfo3.digitaloceanspaces.com/wp-content/uploads/sites/20/2025/09/Minion-skate.png
END:VEVENT
BEGIN:VEVENT
DTSTART;TZID=America/Phoenix:20251006T180000
DTEND;TZID=America/Phoenix:20251006T203000
DTSTAMP:20260419T105105
CREATED:20250801T232519Z
LAST-MODIFIED:20250930T001357Z
UID:24217-1759773600-1759782600@www.unitedskates.com
SUMMARY:🍂Fall Carnival AYCE Skate🍕
DESCRIPTION:🎡🍕🍂 Fall Carnival All-You-Can-Eat Pizza Skate Night 🍂🍕🎡Lace up your skates and step right up for a night full of fall fun! Glide under the lights while enjoying unlimited hot\, cheesy pizza\, plus all the festive vibes of a carnival — from games and prizes to face painting and tasty carnival snacks. \n🎶 Great music\, delicious food\, and non-stop fun for the whole family! \n👉 Admission + All-You-Can-Eat Pizza: $14👉 Skate Rental: $5👉 Spectating Adults (Pizza Only): $10 \nIt’s skating\, snacking\, and celebrating — all in one magical fall night. 🍁✨ Grab your crew and join the fun! \n💥
URL:https://www.unitedskates.com/skateland-mesa/event/%f0%9f%8d%95all-you-can-eat-pizza-skate-2025-10-06/
LOCATION:AZ
CATEGORIES:Family Events,Public Skates,Special Events
ATTACH;FMTTYPE=image/png:https://unitedskates-assets.sfo3.digitaloceanspaces.com/wp-content/uploads/sites/20/2025/08/Fall-Carnival-AYCE.png
END:VEVENT
END:VCALENDAR