BEGIN:VCALENDAR
VERSION:2.0
PRODID:-//Rink 50 - Skateland Mesa - ECPv6.15.20//NONSGML v1.0//EN
CALSCALE:GREGORIAN
METHOD:PUBLISH
X-ORIGINAL-URL:https://www.unitedskates.com/skateland-mesa
X-WR-CALDESC:Events for Rink 50 - Skateland Mesa
REFRESH-INTERVAL;VALUE=DURATION:PT1H
X-Robots-Tag:noindex
X-PUBLISHED-TTL:PT1H
BEGIN:VTIMEZONE
TZID:America/Phoenix
BEGIN:STANDARD
TZOFFSETFROM:-0700
TZOFFSETTO:-0700
TZNAME:MST
DTSTART:20240101T000000
END:STANDARD
END:VTIMEZONE
BEGIN:VEVENT
DTSTART;TZID=America/Phoenix:20250926T180000
DTEND;TZID=America/Phoenix:20251013T210000
DTSTAMP:20260420T080617
CREATED:20250903T145555Z
LAST-MODIFIED:20250903T145555Z
UID:24625-1758909600-1760389200@www.unitedskates.com
SUMMARY:Fall Break Fun is Rolling into Skateland Mesa!
DESCRIPTION:🎟 Get your tickets online now ⬇️\nBUY TICKETS HERE – Skip The Line \nSchool’s out and the rink is OPEN with special skate sessions\, character meet & greets\, Glow Skates\, family nights\, and themed events EVERY day from September 26 – October 13! 🛼💫 \n⚡️ These sessions SELL OUT quickly – don’t wait!\n🎟 Buy your tickets online now to skip the line and guarantee your spot! \n👉 Here’s just a glimpse of the fun:\n⭐ Glow in the Dark Skates 🌟\n⭐ Character Skates with Stitch\, Ariel\, Mickey & Minnie\, Encanto & more!\n⭐ Affordable Family Fun Nights 👨‍👩‍👧‍👦\n⭐ All You Can Eat Pizza Nights 🍕\n⭐ Theme Nights like 80’s/90’s\, Monster Mash & Halloween specials 🎃 \n📍 Skateland Mesa – 7 E. Southern Ave\, Mesa\, AZ\n📅 Fall Break: Sept 26 – Oct 13\, 2025 \n✨ Don’t miss your chance to make this Fall Break unforgettable at Skateland Mesa!
URL:https://www.unitedskates.com/skateland-mesa/event/fall-break-fun-is-rolling-into-skateland-mesa/
LOCATION:Skateland Mesa\, 7 E. Southern Ave.\, Mesa\, AZ\, 85210\, United States
CATEGORIES:Family Events,Public Skates,Special Events
ATTACH;FMTTYPE=image/jpeg:https://unitedskates-assets.sfo3.digitaloceanspaces.com/wp-content/uploads/sites/20/2025/09/50-Fall-Break-2025.jpg
END:VEVENT
BEGIN:VEVENT
DTSTART;TZID=America/Phoenix:20250930T100000
DTEND;TZID=America/Phoenix:20250930T160000
DTSTAMP:20260420T080617
CREATED:20250926T211120Z
LAST-MODIFIED:20250926T211606Z
UID:24698-1759226400-1759248000@www.unitedskates.com
SUMMARY:KPop Demon Hunter Skate
DESCRIPTION:🌈🎶 K-Pop Demon Hunter: Sing-Along Skate Session 🎶🌈 \nThe rink transforms into a neon dance floor! ✨ Glide\, sing\, and shine as we roll to the biggest K-Pop hits — with sing-along moments that turn the whole rink into a glowing chorus. 🎤🛼💖 \nFrom glittering anthems to heart-pounding bops\, it’s a skate party where the lights never dim and the fun never stops. 🌟🔥 \n💫 Grab your glow\, bring your voice\, and let’s skate the day away! \n🎟 $11 Admission | $4 Spectators | $5 Skate Rental \nWristguards are required for all skaters and are available free of charge.
URL:https://www.unitedskates.com/skateland-mesa/event/public-skating-8-2025-09-30/
LOCATION:AZ
CATEGORIES:Family Events,Public Skates,Special Events
ATTACH;FMTTYPE=image/png:https://unitedskates-assets.sfo3.digitaloceanspaces.com/wp-content/uploads/sites/20/2025/09/KPOp-Sing-a-long-9-30.png
END:VEVENT
BEGIN:VEVENT
DTSTART;TZID=America/Phoenix:20250930T180000
DTEND;TZID=America/Phoenix:20250930T210000
DTSTAMP:20260420T080617
CREATED:20250926T215701Z
LAST-MODIFIED:20250926T215701Z
UID:24726-1759255200-1759266000@www.unitedskates.com
SUMMARY:KPop Demon Hunters Glow Skate
DESCRIPTION:🌈✨ K-Pop Demon Hunters: Glow Skate ✨🌈 \nStep onto the rink and light up the night with glowing beats and high-energy K-Pop anthems! 🎶🛼💖 Sing along\, dance\, and skate to your favorite hits while the neon lights pulse around you. \nBring your brightest glow\, your best moves\, and let’s turn the rink into a glowing K-Pop party you won’t forget! 🌟🔥 \n🎟 $11 Admission | $5 Skate Rental | $4 Spectators
URL:https://www.unitedskates.com/skateland-mesa/event/kpop-demon-hunters-glow-skate-2/
LOCATION:AZ
CATEGORIES:Family Events,Public Skates,Special Events
ATTACH;FMTTYPE=image/png:https://unitedskates-assets.sfo3.digitaloceanspaces.com/wp-content/uploads/sites/20/2025/09/KPDH-9-30.png
END:VEVENT
END:VCALENDAR