BEGIN:VCALENDAR
VERSION:2.0
PRODID:-//Rink 50 - Skateland Mesa - ECPv6.15.20//NONSGML v1.0//EN
CALSCALE:GREGORIAN
METHOD:PUBLISH
X-WR-CALNAME:Rink 50 - Skateland Mesa
X-ORIGINAL-URL:https://www.unitedskates.com/skateland-mesa
X-WR-CALDESC:Events for Rink 50 - Skateland Mesa
REFRESH-INTERVAL;VALUE=DURATION:PT1H
X-Robots-Tag:noindex
X-PUBLISHED-TTL:PT1H
BEGIN:VTIMEZONE
TZID:America/Phoenix
BEGIN:STANDARD
TZOFFSETFROM:-0700
TZOFFSETTO:-0700
TZNAME:MST
DTSTART:20240101T000000
END:STANDARD
END:VTIMEZONE
BEGIN:VEVENT
DTSTART;TZID=America/Phoenix:20250926T180000
DTEND;TZID=America/Phoenix:20251013T210000
DTSTAMP:20260420T080550
CREATED:20250903T145555Z
LAST-MODIFIED:20250903T145555Z
UID:24625-1758909600-1760389200@www.unitedskates.com
SUMMARY:Fall Break Fun is Rolling into Skateland Mesa!
DESCRIPTION:🎟 Get your tickets online now ⬇️\nBUY TICKETS HERE – Skip The Line \nSchool’s out and the rink is OPEN with special skate sessions\, character meet & greets\, Glow Skates\, family nights\, and themed events EVERY day from September 26 – October 13! 🛼💫 \n⚡️ These sessions SELL OUT quickly – don’t wait!\n🎟 Buy your tickets online now to skip the line and guarantee your spot! \n👉 Here’s just a glimpse of the fun:\n⭐ Glow in the Dark Skates 🌟\n⭐ Character Skates with Stitch\, Ariel\, Mickey & Minnie\, Encanto & more!\n⭐ Affordable Family Fun Nights 👨‍👩‍👧‍👦\n⭐ All You Can Eat Pizza Nights 🍕\n⭐ Theme Nights like 80’s/90’s\, Monster Mash & Halloween specials 🎃 \n📍 Skateland Mesa – 7 E. Southern Ave\, Mesa\, AZ\n📅 Fall Break: Sept 26 – Oct 13\, 2025 \n✨ Don’t miss your chance to make this Fall Break unforgettable at Skateland Mesa!
URL:https://www.unitedskates.com/skateland-mesa/event/fall-break-fun-is-rolling-into-skateland-mesa/
LOCATION:Skateland Mesa\, 7 E. Southern Ave.\, Mesa\, AZ\, 85210\, United States
CATEGORIES:Family Events,Public Skates,Special Events
ATTACH;FMTTYPE=image/jpeg:https://unitedskates-assets.sfo3.digitaloceanspaces.com/wp-content/uploads/sites/20/2025/09/50-Fall-Break-2025.jpg
END:VEVENT
BEGIN:VEVENT
DTSTART;TZID=America/Phoenix:20250929T100000
DTEND;TZID=America/Phoenix:20250929T160000
DTSTAMP:20260420T080550
CREATED:20250926T211120Z
LAST-MODIFIED:20250926T211120Z
UID:24697-1759140000-1759161600@www.unitedskates.com
SUMMARY:Public Skating
DESCRIPTION:🍂 Fall Break Daytime Skating! 🛼Roll in from 10am–4pm for just $11 admission. Skate rentals only $5\, and spectators are welcome for just $4. 🎶✨ \n👉 Gather your crew and make the most of Fall Break at Skateland Mesa! \nWristguards are required for all skaters and are available free of charge.
URL:https://www.unitedskates.com/skateland-mesa/event/public-skating-8/
LOCATION:AZ
CATEGORIES:Family Events,Public Skates
ATTACH;FMTTYPE=image/jpeg:https://unitedskates-assets.sfo3.digitaloceanspaces.com/wp-content/uploads/sites/20/2023/02/Public-Skate-1200x900-v2.jpg
END:VEVENT
BEGIN:VEVENT
DTSTART;TZID=America/Phoenix:20250929T180000
DTEND;TZID=America/Phoenix:20250929T210000
DTSTAMP:20260420T080550
CREATED:20250801T232519Z
LAST-MODIFIED:20250926T211238Z
UID:24216-1759168800-1759179600@www.unitedskates.com
SUMMARY:🍕All-You-Can-Eat Pizza Skate
DESCRIPTION:🍕🛼 All-You-Can-Eat Pizza Skate Night 🛼🍕Get ready to roll and feast! 🎉 Join us for a night packed with fun\, music 🎶\, and unlimited hot\, cheesy pizza 🍕 under the lights! Whether you’re gliding like a pro or just cruising with friends\, it’s the ultimate vibe. ✨ \n🎟️Admission + All-You-Can-Eat Pizza: $12\n🛼 Skate Rental: $5👀 Spectating Adults (Pizza Only): $10 \n🔥 Good times\, great tunes\, and endless pizza — what more could you want?Bring your crew and let’s roll! 💃🍕🕺💥
URL:https://www.unitedskates.com/skateland-mesa/event/%f0%9f%8d%95all-you-can-eat-pizza-skate-2025-09-29/
LOCATION:AZ
CATEGORIES:Family Events,Public Skates,Special Events
ATTACH;FMTTYPE=image/png:https://unitedskates-assets.sfo3.digitaloceanspaces.com/wp-content/uploads/sites/20/2025/08/AYCE-Pizza.png
END:VEVENT
END:VCALENDAR