BEGIN:VCALENDAR
VERSION:2.0
PRODID:-//Rink 50 - Skateland Mesa - ECPv6.15.20//NONSGML v1.0//EN
CALSCALE:GREGORIAN
METHOD:PUBLISH
X-WR-CALNAME:Rink 50 - Skateland Mesa
X-ORIGINAL-URL:https://www.unitedskates.com/skateland-mesa
X-WR-CALDESC:Events for Rink 50 - Skateland Mesa
REFRESH-INTERVAL;VALUE=DURATION:PT1H
X-Robots-Tag:noindex
X-PUBLISHED-TTL:PT1H
BEGIN:VTIMEZONE
TZID:America/Phoenix
BEGIN:STANDARD
TZOFFSETFROM:-0700
TZOFFSETTO:-0700
TZNAME:MST
DTSTART:20240101T000000
END:STANDARD
END:VTIMEZONE
BEGIN:VEVENT
DTSTART;TZID=America/Phoenix:20250923T173000
DTEND;TZID=America/Phoenix:20250923T200000
DTSTAMP:20260420T155642
CREATED:20250917T221357Z
LAST-MODIFIED:20250917T221357Z
UID:24669-1758648600-1758657600@www.unitedskates.com
SUMMARY:Hello Kitty KPOP Skate
DESCRIPTION:💖🎀 Hello Kitty K-Pop Skate Night 🎶🛼Step into the cutest night on wheels! 🌸✨ Join us for Hello Kitty K-Pop Skate Night — where adorable vibes meet the hottest K-Pop hits 🎧🔥. Skate under the lights 🕺\, snap pics with Hello Kitty–themed fun 📸🎀\, and show off your best moves to your favorite idols’ beats! 🎶💃 \n🎟️ Admission: $8 includes skate rentals if needed👀 Spectating Adults: $4🎁 Hello Kitty merch! \nBring your friends\, rep your bias\, and get ready for a night full of kawaii energy 💕🎶🛼✨.
URL:https://www.unitedskates.com/skateland-mesa/event/hello-kitty-kpop-skate/
LOCATION:AZ
CATEGORIES:Family Events,Public Skates,Special Events
ATTACH;FMTTYPE=image/png:https://unitedskates-assets.sfo3.digitaloceanspaces.com/wp-content/uploads/sites/20/2025/09/Hello-Kitty-Kpop-skate.png
END:VEVENT
END:VCALENDAR