BEGIN:VCALENDAR
VERSION:2.0
PRODID:-//Rink 50 - Skateland Mesa - ECPv6.15.20//NONSGML v1.0//EN
CALSCALE:GREGORIAN
METHOD:PUBLISH
X-ORIGINAL-URL:https://www.unitedskates.com/skateland-mesa
X-WR-CALDESC:Events for Rink 50 - Skateland Mesa
REFRESH-INTERVAL;VALUE=DURATION:PT1H
X-Robots-Tag:noindex
X-PUBLISHED-TTL:PT1H
BEGIN:VTIMEZONE
TZID:America/Phoenix
BEGIN:STANDARD
TZOFFSETFROM:-0700
TZOFFSETTO:-0700
TZNAME:MST
DTSTART:20240101T000000
END:STANDARD
END:VTIMEZONE
BEGIN:VEVENT
DTSTART;TZID=America/Phoenix:20250921T150000
DTEND;TZID=America/Phoenix:20250921T173000
DTSTAMP:20260420T095057
CREATED:20250818T044530Z
LAST-MODIFIED:20250818T044530Z
UID:24296-1758466800-1758475800@www.unitedskates.com
SUMMARY:Mario and Friends Glow Day!
DESCRIPTION:Come join Mario\, Luigi\, and Yoshi for a Glow Skate Session! \nWin Mario Prizes at Trivia and Find the Missing Coin Box! \n$13 Admission includes pizza and small drink \n$5 Skate Rental \n$4 Non-Skating Adults ( Doesn’t include pizza) \n**NO Outside Food Or Drinks*** \nWristguards are Mandatory. Free of Charge. \n 
URL:https://www.unitedskates.com/skateland-mesa/event/mario-and-friends-glow-day/
LOCATION:AZ
CATEGORIES:Family Events,Public Skates,Special Events
ATTACH;FMTTYPE=image/png:https://unitedskates-assets.sfo3.digitaloceanspaces.com/wp-content/uploads/sites/20/2025/08/Sunday-September-21st-300pm-530pm.png
END:VEVENT
END:VCALENDAR