BEGIN:VCALENDAR
VERSION:2.0
PRODID:-//Rink 50 - Skateland Mesa - ECPv6.15.20//NONSGML v1.0//EN
CALSCALE:GREGORIAN
METHOD:PUBLISH
X-ORIGINAL-URL:https://www.unitedskates.com/skateland-mesa
X-WR-CALDESC:Events for Rink 50 - Skateland Mesa
REFRESH-INTERVAL;VALUE=DURATION:PT1H
X-Robots-Tag:noindex
X-PUBLISHED-TTL:PT1H
BEGIN:VTIMEZONE
TZID:America/Phoenix
BEGIN:STANDARD
TZOFFSETFROM:-0700
TZOFFSETTO:-0700
TZNAME:MST
DTSTART:20240101T000000
END:STANDARD
END:VTIMEZONE
BEGIN:VEVENT
DTSTART;TZID=America/Phoenix:20250911T173000
DTEND;TZID=America/Phoenix:20250911T200000
DTSTAMP:20260420T184410
CREATED:20250909T192704Z
LAST-MODIFIED:20250909T192704Z
UID:24647-1757611800-1757620800@www.unitedskates.com
SUMMARY:$5 Glow Skate
DESCRIPTION:🌟✨ Get ready for the most glow-tastic night ever! ✨🌟Come skate and shine at our Glow in the Dark Party on Thursday\, Sept 4 from 5:30 pm – 8:00 pm! \n$5 admission\n$5 skate rentals\n$4 Spectating Adults \n👨‍👩‍👧‍👦 Bring the whole crew for this fun and affordable family night!🍕 Grab a slice of pizza\, a cold Pepsi\, and make it a full night of fun!🎮 Add a game card for only $5 to keep the good times rolling!
URL:https://www.unitedskates.com/skateland-mesa/event/5-glow-skate-2/
LOCATION:AZ
CATEGORIES:Family Events,Public Skates
ATTACH;FMTTYPE=image/png:https://unitedskates-assets.sfo3.digitaloceanspaces.com/wp-content/uploads/sites/20/2025/09/Glow-Skate-9-11.png
END:VEVENT
END:VCALENDAR