BEGIN:VCALENDAR
VERSION:2.0
PRODID:-//Rink 50 - Skateland Mesa - ECPv6.15.20//NONSGML v1.0//EN
CALSCALE:GREGORIAN
METHOD:PUBLISH
X-ORIGINAL-URL:https://www.unitedskates.com/skateland-mesa
X-WR-CALDESC:Events for Rink 50 - Skateland Mesa
REFRESH-INTERVAL;VALUE=DURATION:PT1H
X-Robots-Tag:noindex
X-PUBLISHED-TTL:PT1H
BEGIN:VTIMEZONE
TZID:America/Phoenix
BEGIN:STANDARD
TZOFFSETFROM:-0700
TZOFFSETTO:-0700
TZNAME:MST
DTSTART:20240101T000000
END:STANDARD
END:VTIMEZONE
BEGIN:VEVENT
DTSTART;TZID=America/Phoenix:20250826T170000
DTEND;TZID=America/Phoenix:20250826T200000
DTSTAMP:20260420T050041
CREATED:20250730T005042Z
LAST-MODIFIED:20250730T005042Z
UID:24167-1756227600-1756238400@www.unitedskates.com
SUMMARY:First Responders Skate
DESCRIPTION:Come Celebrate Our Police Officers & Firefighters !\n\nDon’t Forget to Skate around with Stitch!\n\nWin Cool Merch from Our Local Police Officers!\n\nTake Pictures in The Police Car & Firetruck!\n\nPlay Trivia to Win Some FUN Prizes!\n\nDon’t Forget to Enter Our Free Raffle to WIN a Free Pizza Party For Your Class!\n\n$4 Admission\n$5 Skate Rental\n$4 Non-skating adult\n\n*Show Your First Responder Badge For Free Admission*\n\n**NO Outside Food Or Drinks Allowed**\n\n**Wristguards are Mandatory\, Free of Charge**
URL:https://www.unitedskates.com/skateland-mesa/event/first-responders-skate/
LOCATION:AZ
CATEGORIES:Family Events,Public Skates,Special Events
ATTACH;FMTTYPE=image/png:https://unitedskates-assets.sfo3.digitaloceanspaces.com/wp-content/uploads/sites/20/2025/07/Tuesday-August-26th-1.png
END:VEVENT
END:VCALENDAR