BEGIN:VCALENDAR
VERSION:2.0
PRODID:-//Rink 50 - Skateland Mesa - ECPv6.15.20//NONSGML v1.0//EN
CALSCALE:GREGORIAN
METHOD:PUBLISH
X-ORIGINAL-URL:https://www.unitedskates.com/skateland-mesa
X-WR-CALDESC:Events for Rink 50 - Skateland Mesa
REFRESH-INTERVAL;VALUE=DURATION:PT1H
X-Robots-Tag:noindex
X-PUBLISHED-TTL:PT1H
BEGIN:VTIMEZONE
TZID:America/Phoenix
BEGIN:STANDARD
TZOFFSETFROM:-0700
TZOFFSETTO:-0700
TZNAME:MST
DTSTART:20240101T000000
END:STANDARD
END:VTIMEZONE
BEGIN:VEVENT
DTSTART;TZID=America/Phoenix:20250727T120000
DTEND;TZID=America/Phoenix:20250727T143000
DTSTAMP:20260420T052049
CREATED:20250723T183252Z
LAST-MODIFIED:20250723T183252Z
UID:24141-1753617600-1753626600@www.unitedskates.com
SUMMARY:Public Skating 1/2 Price Admission
DESCRIPTION:Come Join Us and Listen to Your Favorite top 40 music! \n$6 admission (reg $12) \n$5 Skate rental \n$4 Non-skating adults
URL:https://www.unitedskates.com/skateland-mesa/event/public-skating-1-2-price-admission/
LOCATION:Skateland Mesa\, 7 E. Southern Ave.\, Mesa\, AZ\, 85210\, United States
CATEGORIES:Family Events,Public Skates
ATTACH;FMTTYPE=image/jpeg:https://unitedskates-assets.sfo3.digitaloceanspaces.com/wp-content/uploads/sites/20/2025/07/50-Half-Price-Skate-N-Play-1.jpg
END:VEVENT
BEGIN:VEVENT
DTSTART;TZID=America/Phoenix:20250727T150000
DTEND;TZID=America/Phoenix:20250727T173000
DTSTAMP:20260420T052049
CREATED:20250723T183433Z
LAST-MODIFIED:20250723T183433Z
UID:24148-1753628400-1753637400@www.unitedskates.com
SUMMARY:Public Skating 1/2 Price Admission
DESCRIPTION:Come Join Us and Listen to Your Favorite top 40 music! \n$6 admission (reg $12) \n$5 Skate rental \n$4 Non-skating adults
URL:https://www.unitedskates.com/skateland-mesa/event/public-skating-1-2-price-admission-2/
LOCATION:Skateland Mesa\, 7 E. Southern Ave.\, Mesa\, AZ\, 85210\, United States
CATEGORIES:Family Events,Public Skates
ATTACH;FMTTYPE=image/jpeg:https://unitedskates-assets.sfo3.digitaloceanspaces.com/wp-content/uploads/sites/20/2025/07/50-Half-Price-Skate-N-Play-1.jpg
END:VEVENT
BEGIN:VEVENT
DTSTART;TZID=America/Phoenix:20250727T180000
DTEND;TZID=America/Phoenix:20250727T203000
DTSTAMP:20260420T052049
CREATED:20250723T183639Z
LAST-MODIFIED:20250801T213850Z
UID:24155-1753639200-1753648200@www.unitedskates.com
SUMMARY:Public Skating 1/2 Price Admission
DESCRIPTION:Come enjoy tons of family fun at Skateland Mesa! Enjoy all the top hits as you skate with friends and family in our fully Air Conditioned Building! If you get hungry while skating\, stop in at our concession stand and enjoy a variety of tasty snacks! \nSpecial $6 Admission (reg $12) \nSkate rentals are available for $5 \n$4.00 Non-Skating Adults \nWrist guards are mandatory for all skaters!
URL:https://www.unitedskates.com/skateland-mesa/event/public-skating-1-2-price-admission-3/2025-07-27/
LOCATION:Skateland Mesa\, 7 E. Southern Ave.\, Mesa\, AZ\, 85210\, United States
CATEGORIES:Family Events,Public Skates
ATTACH;FMTTYPE=image/jpeg:https://unitedskates-assets.sfo3.digitaloceanspaces.com/wp-content/uploads/sites/20/2025/07/50-Half-Price-Skate-N-Play-1.jpg
END:VEVENT
END:VCALENDAR