BEGIN:VCALENDAR
VERSION:2.0
PRODID:-//Rink 50 - Skateland Mesa - ECPv6.15.20//NONSGML v1.0//EN
CALSCALE:GREGORIAN
METHOD:PUBLISH
X-WR-CALNAME:Rink 50 - Skateland Mesa
X-ORIGINAL-URL:https://www.unitedskates.com/skateland-mesa
X-WR-CALDESC:Events for Rink 50 - Skateland Mesa
REFRESH-INTERVAL;VALUE=DURATION:PT1H
X-Robots-Tag:noindex
X-PUBLISHED-TTL:PT1H
BEGIN:VTIMEZONE
TZID:America/Phoenix
BEGIN:STANDARD
TZOFFSETFROM:-0700
TZOFFSETTO:-0700
TZNAME:MST
DTSTART:20240101T000000
END:STANDARD
END:VTIMEZONE
BEGIN:VEVENT
DTSTART;TZID=America/Phoenix:20250720T150000
DTEND;TZID=America/Phoenix:20250720T173000
DTSTAMP:20260420T100618
CREATED:20250605T225750Z
LAST-MODIFIED:20250605T225750Z
UID:23918-1753023600-1753032600@www.unitedskates.com
SUMMARY:Shark Attack Skate
DESCRIPTION:🦈🛼 Shark Attack Skate – Kick Off Shark Week with a Splash! 🌊🎉 \nGet ready to dive into the fun—because the rink is turning into a jawsome underwater adventure! Join us for our Shark Attack Skating Event as we celebrate the thrilling start of Shark Week with an ocean full of excitement\, games\, and toothy fun! 🦈💥 \nFrom the moment you hit the floor\, it’s all about high-energy skating and nonstop waves of laughter. Whether you’re a fearless little fish or a dancing great white\, this is the ultimate way to make a splash and roll into Shark Week in fin-tastic style! 🌊🛼 \n$12 admission \n$5 skate rental \n$4 non-skating adult \n**No free passes** \nSo grab your gear\, bring your crew\, and come skate & take pictures with the our shark\,  as we launch Shark Week in the most FIN-tastic way possible! 🦈🛼💙 Don’t miss the Shark Attack Skate Party—it’s going to be a BITE out of this world!
URL:https://www.unitedskates.com/skateland-mesa/event/shark-attack-skate-4/
LOCATION:Skateland Mesa\, 7 E. Southern Ave.\, Mesa\, AZ\, 85210\, United States
CATEGORIES:Family Events,Public Skates,Special Events
ATTACH;FMTTYPE=image/png:https://unitedskates-assets.sfo3.digitaloceanspaces.com/wp-content/uploads/sites/20/2025/06/Shark-attack-7-20.png
END:VEVENT
END:VCALENDAR