BEGIN:VCALENDAR
VERSION:2.0
PRODID:-//Rink 50 - Skateland Mesa - ECPv6.15.20//NONSGML v1.0//EN
CALSCALE:GREGORIAN
METHOD:PUBLISH
X-WR-CALNAME:Rink 50 - Skateland Mesa
X-ORIGINAL-URL:https://www.unitedskates.com/skateland-mesa
X-WR-CALDESC:Events for Rink 50 - Skateland Mesa
REFRESH-INTERVAL;VALUE=DURATION:PT1H
X-Robots-Tag:noindex
X-PUBLISHED-TTL:PT1H
BEGIN:VTIMEZONE
TZID:America/Phoenix
BEGIN:STANDARD
TZOFFSETFROM:-0700
TZOFFSETTO:-0700
TZNAME:MST
DTSTART:20240101T000000
END:STANDARD
END:VTIMEZONE
BEGIN:VEVENT
DTSTART;TZID=America/Phoenix:20250719T130000
DTEND;TZID=America/Phoenix:20250719T153000
DTSTAMP:20260421T134211
CREATED:20250605T231941Z
LAST-MODIFIED:20250605T231941Z
UID:23942-1752930000-1752939000@www.unitedskates.com
SUMMARY:Smurfs Roller Skate
DESCRIPTION:💙🛼 Smurf-tastic Skate Party is Coming to the Rink! 🍄🎉 \nGet ready to go blue in the best way—because the Smurfs are coming to the skating rink for a magical day of fun\, laughter\, and Smurf-sized excitement! 💫💙 \nJoin Papa Smurf & Smurfette for a Smurf-tastic Skate Party filled with whimsical music\, colorful games\, and plenty of surprises for the whole family. Whether you’re a longtime fan or discovering the Smurfs for the first time\, this event is guaranteed to be a smurfy good time from start to finish! 🛼🌈 \n$12 Admission \n$5 Skate Rental \n$4 Non-skating adult \n**No free passes** \nSo put on your blue\, bring your biggest smiles\, and get ready to skate into the magical world of the Smurfs! It’s going to be an enchanting day you’ll never forget—100% Smurf-approved! 💙🛼🍄
URL:https://www.unitedskates.com/skateland-mesa/event/smurfs-roller-skate/
LOCATION:Skateland Mesa\, 7 E. Southern Ave.\, Mesa\, AZ\, 85210\, United States
CATEGORIES:Family Events,Public Skates,Special Events
ATTACH;FMTTYPE=image/png:https://unitedskates-assets.sfo3.digitaloceanspaces.com/wp-content/uploads/sites/20/2025/06/Smurf-Skate-7-19.png
END:VEVENT
END:VCALENDAR