BEGIN:VCALENDAR
VERSION:2.0
PRODID:-//Rink 50 - Skateland Mesa - ECPv6.15.20//NONSGML v1.0//EN
CALSCALE:GREGORIAN
METHOD:PUBLISH
X-WR-CALNAME:Rink 50 - Skateland Mesa
X-ORIGINAL-URL:https://www.unitedskates.com/skateland-mesa
X-WR-CALDESC:Events for Rink 50 - Skateland Mesa
REFRESH-INTERVAL;VALUE=DURATION:PT1H
X-Robots-Tag:noindex
X-PUBLISHED-TTL:PT1H
BEGIN:VTIMEZONE
TZID:America/Phoenix
BEGIN:STANDARD
TZOFFSETFROM:-0700
TZOFFSETTO:-0700
TZNAME:MST
DTSTART:20240101T000000
END:STANDARD
END:VTIMEZONE
BEGIN:VEVENT
DTSTART;TZID=America/Phoenix:20250712T160000
DTEND;TZID=America/Phoenix:20250712T183000
DTSTAMP:20260420T051809
CREATED:20250605T231624Z
LAST-MODIFIED:20250605T231624Z
UID:23940-1752336000-1752345000@www.unitedskates.com
SUMMARY:Minecraft skate
DESCRIPTION:🟩🛼 Block Party on Wheels: Minecraft Skate Adventure is Coming! 🎮✨ \nGrab your diamond gear and power up your imagination—because the rink is transforming into a pixel-powered paradise for our Minecraft Skate Adventure! 🟦🪓🛼 \nWhether you’re a Creeper-dodging pro or just built your first dirt house\, this event is for all players\, all ages\, and all levels of fun! Skate through a blocky wonderland filled with music\, games\, and Minecraft-inspired magic. It’s the ultimate mashup of real-world fun and your favorite virtual universe! 💥🎉 \nMeet & greet with STEVE \n$12 admission \n$5 skate rental \n$4 non-skating adult \n**No free passes** \nSo stack your friends\, grab your skates\, and get ready to build\, roll\, and play your way through the most creative event of the season. The Minecraft Skate Adventure is gonna be BLOCKS of fun—you won’t want to miss it! 💚🛼🧱
URL:https://www.unitedskates.com/skateland-mesa/event/minecraft-skate/
LOCATION:Skateland Mesa\, 7 E. Southern Ave.\, Mesa\, AZ\, 85210\, United States
CATEGORIES:Family Events,Public Skates,Special Events
ATTACH;FMTTYPE=image/png:https://unitedskates-assets.sfo3.digitaloceanspaces.com/wp-content/uploads/sites/20/2025/06/Minecraft-Skate-7-12.png
END:VEVENT
END:VCALENDAR