BEGIN:VCALENDAR
VERSION:2.0
PRODID:-//Rink 50 - Skateland Mesa - ECPv6.15.20//NONSGML v1.0//EN
CALSCALE:GREGORIAN
METHOD:PUBLISH
X-WR-CALNAME:Rink 50 - Skateland Mesa
X-ORIGINAL-URL:https://www.unitedskates.com/skateland-mesa
X-WR-CALDESC:Events for Rink 50 - Skateland Mesa
REFRESH-INTERVAL;VALUE=DURATION:PT1H
X-Robots-Tag:noindex
X-PUBLISHED-TTL:PT1H
BEGIN:VTIMEZONE
TZID:America/Phoenix
BEGIN:STANDARD
TZOFFSETFROM:-0700
TZOFFSETTO:-0700
TZNAME:MST
DTSTART:20240101T000000
END:STANDARD
END:VTIMEZONE
BEGIN:VEVENT
DTSTART;TZID=America/Phoenix:20250711T180000
DTEND;TZID=America/Phoenix:20250711T210000
DTSTAMP:20260420T051809
CREATED:20250605T231201Z
LAST-MODIFIED:20250605T231201Z
UID:23938-1752256800-1752267600@www.unitedskates.com
SUMMARY:Slushies with Stitch
DESCRIPTION:💙🛼 Slushies with Stitch – A Cool & Crazy Day at the Rink! 🌺❄️ \nAloha\, skaters! Get ready for the coolest tropical adventure in the galaxy—because Stitch is crashing the rink for a wildly fun day of Slushies with Stitch! 🛼🎉 \nJoin everyone’s favorite mischievous alien for a skating celebration packed with island vibes\, frosty treats\, and Stitch-sized silliness. Whether you’re zooming around the rink or chilling with a slushie in hand\, this event promises fun for the whole family—ohana style! 🌈🍧 \n💙 Meet & Greet with Stitch – hugs\, high-fives\, and photos!🍧 Colorful slushies in tons of flavors\n \n$14 admission (includes free slushie) \n$5 skate rental \n$4 non-skating adult \n**No free passes** \nSo grab your grass skirts\, flip-flops\, and favorite shades—it’s time to roll\, sip\, and smile with Stitch! Slushies with Stitch is the perfect mix of chill and thrill\, and it’s one event you don’t want to miss! 🌺🛼🍧
URL:https://www.unitedskates.com/skateland-mesa/event/slushies-with-stitch/
LOCATION:Skateland Mesa\, 7 E. Southern Ave.\, Mesa\, AZ\, 85210\, United States
CATEGORIES:Family Events,Public Skates,Special Events
ATTACH;FMTTYPE=image/png:https://unitedskates-assets.sfo3.digitaloceanspaces.com/wp-content/uploads/sites/20/2025/06/Slushies-w-stitch-7-11.png
END:VEVENT
END:VCALENDAR