BEGIN:VCALENDAR
VERSION:2.0
PRODID:-//Rink 50 - Skateland Mesa - ECPv6.15.20//NONSGML v1.0//EN
CALSCALE:GREGORIAN
METHOD:PUBLISH
X-WR-CALNAME:Rink 50 - Skateland Mesa
X-ORIGINAL-URL:https://www.unitedskates.com/skateland-mesa
X-WR-CALDESC:Events for Rink 50 - Skateland Mesa
REFRESH-INTERVAL;VALUE=DURATION:PT1H
X-Robots-Tag:noindex
X-PUBLISHED-TTL:PT1H
BEGIN:VTIMEZONE
TZID:America/Phoenix
BEGIN:STANDARD
TZOFFSETFROM:-0700
TZOFFSETTO:-0700
TZNAME:MST
DTSTART:20240101T000000
END:STANDARD
END:VTIMEZONE
BEGIN:VEVENT
DTSTART;TZID=America/Phoenix:20250704T120000
DTEND;TZID=America/Phoenix:20250704T163000
DTSTAMP:20260420T210243
CREATED:20250529T233821Z
LAST-MODIFIED:20250529T233821Z
UID:23716-1751630400-1751646600@www.unitedskates.com
SUMMARY:Bomb Pop Skate - Fourth Of July
DESCRIPTION:Celebrate Independence Day & come cool off at the rink ! \nBring your friends\, family\, and even your neighbors for a day of non-stop skating\, games\, and festive vibes. \nThere will be an epic mix of music—classic anthems & upbeat jams that’ll have everyone skating & singing along. \nBetween spins and twirls\, there’ll be a photo backdrop for fun snapshots\, prizes for the best dressed in red\, white\, and blue\, and tons of delicious treats to keep you fueled for all the fun. \n$13 admission \n$5 Skate Rental \n$4 Non-skating adult \nFREE BOMB POP WITH EVERY FULL PAID ADMISSION !!
URL:https://www.unitedskates.com/skateland-mesa/event/bomb-pop-skate-fourth-of-july/
LOCATION:Skateland Mesa\, 7 E. Southern Ave.\, Mesa\, AZ\, 85210\, United States
CATEGORIES:Family Events,Public Skates,Special Events
ATTACH;FMTTYPE=image/png:https://unitedskates-assets.sfo3.digitaloceanspaces.com/wp-content/uploads/sites/20/2025/05/Bomb-pop-skate-7-4.png
END:VEVENT
END:VCALENDAR