BEGIN:VCALENDAR
VERSION:2.0
PRODID:-//Rink 50 - Skateland Mesa - ECPv6.15.20//NONSGML v1.0//EN
CALSCALE:GREGORIAN
METHOD:PUBLISH
X-ORIGINAL-URL:https://www.unitedskates.com/skateland-mesa
X-WR-CALDESC:Events for Rink 50 - Skateland Mesa
REFRESH-INTERVAL;VALUE=DURATION:PT1H
X-Robots-Tag:noindex
X-PUBLISHED-TTL:PT1H
BEGIN:VTIMEZONE
TZID:America/Phoenix
BEGIN:STANDARD
TZOFFSETFROM:-0700
TZOFFSETTO:-0700
TZNAME:MST
DTSTART:20240101T000000
END:STANDARD
END:VTIMEZONE
BEGIN:VEVENT
DTSTART;TZID=America/Phoenix:20250529T110000
DTEND;TZID=America/Phoenix:20250529T153000
DTSTAMP:20260421T105753
CREATED:20250520T002708Z
LAST-MODIFIED:20250605T205428Z
UID:23354-1748516400-1748532600@www.unitedskates.com
SUMMARY:Character Thursdays
DESCRIPTION:🛼 Make Thursdays magical at Character Skate Thursdays! 🌟\nGlide around the rink with your favorite characters\, snap pics\, and share smiles — it’s fun for the whole family and a memory-making must! 📸🎉👑🐾 \n$12.00 Admission\n$5.00 Skate Rental\n$4.00 Non-skating Adults \n**Wrist guards are required for all skaters and are available free of charge.
URL:https://www.unitedskates.com/skateland-mesa/event/character-thursdays/2025-05-29/
LOCATION:AZ
CATEGORIES:Family Events,Public Skates,Special Events
ATTACH;FMTTYPE=image/png:https://unitedskates-assets.sfo3.digitaloceanspaces.com/wp-content/uploads/sites/20/2025/05/Summer-skate-specials-2.png
END:VEVENT
BEGIN:VEVENT
DTSTART;TZID=America/Phoenix:20250529T173000
DTEND;TZID=America/Phoenix:20250529T200000
DTSTAMP:20260421T105753
CREATED:20250520T004606Z
LAST-MODIFIED:20250520T004606Z
UID:23403-1748539800-1748548800@www.unitedskates.com
SUMMARY:Theme Thursday
DESCRIPTION:🛼 Turn up the vibe on Theme Thursdays\, where each session spins a different music genre! 🎶\n✨ From disco to hip-hop\, country to pop — skate to the rhythm and feel the groove all night long! 🎧💃 \nReceive a FREE themed item with every regular admission!🎁 \n$13.00 Admission\n$5.00 Skate Rental\n$4.00 Non-skating Adults \n**Wrist guards are required for all skaters and are available free of charge.
URL:https://www.unitedskates.com/skateland-mesa/event/theme-thursday/
LOCATION:AZ
CATEGORIES:Family Events,Public Skates
END:VEVENT
END:VCALENDAR