BEGIN:VCALENDAR
VERSION:2.0
PRODID:-//Rink 50 - Skateland Mesa - ECPv6.15.20//NONSGML v1.0//EN
CALSCALE:GREGORIAN
METHOD:PUBLISH
X-WR-CALNAME:Rink 50 - Skateland Mesa
X-ORIGINAL-URL:https://www.unitedskates.com/skateland-mesa
X-WR-CALDESC:Events for Rink 50 - Skateland Mesa
REFRESH-INTERVAL;VALUE=DURATION:PT1H
X-Robots-Tag:noindex
X-PUBLISHED-TTL:PT1H
BEGIN:VTIMEZONE
TZID:America/Phoenix
BEGIN:STANDARD
TZOFFSETFROM:-0700
TZOFFSETTO:-0700
TZNAME:MST
DTSTART:20240101T000000
END:STANDARD
END:VTIMEZONE
BEGIN:VEVENT
DTSTART;TZID=America/Phoenix:20250526T110000
DTEND;TZID=America/Phoenix:20250526T153000
DTSTAMP:20260422T125111
CREATED:20250519T233705Z
LAST-MODIFIED:20250519T233705Z
UID:23310-1748257200-1748273400@www.unitedskates.com
SUMMARY:Memorial Day Skate
DESCRIPTION:School is out! Come skate!\nWear Red\, White and Blue and get a FREE glow stick! \n$12 Admission\n$5 Skate Rental\n$4 Adult Spectators
URL:https://www.unitedskates.com/skateland-mesa/event/memorial-day-skate/
CATEGORIES:Family Events,Public Skates,Special Events
ATTACH;FMTTYPE=image/png:https://unitedskates-assets.sfo3.digitaloceanspaces.com/wp-content/uploads/sites/20/2025/05/Memorial-Day.png
END:VEVENT
BEGIN:VEVENT
DTSTART;TZID=America/Phoenix:20250526T173000
DTEND;TZID=America/Phoenix:20250526T200000
DTSTAMP:20260422T125111
CREATED:20250108T201259Z
LAST-MODIFIED:20250519T235729Z
UID:22153-1748280600-1748289600@www.unitedskates.com
SUMMARY:Memorial Day All You Can Eat Pizza Skate
DESCRIPTION:Come Eat Unlimited Cheese Pizza and Skate The Night Away! \n$12 admission\n$10 Non-skating adults\n$5 Skate rental
URL:https://www.unitedskates.com/skateland-mesa/event/wednesday-night-all-you-can-eat-pizza-skate-2025-05-26/
CATEGORIES:Family Events,Public Skates,Special Events
ATTACH;FMTTYPE=image/png:https://unitedskates-assets.sfo3.digitaloceanspaces.com/wp-content/uploads/sites/20/2025/05/Memorial-Day.png
END:VEVENT
END:VCALENDAR