BEGIN:VCALENDAR
VERSION:2.0
PRODID:-//Rink 50 - Skateland Mesa - ECPv6.15.20//NONSGML v1.0//EN
CALSCALE:GREGORIAN
METHOD:PUBLISH
X-WR-CALNAME:Rink 50 - Skateland Mesa
X-ORIGINAL-URL:https://www.unitedskates.com/skateland-mesa
X-WR-CALDESC:Events for Rink 50 - Skateland Mesa
REFRESH-INTERVAL;VALUE=DURATION:PT1H
X-Robots-Tag:noindex
X-PUBLISHED-TTL:PT1H
BEGIN:VTIMEZONE
TZID:America/Phoenix
BEGIN:STANDARD
TZOFFSETFROM:-0700
TZOFFSETTO:-0700
TZNAME:MST
DTSTART:20240101T000000
END:STANDARD
END:VTIMEZONE
BEGIN:VEVENT
DTSTART;TZID=America/Phoenix:20250522T173000
DTEND;TZID=America/Phoenix:20250522T200000
DTSTAMP:20260421T121044
CREATED:20250405T221544Z
LAST-MODIFIED:20250405T221544Z
UID:23201-1747935000-1747944000@www.unitedskates.com
SUMMARY:END of the School Year Extravaganza Skate!
DESCRIPTION:Join us for a Night FULL of FUN\, Laughter and SKATING! \nCome Meet  and Take Pictures With Our FUN Friends! \nJoin Our SUMMER GIFT BASKET GIVEAWAY! \nBalloon Drop With Some FUN Prizes at the end! \nBounce in Our Bounce House ALL NIGHT! \n$10 admission includes skates \n$4 Non-skating adults \nWristguards are Mandatory. Free of Charge. \n**NO Outside Food or Drinks
URL:https://www.unitedskates.com/skateland-mesa/event/end-of-the-school-year-extravaganza-skate/
LOCATION:AZ
CATEGORIES:Family Events,Public Skates,Special Events
ATTACH;FMTTYPE=image/png:https://unitedskates-assets.sfo3.digitaloceanspaces.com/wp-content/uploads/sites/20/2025/04/May-22nd-.png
END:VEVENT
END:VCALENDAR